BEGIN:VCALENDAR
VERSION:2.0
PRODID:http://www.kufer.de/kuferweb / DE
METHOD:PUBLISH
CALSCALE:GREGORIAN
X-WR-TIMEZONE:Europe/Berlin
BEGIN:VTIMEZONE
TZID:Europe/Berlin
X-LIC-LOCATION:Europe/Berlin
BEGIN:DAYLIGHT
TZOFFSETFROM:+0100
TZOFFSETTO:+0200
TZNAME:CEST
DTSTART;TZID=Europe/Berlin:19700329T020000
RRULE:FREQ=YEARLY;INTERVAL=1;BYDAY=-1SU;BYMONTH=3
END:DAYLIGHT
BEGIN:STANDARD
TZOFFSETFROM:+0200
TZOFFSETTO:+0100
TZNAME:CET
DTSTART;TZID=Europe/Berlin:19701025T030000
RRULE:FREQ=YEARLY;INTERVAL=1;BYDAY=-1SU;BYMONTH=10
END:STANDARD
END:VTIMEZONE
BEGIN:VEVENT
DTSTAMP:20260424T004542
DTSTART;TZID=Europe/Berlin:20260819T083000
DTEND;TZID=Europe/Berlin:20260819T124500
UID:242-60720-20260819T083000@VHSVOLKSHOCHSCHULE TRIER
SUMMARY:Integration: Alphabetisierung für Migrant/innen (242-60720) 
LOCATION:Bürgerhaus Trier-Nord, R.209a, Hans-Eiden-Platz 3, 54292 Trier 
END:VEVENT
BEGIN:VEVENT
DTSTAMP:20260424T004542
DTSTART;TZID=Europe/Berlin:20260820T083000
DTEND;TZID=Europe/Berlin:20260820T124500
UID:242-60720-20260820T083000@VHSVOLKSHOCHSCHULE TRIER
SUMMARY:Integration: Alphabetisierung für Migrant/innen (242-60720) 
LOCATION:Bürgerhaus Trier-Nord, R.209a, Hans-Eiden-Platz 3, 54292 Trier 
END:VEVENT
BEGIN:VEVENT
DTSTAMP:20260424T004542
DTSTART;TZID=Europe/Berlin:20260821T083000
DTEND;TZID=Europe/Berlin:20260821T124500
UID:242-60720-20260821T083000@VHSVOLKSHOCHSCHULE TRIER
SUMMARY:Integration: Alphabetisierung für Migrant/innen (242-60720) 
LOCATION:Bürgerhaus Trier-Nord, R.209a, Hans-Eiden-Platz 3, 54292 Trier 
END:VEVENT
BEGIN:VEVENT
DTSTAMP:20260424T004542
DTSTART;TZID=Europe/Berlin:20260824T083000
DTEND;TZID=Europe/Berlin:20260824T124500
UID:242-60720-20260824T083000@VHSVOLKSHOCHSCHULE TRIER
SUMMARY:Integration: Alphabetisierung für Migrant/innen (242-60720) 
LOCATION:Bürgerhaus Trier-Nord, R.209a, Hans-Eiden-Platz 3, 54292 Trier 
END:VEVENT
BEGIN:VEVENT
DTSTAMP:20260424T004542
DTSTART;TZID=Europe/Berlin:20260825T083000
DTEND;TZID=Europe/Berlin:20260825T124500
UID:242-60720-20260825T083000@VHSVOLKSHOCHSCHULE TRIER
SUMMARY:Integration: Alphabetisierung für Migrant/innen (242-60720) 
LOCATION:Bürgerhaus Trier-Nord, R.209a, Hans-Eiden-Platz 3, 54292 Trier 
END:VEVENT
BEGIN:VEVENT
DTSTAMP:20260424T004542
DTSTART;TZID=Europe/Berlin:20260826T083000
DTEND;TZID=Europe/Berlin:20260826T124500
UID:242-60720-20260826T083000@VHSVOLKSHOCHSCHULE TRIER
SUMMARY:Integration: Alphabetisierung für Migrant/innen (242-60720) 
LOCATION:Bürgerhaus Trier-Nord, R.209a, Hans-Eiden-Platz 3, 54292 Trier 
END:VEVENT
BEGIN:VEVENT
DTSTAMP:20260424T004542
DTSTART;TZID=Europe/Berlin:20260827T083000
DTEND;TZID=Europe/Berlin:20260827T124500
UID:242-60720-20260827T083000@VHSVOLKSHOCHSCHULE TRIER
SUMMARY:Integration: Alphabetisierung für Migrant/innen (242-60720) 
LOCATION:Bürgerhaus Trier-Nord, R.209a, Hans-Eiden-Platz 3, 54292 Trier 
END:VEVENT
BEGIN:VEVENT
DTSTAMP:20260424T004542
DTSTART;TZID=Europe/Berlin:20260828T083000
DTEND;TZID=Europe/Berlin:20260828T124500
UID:242-60720-20260828T083000@VHSVOLKSHOCHSCHULE TRIER
SUMMARY:Integration: Alphabetisierung für Migrant/innen (242-60720) 
LOCATION:Bürgerhaus Trier-Nord, R.209a, Hans-Eiden-Platz 3, 54292 Trier 
END:VEVENT
BEGIN:VEVENT
DTSTAMP:20260424T004542
DTSTART;TZID=Europe/Berlin:20260831T083000
DTEND;TZID=Europe/Berlin:20260831T124500
UID:242-60720-20260831T083000@VHSVOLKSHOCHSCHULE TRIER
SUMMARY:Integration: Alphabetisierung für Migrant/innen (242-60720) 
LOCATION:Bürgerhaus Trier-Nord, R.209a, Hans-Eiden-Platz 3, 54292 Trier 
END:VEVENT
BEGIN:VEVENT
DTSTAMP:20260424T004542
DTSTART;TZID=Europe/Berlin:20260901T083000
DTEND;TZID=Europe/Berlin:20260901T124500
UID:242-60720-20260901T083000@VHSVOLKSHOCHSCHULE TRIER
SUMMARY:Integration: Alphabetisierung für Migrant/innen (242-60720) 
LOCATION:Bürgerhaus Trier-Nord, R.209a, Hans-Eiden-Platz 3, 54292 Trier 
END:VEVENT
BEGIN:VEVENT
DTSTAMP:20260424T004542
DTSTART;TZID=Europe/Berlin:20260902T083000
DTEND;TZID=Europe/Berlin:20260902T124500
UID:242-60720-20260902T083000@VHSVOLKSHOCHSCHULE TRIER
SUMMARY:Integration: Alphabetisierung für Migrant/innen (242-60720) 
LOCATION:Bürgerhaus Trier-Nord, R.209a, Hans-Eiden-Platz 3, 54292 Trier 
END:VEVENT
BEGIN:VEVENT
DTSTAMP:20260424T004542
DTSTART;TZID=Europe/Berlin:20260903T083000
DTEND;TZID=Europe/Berlin:20260903T124500
UID:242-60720-20260903T083000@VHSVOLKSHOCHSCHULE TRIER
SUMMARY:Integration: Alphabetisierung für Migrant/innen (242-60720) 
LOCATION:Bürgerhaus Trier-Nord, R.209a, Hans-Eiden-Platz 3, 54292 Trier 
END:VEVENT
BEGIN:VEVENT
DTSTAMP:20260424T004542
DTSTART;TZID=Europe/Berlin:20260904T083000
DTEND;TZID=Europe/Berlin:20260904T124500
UID:242-60720-20260904T083000@VHSVOLKSHOCHSCHULE TRIER
SUMMARY:Integration: Alphabetisierung für Migrant/innen (242-60720) 
LOCATION:Bürgerhaus Trier-Nord, R.209a, Hans-Eiden-Platz 3, 54292 Trier 
END:VEVENT
BEGIN:VEVENT
DTSTAMP:20260424T004542
DTSTART;TZID=Europe/Berlin:20260907T083000
DTEND;TZID=Europe/Berlin:20260907T124500
UID:242-60720-20260907T083000@VHSVOLKSHOCHSCHULE TRIER
SUMMARY:Integration: Alphabetisierung für Migrant/innen (242-60720) 
LOCATION:Bürgerhaus Trier-Nord, R.209a, Hans-Eiden-Platz 3, 54292 Trier 
END:VEVENT
BEGIN:VEVENT
DTSTAMP:20260424T004542
DTSTART;TZID=Europe/Berlin:20260908T083000
DTEND;TZID=Europe/Berlin:20260908T124500
UID:242-60720-20260908T083000@VHSVOLKSHOCHSCHULE TRIER
SUMMARY:Integration: Alphabetisierung für Migrant/innen (242-60720) 
LOCATION:Bürgerhaus Trier-Nord, R.209a, Hans-Eiden-Platz 3, 54292 Trier 
END:VEVENT
BEGIN:VEVENT
DTSTAMP:20260424T004542
DTSTART;TZID=Europe/Berlin:20260909T083000
DTEND;TZID=Europe/Berlin:20260909T124500
UID:242-60720-20260909T083000@VHSVOLKSHOCHSCHULE TRIER
SUMMARY:Integration: Alphabetisierung für Migrant/innen (242-60720) 
LOCATION:Bürgerhaus Trier-Nord, R.209a, Hans-Eiden-Platz 3, 54292 Trier 
END:VEVENT
BEGIN:VEVENT
DTSTAMP:20260424T004542
DTSTART;TZID=Europe/Berlin:20260910T083000
DTEND;TZID=Europe/Berlin:20260910T124500
UID:242-60720-20260910T083000@VHSVOLKSHOCHSCHULE TRIER
SUMMARY:Integration: Alphabetisierung für Migrant/innen (242-60720) 
LOCATION:Bürgerhaus Trier-Nord, R.209a, Hans-Eiden-Platz 3, 54292 Trier 
END:VEVENT
BEGIN:VEVENT
DTSTAMP:20260424T004542
DTSTART;TZID=Europe/Berlin:20260911T083000
DTEND;TZID=Europe/Berlin:20260911T124500
UID:242-60720-20260911T083000@VHSVOLKSHOCHSCHULE TRIER
SUMMARY:Integration: Alphabetisierung für Migrant/innen (242-60720) 
LOCATION:Bürgerhaus Trier-Nord, R.209a, Hans-Eiden-Platz 3, 54292 Trier 
END:VEVENT
BEGIN:VEVENT
DTSTAMP:20260424T004542
DTSTART;TZID=Europe/Berlin:20260914T083000
DTEND;TZID=Europe/Berlin:20260914T124500
UID:242-60720-20260914T083000@VHSVOLKSHOCHSCHULE TRIER
SUMMARY:Integration: Alphabetisierung für Migrant/innen (242-60720) 
LOCATION:Bürgerhaus Trier-Nord, R.209a, Hans-Eiden-Platz 3, 54292 Trier 
END:VEVENT
BEGIN:VEVENT
DTSTAMP:20260424T004542
DTSTART;TZID=Europe/Berlin:20260915T083000
DTEND;TZID=Europe/Berlin:20260915T124500
UID:242-60720-20260915T083000@VHSVOLKSHOCHSCHULE TRIER
SUMMARY:Integration: Alphabetisierung für Migrant/innen (242-60720) 
LOCATION:Bürgerhaus Trier-Nord, R.209a, Hans-Eiden-Platz 3, 54292 Trier 
END:VEVENT
END:VCALENDAR