BEGIN:VCALENDAR
VERSION:2.0
PRODID:http://www.kufer.de/kuferweb / DE
METHOD:PUBLISH
CALSCALE:GREGORIAN
X-WR-TIMEZONE:Europe/Berlin
BEGIN:VTIMEZONE
TZID:Europe/Berlin
X-LIC-LOCATION:Europe/Berlin
BEGIN:DAYLIGHT
TZOFFSETFROM:+0100
TZOFFSETTO:+0200
TZNAME:CEST
DTSTART;TZID=Europe/Berlin:19700329T020000
RRULE:FREQ=YEARLY;INTERVAL=1;BYDAY=-1SU;BYMONTH=3
END:DAYLIGHT
BEGIN:STANDARD
TZOFFSETFROM:+0200
TZOFFSETTO:+0100
TZNAME:CET
DTSTART;TZID=Europe/Berlin:19701025T030000
RRULE:FREQ=YEARLY;INTERVAL=1;BYDAY=-1SU;BYMONTH=10
END:STANDARD
END:VTIMEZONE
BEGIN:VEVENT
DTSTAMP:20260419T144201
DTSTART;TZID=Europe/Berlin:20250521T183000
DTEND;TZID=Europe/Berlin:20250521T193000
UID:251-30230-20250521T183000@VHSVOLKSHOCHSCHULE TRIER
SUMMARY:Rückenfit (251-30230) 
LOCATION:Gymnastikhalle Nelson Mandela Realschule plus, Speestr. 12 b, 54290 Trier
END:VEVENT
BEGIN:VEVENT
DTSTAMP:20260419T144201
DTSTART;TZID=Europe/Berlin:20250528T183000
DTEND;TZID=Europe/Berlin:20250528T193000
UID:251-30230-20250528T183000@VHSVOLKSHOCHSCHULE TRIER
SUMMARY:Rückenfit (251-30230) 
LOCATION:Gymnastikhalle Nelson Mandela Realschule plus, Speestr. 12 b, 54290 Trier
END:VEVENT
BEGIN:VEVENT
DTSTAMP:20260419T144201
DTSTART;TZID=Europe/Berlin:20250604T183000
DTEND;TZID=Europe/Berlin:20250604T193000
UID:251-30230-20250604T183000@VHSVOLKSHOCHSCHULE TRIER
SUMMARY:Rückenfit (251-30230) 
LOCATION:Gymnastikhalle Nelson Mandela Realschule plus, Speestr. 12 b, 54290 Trier
END:VEVENT
BEGIN:VEVENT
DTSTAMP:20260419T144201
DTSTART;TZID=Europe/Berlin:20250611T183000
DTEND;TZID=Europe/Berlin:20250611T193000
UID:251-30230-20250611T183000@VHSVOLKSHOCHSCHULE TRIER
SUMMARY:Rückenfit (251-30230) 
LOCATION:Gymnastikhalle Nelson Mandela Realschule plus, Speestr. 12 b, 54290 Trier
END:VEVENT
BEGIN:VEVENT
DTSTAMP:20260419T144201
DTSTART;TZID=Europe/Berlin:20250618T183000
DTEND;TZID=Europe/Berlin:20250618T193000
UID:251-30230-20250618T183000@VHSVOLKSHOCHSCHULE TRIER
SUMMARY:Rückenfit (251-30230) 
LOCATION:Gymnastikhalle Nelson Mandela Realschule plus, Speestr. 12 b, 54290 Trier
END:VEVENT
BEGIN:VEVENT
DTSTAMP:20260419T144201
DTSTART;TZID=Europe/Berlin:20250625T183000
DTEND;TZID=Europe/Berlin:20250625T193000
UID:251-30230-20250625T183000@VHSVOLKSHOCHSCHULE TRIER
SUMMARY:Rückenfit (251-30230) 
LOCATION:Gymnastikhalle Nelson Mandela Realschule plus, Speestr. 12 b, 54290 Trier
END:VEVENT
BEGIN:VEVENT
DTSTAMP:20260419T144201
DTSTART;TZID=Europe/Berlin:20250702T183000
DTEND;TZID=Europe/Berlin:20250702T193000
UID:251-30230-20250702T183000@VHSVOLKSHOCHSCHULE TRIER
SUMMARY:Rückenfit (251-30230) 
LOCATION:Gymnastikhalle Nelson Mandela Realschule plus, Speestr. 12 b, 54290 Trier
END:VEVENT
BEGIN:VEVENT
DTSTAMP:20260419T144201
DTSTART;TZID=Europe/Berlin:20250820T183000
DTEND;TZID=Europe/Berlin:20250820T193000
UID:251-30230-20250820T183000@VHSVOLKSHOCHSCHULE TRIER
SUMMARY:Rückenfit (251-30230) 
LOCATION:Gymnastikhalle Nelson Mandela Realschule plus, Speestr. 12 b, 54290 Trier
END:VEVENT
END:VCALENDAR