BEGIN:VCALENDAR
VERSION:2.0
PRODID:http://www.kufer.de/kuferweb / DE
METHOD:PUBLISH
CALSCALE:GREGORIAN
X-WR-TIMEZONE:Europe/Berlin
BEGIN:VTIMEZONE
TZID:Europe/Berlin
X-LIC-LOCATION:Europe/Berlin
BEGIN:DAYLIGHT
TZOFFSETFROM:+0100
TZOFFSETTO:+0200
TZNAME:CEST
DTSTART;TZID=Europe/Berlin:19700329T020000
RRULE:FREQ=YEARLY;INTERVAL=1;BYDAY=-1SU;BYMONTH=3
END:DAYLIGHT
BEGIN:STANDARD
TZOFFSETFROM:+0200
TZOFFSETTO:+0100
TZNAME:CET
DTSTART;TZID=Europe/Berlin:19701025T030000
RRULE:FREQ=YEARLY;INTERVAL=1;BYDAY=-1SU;BYMONTH=10
END:STANDARD
END:VTIMEZONE
BEGIN:VEVENT
DTSTAMP:20260419T144257
DTSTART;TZID=Europe/Berlin:20260219T133000
DTEND;TZID=Europe/Berlin:20260219T174500
UID:251-404078-20260219T133000@VHSVOLKSHOCHSCHULE TRIER
SUMMARY:Integration: Zweitschriftlernerkurs (251-404078) 
LOCATION:Bürgerhaus Trier-Nord, R.209b, Hans-Eiden-Platz 3, 54292 Trier 
END:VEVENT
BEGIN:VEVENT
DTSTAMP:20260419T144257
DTSTART;TZID=Europe/Berlin:20260220T133000
DTEND;TZID=Europe/Berlin:20260220T174500
UID:251-404078-20260220T133000@VHSVOLKSHOCHSCHULE TRIER
SUMMARY:Integration: Zweitschriftlernerkurs (251-404078) 
LOCATION:Bürgerhaus Trier-Nord, R.209b, Hans-Eiden-Platz 3, 54292 Trier 
END:VEVENT
BEGIN:VEVENT
DTSTAMP:20260419T144257
DTSTART;TZID=Europe/Berlin:20260223T133000
DTEND;TZID=Europe/Berlin:20260223T174500
UID:251-404078-20260223T133000@VHSVOLKSHOCHSCHULE TRIER
SUMMARY:Integration: Zweitschriftlernerkurs (251-404078) 
LOCATION:Bürgerhaus Trier-Nord, R.209b, Hans-Eiden-Platz 3, 54292 Trier 
END:VEVENT
BEGIN:VEVENT
DTSTAMP:20260419T144257
DTSTART;TZID=Europe/Berlin:20260224T133000
DTEND;TZID=Europe/Berlin:20260224T174500
UID:251-404078-20260224T133000@VHSVOLKSHOCHSCHULE TRIER
SUMMARY:Integration: Zweitschriftlernerkurs (251-404078) 
LOCATION:Bürgerhaus Trier-Nord, R.209b, Hans-Eiden-Platz 3, 54292 Trier 
END:VEVENT
BEGIN:VEVENT
DTSTAMP:20260419T144257
DTSTART;TZID=Europe/Berlin:20260225T133000
DTEND;TZID=Europe/Berlin:20260225T174500
UID:251-404078-20260225T133000@VHSVOLKSHOCHSCHULE TRIER
SUMMARY:Integration: Zweitschriftlernerkurs (251-404078) 
LOCATION:Bürgerhaus Trier-Nord, R.209b, Hans-Eiden-Platz 3, 54292 Trier 
END:VEVENT
BEGIN:VEVENT
DTSTAMP:20260419T144257
DTSTART;TZID=Europe/Berlin:20260226T133000
DTEND;TZID=Europe/Berlin:20260226T174500
UID:251-404078-20260226T133000@VHSVOLKSHOCHSCHULE TRIER
SUMMARY:Integration: Zweitschriftlernerkurs (251-404078) 
LOCATION:Bürgerhaus Trier-Nord, R.209b, Hans-Eiden-Platz 3, 54292 Trier 
END:VEVENT
BEGIN:VEVENT
DTSTAMP:20260419T144257
DTSTART;TZID=Europe/Berlin:20260227T133000
DTEND;TZID=Europe/Berlin:20260227T174500
UID:251-404078-20260227T133000@VHSVOLKSHOCHSCHULE TRIER
SUMMARY:Integration: Zweitschriftlernerkurs (251-404078) 
LOCATION:Bürgerhaus Trier-Nord, R.209b, Hans-Eiden-Platz 3, 54292 Trier 
END:VEVENT
BEGIN:VEVENT
DTSTAMP:20260419T144257
DTSTART;TZID=Europe/Berlin:20260302T133000
DTEND;TZID=Europe/Berlin:20260302T174500
UID:251-404078-20260302T133000@VHSVOLKSHOCHSCHULE TRIER
SUMMARY:Integration: Zweitschriftlernerkurs (251-404078) 
LOCATION:Bürgerhaus Trier-Nord, R.209b, Hans-Eiden-Platz 3, 54292 Trier 
END:VEVENT
BEGIN:VEVENT
DTSTAMP:20260419T144257
DTSTART;TZID=Europe/Berlin:20260303T133000
DTEND;TZID=Europe/Berlin:20260303T174500
UID:251-404078-20260303T133000@VHSVOLKSHOCHSCHULE TRIER
SUMMARY:Integration: Zweitschriftlernerkurs (251-404078) 
LOCATION:Bürgerhaus Trier-Nord, R.209b, Hans-Eiden-Platz 3, 54292 Trier 
END:VEVENT
BEGIN:VEVENT
DTSTAMP:20260419T144257
DTSTART;TZID=Europe/Berlin:20260304T133000
DTEND;TZID=Europe/Berlin:20260304T174500
UID:251-404078-20260304T133000@VHSVOLKSHOCHSCHULE TRIER
SUMMARY:Integration: Zweitschriftlernerkurs (251-404078) 
LOCATION:Bürgerhaus Trier-Nord, R.209b, Hans-Eiden-Platz 3, 54292 Trier 
END:VEVENT
BEGIN:VEVENT
DTSTAMP:20260419T144257
DTSTART;TZID=Europe/Berlin:20260305T133000
DTEND;TZID=Europe/Berlin:20260305T174500
UID:251-404078-20260305T133000@VHSVOLKSHOCHSCHULE TRIER
SUMMARY:Integration: Zweitschriftlernerkurs (251-404078) 
LOCATION:Bürgerhaus Trier-Nord, R.209b, Hans-Eiden-Platz 3, 54292 Trier 
END:VEVENT
BEGIN:VEVENT
DTSTAMP:20260419T144257
DTSTART;TZID=Europe/Berlin:20260306T133000
DTEND;TZID=Europe/Berlin:20260306T174500
UID:251-404078-20260306T133000@VHSVOLKSHOCHSCHULE TRIER
SUMMARY:Integration: Zweitschriftlernerkurs (251-404078) 
LOCATION:Bürgerhaus Trier-Nord, R.209b, Hans-Eiden-Platz 3, 54292 Trier 
END:VEVENT
BEGIN:VEVENT
DTSTAMP:20260419T144257
DTSTART;TZID=Europe/Berlin:20260309T133000
DTEND;TZID=Europe/Berlin:20260309T174500
UID:251-404078-20260309T133000@VHSVOLKSHOCHSCHULE TRIER
SUMMARY:Integration: Zweitschriftlernerkurs (251-404078) 
LOCATION:Bürgerhaus Trier-Nord, R.209b, Hans-Eiden-Platz 3, 54292 Trier 
END:VEVENT
BEGIN:VEVENT
DTSTAMP:20260419T144257
DTSTART;TZID=Europe/Berlin:20260310T133000
DTEND;TZID=Europe/Berlin:20260310T174500
UID:251-404078-20260310T133000@VHSVOLKSHOCHSCHULE TRIER
SUMMARY:Integration: Zweitschriftlernerkurs (251-404078) 
LOCATION:Bürgerhaus Trier-Nord, R.209b, Hans-Eiden-Platz 3, 54292 Trier 
END:VEVENT
BEGIN:VEVENT
DTSTAMP:20260419T144257
DTSTART;TZID=Europe/Berlin:20260311T133000
DTEND;TZID=Europe/Berlin:20260311T174500
UID:251-404078-20260311T133000@VHSVOLKSHOCHSCHULE TRIER
SUMMARY:Integration: Zweitschriftlernerkurs (251-404078) 
LOCATION:Bürgerhaus Trier-Nord, R.209b, Hans-Eiden-Platz 3, 54292 Trier 
END:VEVENT
BEGIN:VEVENT
DTSTAMP:20260419T144257
DTSTART;TZID=Europe/Berlin:20260312T133000
DTEND;TZID=Europe/Berlin:20260312T174500
UID:251-404078-20260312T133000@VHSVOLKSHOCHSCHULE TRIER
SUMMARY:Integration: Zweitschriftlernerkurs (251-404078) 
LOCATION:Bürgerhaus Trier-Nord, R.209b, Hans-Eiden-Platz 3, 54292 Trier 
END:VEVENT
BEGIN:VEVENT
DTSTAMP:20260419T144257
DTSTART;TZID=Europe/Berlin:20260313T133000
DTEND;TZID=Europe/Berlin:20260313T174500
UID:251-404078-20260313T133000@VHSVOLKSHOCHSCHULE TRIER
SUMMARY:Integration: Zweitschriftlernerkurs (251-404078) 
LOCATION:Bürgerhaus Trier-Nord, R.209b, Hans-Eiden-Platz 3, 54292 Trier 
END:VEVENT
BEGIN:VEVENT
DTSTAMP:20260419T144257
DTSTART;TZID=Europe/Berlin:20260316T133000
DTEND;TZID=Europe/Berlin:20260316T174500
UID:251-404078-20260316T133000@VHSVOLKSHOCHSCHULE TRIER
SUMMARY:Integration: Zweitschriftlernerkurs (251-404078) 
LOCATION:Bürgerhaus Trier-Nord, R.209b, Hans-Eiden-Platz 3, 54292 Trier 
END:VEVENT
BEGIN:VEVENT
DTSTAMP:20260419T144257
DTSTART;TZID=Europe/Berlin:20260317T133000
DTEND;TZID=Europe/Berlin:20260317T174500
UID:251-404078-20260317T133000@VHSVOLKSHOCHSCHULE TRIER
SUMMARY:Integration: Zweitschriftlernerkurs (251-404078) 
LOCATION:Bürgerhaus Trier-Nord, R.209b, Hans-Eiden-Platz 3, 54292 Trier 
END:VEVENT
BEGIN:VEVENT
DTSTAMP:20260419T144257
DTSTART;TZID=Europe/Berlin:20260318T133000
DTEND;TZID=Europe/Berlin:20260318T174500
UID:251-404078-20260318T133000@VHSVOLKSHOCHSCHULE TRIER
SUMMARY:Integration: Zweitschriftlernerkurs (251-404078) 
LOCATION:Bürgerhaus Trier-Nord, R.209b, Hans-Eiden-Platz 3, 54292 Trier 
END:VEVENT
END:VCALENDAR