BEGIN:VCALENDAR
VERSION:2.0
PRODID:http://www.kufer.de/kuferweb / DE
METHOD:PUBLISH
CALSCALE:GREGORIAN
X-WR-TIMEZONE:Europe/Berlin
BEGIN:VTIMEZONE
TZID:Europe/Berlin
X-LIC-LOCATION:Europe/Berlin
BEGIN:DAYLIGHT
TZOFFSETFROM:+0100
TZOFFSETTO:+0200
TZNAME:CEST
DTSTART;TZID=Europe/Berlin:19700329T020000
RRULE:FREQ=YEARLY;INTERVAL=1;BYDAY=-1SU;BYMONTH=3
END:DAYLIGHT
BEGIN:STANDARD
TZOFFSETFROM:+0200
TZOFFSETTO:+0100
TZNAME:CET
DTSTART;TZID=Europe/Berlin:19701025T030000
RRULE:FREQ=YEARLY;INTERVAL=1;BYDAY=-1SU;BYMONTH=10
END:STANDARD
END:VTIMEZONE
BEGIN:VEVENT
DTSTAMP:20260421T093016
DTSTART;TZID=Europe/Berlin:20260320T133000
DTEND;TZID=Europe/Berlin:20260320T174500
UID:251-404079-20260320T133000@VHSVOLKSHOCHSCHULE TRIER
SUMMARY:Integration: Zweitschriftlernerkurs (251-404079) 
LOCATION:Bürgerhaus Trier-Nord, R.209b, Hans-Eiden-Platz 3, 54292 Trier 
END:VEVENT
BEGIN:VEVENT
DTSTAMP:20260421T093016
DTSTART;TZID=Europe/Berlin:20260323T133000
DTEND;TZID=Europe/Berlin:20260323T174500
UID:251-404079-20260323T133000@VHSVOLKSHOCHSCHULE TRIER
SUMMARY:Integration: Zweitschriftlernerkurs (251-404079) 
LOCATION:Bürgerhaus Trier-Nord, R.209b, Hans-Eiden-Platz 3, 54292 Trier 
END:VEVENT
BEGIN:VEVENT
DTSTAMP:20260421T093016
DTSTART;TZID=Europe/Berlin:20260324T133000
DTEND;TZID=Europe/Berlin:20260324T174500
UID:251-404079-20260324T133000@VHSVOLKSHOCHSCHULE TRIER
SUMMARY:Integration: Zweitschriftlernerkurs (251-404079) 
LOCATION:Bürgerhaus Trier-Nord, R.209b, Hans-Eiden-Platz 3, 54292 Trier 
END:VEVENT
BEGIN:VEVENT
DTSTAMP:20260421T093016
DTSTART;TZID=Europe/Berlin:20260325T133000
DTEND;TZID=Europe/Berlin:20260325T174500
UID:251-404079-20260325T133000@VHSVOLKSHOCHSCHULE TRIER
SUMMARY:Integration: Zweitschriftlernerkurs (251-404079) 
LOCATION:Bürgerhaus Trier-Nord, R.209b, Hans-Eiden-Platz 3, 54292 Trier 
END:VEVENT
BEGIN:VEVENT
DTSTAMP:20260421T093016
DTSTART;TZID=Europe/Berlin:20260326T133000
DTEND;TZID=Europe/Berlin:20260326T174500
UID:251-404079-20260326T133000@VHSVOLKSHOCHSCHULE TRIER
SUMMARY:Integration: Zweitschriftlernerkurs (251-404079) 
LOCATION:Bürgerhaus Trier-Nord, R.209b, Hans-Eiden-Platz 3, 54292 Trier 
END:VEVENT
BEGIN:VEVENT
DTSTAMP:20260421T093016
DTSTART;TZID=Europe/Berlin:20260327T133000
DTEND;TZID=Europe/Berlin:20260327T174500
UID:251-404079-20260327T133000@VHSVOLKSHOCHSCHULE TRIER
SUMMARY:Integration: Zweitschriftlernerkurs (251-404079) 
LOCATION:Bürgerhaus Trier-Nord, R.209b, Hans-Eiden-Platz 3, 54292 Trier 
END:VEVENT
BEGIN:VEVENT
DTSTAMP:20260421T093016
DTSTART;TZID=Europe/Berlin:20260413T133000
DTEND;TZID=Europe/Berlin:20260413T174500
UID:251-404079-20260413T133000@VHSVOLKSHOCHSCHULE TRIER
SUMMARY:Integration: Zweitschriftlernerkurs (251-404079) 
LOCATION:Bürgerhaus Trier-Nord, R.209b, Hans-Eiden-Platz 3, 54292 Trier 
END:VEVENT
BEGIN:VEVENT
DTSTAMP:20260421T093016
DTSTART;TZID=Europe/Berlin:20260414T133000
DTEND;TZID=Europe/Berlin:20260414T174500
UID:251-404079-20260414T133000@VHSVOLKSHOCHSCHULE TRIER
DESCRIPTION:Vertretung
SUMMARY:Integration: Zweitschriftlernerkurs (251-404079) 
LOCATION:Bürgerhaus Trier-Nord, R.209b, Hans-Eiden-Platz 3, 54292 Trier 
END:VEVENT
BEGIN:VEVENT
DTSTAMP:20260421T093016
DTSTART;TZID=Europe/Berlin:20260415T133000
DTEND;TZID=Europe/Berlin:20260415T174500
UID:251-404079-20260415T133000@VHSVOLKSHOCHSCHULE TRIER
SUMMARY:Integration: Zweitschriftlernerkurs (251-404079) 
LOCATION:Bürgerhaus Trier-Nord, R.209b, Hans-Eiden-Platz 3, 54292 Trier 
END:VEVENT
BEGIN:VEVENT
DTSTAMP:20260421T093016
DTSTART;TZID=Europe/Berlin:20260416T133000
DTEND;TZID=Europe/Berlin:20260416T174500
UID:251-404079-20260416T133000@VHSVOLKSHOCHSCHULE TRIER
SUMMARY:Integration: Zweitschriftlernerkurs (251-404079) 
LOCATION:Bürgerhaus Trier-Nord, R.209b, Hans-Eiden-Platz 3, 54292 Trier 
END:VEVENT
BEGIN:VEVENT
DTSTAMP:20260421T093016
DTSTART;TZID=Europe/Berlin:20260417T133000
DTEND;TZID=Europe/Berlin:20260417T174500
UID:251-404079-20260417T133000@VHSVOLKSHOCHSCHULE TRIER
SUMMARY:Integration: Zweitschriftlernerkurs (251-404079) 
LOCATION:Bürgerhaus Trier-Nord, R.209b, Hans-Eiden-Platz 3, 54292 Trier 
END:VEVENT
BEGIN:VEVENT
DTSTAMP:20260421T093016
DTSTART;TZID=Europe/Berlin:20260420T133000
DTEND;TZID=Europe/Berlin:20260420T174500
UID:251-404079-20260420T133000@VHSVOLKSHOCHSCHULE TRIER
SUMMARY:Integration: Zweitschriftlernerkurs (251-404079) 
LOCATION:Bürgerhaus Trier-Nord, R.209b, Hans-Eiden-Platz 3, 54292 Trier 
END:VEVENT
BEGIN:VEVENT
DTSTAMP:20260421T093016
DTSTART;TZID=Europe/Berlin:20260421T133000
DTEND;TZID=Europe/Berlin:20260421T174500
UID:251-404079-20260421T133000@VHSVOLKSHOCHSCHULE TRIER
DESCRIPTION:Elena Kadina wird von Dorothee Blau vertreten
SUMMARY:Integration: Zweitschriftlernerkurs (251-404079) 
LOCATION:Bürgerhaus Trier-Nord, R.209b, Hans-Eiden-Platz 3, 54292 Trier 
END:VEVENT
BEGIN:VEVENT
DTSTAMP:20260421T093016
DTSTART;TZID=Europe/Berlin:20260422T133000
DTEND;TZID=Europe/Berlin:20260422T174500
UID:251-404079-20260422T133000@VHSVOLKSHOCHSCHULE TRIER
SUMMARY:Integration: Zweitschriftlernerkurs (251-404079) 
LOCATION:Bürgerhaus Trier-Nord, R.209b, Hans-Eiden-Platz 3, 54292 Trier 
END:VEVENT
BEGIN:VEVENT
DTSTAMP:20260421T093016
DTSTART;TZID=Europe/Berlin:20260423T133000
DTEND;TZID=Europe/Berlin:20260423T174500
UID:251-404079-20260423T133000@VHSVOLKSHOCHSCHULE TRIER
SUMMARY:Integration: Zweitschriftlernerkurs (251-404079) 
LOCATION:Bürgerhaus Trier-Nord, R.209b, Hans-Eiden-Platz 3, 54292 Trier 
END:VEVENT
BEGIN:VEVENT
DTSTAMP:20260421T093016
DTSTART;TZID=Europe/Berlin:20260424T133000
DTEND;TZID=Europe/Berlin:20260424T174500
UID:251-404079-20260424T133000@VHSVOLKSHOCHSCHULE TRIER
SUMMARY:Integration: Zweitschriftlernerkurs (251-404079) 
LOCATION:Bürgerhaus Trier-Nord, R.209b, Hans-Eiden-Platz 3, 54292 Trier 
END:VEVENT
BEGIN:VEVENT
DTSTAMP:20260421T093016
DTSTART;TZID=Europe/Berlin:20260427T133000
DTEND;TZID=Europe/Berlin:20260427T174500
UID:251-404079-20260427T133000@VHSVOLKSHOCHSCHULE TRIER
SUMMARY:Integration: Zweitschriftlernerkurs (251-404079) 
LOCATION:Bürgerhaus Trier-Nord, R.209b, Hans-Eiden-Platz 3, 54292 Trier 
END:VEVENT
BEGIN:VEVENT
DTSTAMP:20260421T093016
DTSTART;TZID=Europe/Berlin:20260428T133000
DTEND;TZID=Europe/Berlin:20260428T174500
UID:251-404079-20260428T133000@VHSVOLKSHOCHSCHULE TRIER
SUMMARY:Integration: Zweitschriftlernerkurs (251-404079) 
LOCATION:Bürgerhaus Trier-Nord, R.209b, Hans-Eiden-Platz 3, 54292 Trier 
END:VEVENT
BEGIN:VEVENT
DTSTAMP:20260421T093016
DTSTART;TZID=Europe/Berlin:20260429T133000
DTEND;TZID=Europe/Berlin:20260429T174500
UID:251-404079-20260429T133000@VHSVOLKSHOCHSCHULE TRIER
SUMMARY:Integration: Zweitschriftlernerkurs (251-404079) 
LOCATION:Bürgerhaus Trier-Nord, R.209b, Hans-Eiden-Platz 3, 54292 Trier 
END:VEVENT
BEGIN:VEVENT
DTSTAMP:20260421T093016
DTSTART;TZID=Europe/Berlin:20260430T133000
DTEND;TZID=Europe/Berlin:20260430T174500
UID:251-404079-20260430T133000@VHSVOLKSHOCHSCHULE TRIER
SUMMARY:Integration: Zweitschriftlernerkurs (251-404079) 
LOCATION:Bürgerhaus Trier-Nord, R.209b, Hans-Eiden-Platz 3, 54292 Trier 
END:VEVENT
END:VCALENDAR