BEGIN:VCALENDAR
VERSION:2.0
PRODID:http://www.kufer.de/kuferweb / DE
METHOD:PUBLISH
CALSCALE:GREGORIAN
X-WR-TIMEZONE:Europe/Berlin
BEGIN:VTIMEZONE
TZID:Europe/Berlin
X-LIC-LOCATION:Europe/Berlin
BEGIN:DAYLIGHT
TZOFFSETFROM:+0100
TZOFFSETTO:+0200
TZNAME:CEST
DTSTART;TZID=Europe/Berlin:19700329T020000
RRULE:FREQ=YEARLY;INTERVAL=1;BYDAY=-1SU;BYMONTH=3
END:DAYLIGHT
BEGIN:STANDARD
TZOFFSETFROM:+0200
TZOFFSETTO:+0100
TZNAME:CET
DTSTART;TZID=Europe/Berlin:19701025T030000
RRULE:FREQ=YEARLY;INTERVAL=1;BYDAY=-1SU;BYMONTH=10
END:STANDARD
END:VTIMEZONE
BEGIN:VEVENT
DTSTAMP:20260421T092443
DTSTART;TZID=Europe/Berlin:20260505T133000
DTEND;TZID=Europe/Berlin:20260505T174500
UID:251-404089-20260505T133000@VHSVOLKSHOCHSCHULE TRIER
SUMMARY:Integration: Zweitschriftlernerkurs (251-404089) 
LOCATION:Bürgerhaus Trier-Nord, R.209b, Hans-Eiden-Platz 3, 54292 Trier 
END:VEVENT
BEGIN:VEVENT
DTSTAMP:20260421T092443
DTSTART;TZID=Europe/Berlin:20260506T133000
DTEND;TZID=Europe/Berlin:20260506T174500
UID:251-404089-20260506T133000@VHSVOLKSHOCHSCHULE TRIER
SUMMARY:Integration: Zweitschriftlernerkurs (251-404089) 
LOCATION:Bürgerhaus Trier-Nord, R.209b, Hans-Eiden-Platz 3, 54292 Trier 
END:VEVENT
BEGIN:VEVENT
DTSTAMP:20260421T092443
DTSTART;TZID=Europe/Berlin:20260507T133000
DTEND;TZID=Europe/Berlin:20260507T174500
UID:251-404089-20260507T133000@VHSVOLKSHOCHSCHULE TRIER
SUMMARY:Integration: Zweitschriftlernerkurs (251-404089) 
LOCATION:Bürgerhaus Trier-Nord, R.209b, Hans-Eiden-Platz 3, 54292 Trier 
END:VEVENT
BEGIN:VEVENT
DTSTAMP:20260421T092443
DTSTART;TZID=Europe/Berlin:20260508T133000
DTEND;TZID=Europe/Berlin:20260508T174500
UID:251-404089-20260508T133000@VHSVOLKSHOCHSCHULE TRIER
SUMMARY:Integration: Zweitschriftlernerkurs (251-404089) 
LOCATION:Bürgerhaus Trier-Nord, R.209b, Hans-Eiden-Platz 3, 54292 Trier 
END:VEVENT
BEGIN:VEVENT
DTSTAMP:20260421T092443
DTSTART;TZID=Europe/Berlin:20260511T133000
DTEND;TZID=Europe/Berlin:20260511T174500
UID:251-404089-20260511T133000@VHSVOLKSHOCHSCHULE TRIER
SUMMARY:Integration: Zweitschriftlernerkurs (251-404089) 
LOCATION:Bürgerhaus Trier-Nord, R.209b, Hans-Eiden-Platz 3, 54292 Trier 
END:VEVENT
BEGIN:VEVENT
DTSTAMP:20260421T092443
DTSTART;TZID=Europe/Berlin:20260512T133000
DTEND;TZID=Europe/Berlin:20260512T174500
UID:251-404089-20260512T133000@VHSVOLKSHOCHSCHULE TRIER
SUMMARY:Integration: Zweitschriftlernerkurs (251-404089) 
LOCATION:Bürgerhaus Trier-Nord, R.209b, Hans-Eiden-Platz 3, 54292 Trier 
END:VEVENT
BEGIN:VEVENT
DTSTAMP:20260421T092443
DTSTART;TZID=Europe/Berlin:20260513T133000
DTEND;TZID=Europe/Berlin:20260513T174500
UID:251-404089-20260513T133000@VHSVOLKSHOCHSCHULE TRIER
SUMMARY:Integration: Zweitschriftlernerkurs (251-404089) 
LOCATION:Bürgerhaus Trier-Nord, R.209b, Hans-Eiden-Platz 3, 54292 Trier 
END:VEVENT
BEGIN:VEVENT
DTSTAMP:20260421T092443
DTSTART;TZID=Europe/Berlin:20260518T133000
DTEND;TZID=Europe/Berlin:20260518T174500
UID:251-404089-20260518T133000@VHSVOLKSHOCHSCHULE TRIER
SUMMARY:Integration: Zweitschriftlernerkurs (251-404089) 
LOCATION:Bürgerhaus Trier-Nord, R.209b, Hans-Eiden-Platz 3, 54292 Trier 
END:VEVENT
BEGIN:VEVENT
DTSTAMP:20260421T092443
DTSTART;TZID=Europe/Berlin:20260519T133000
DTEND;TZID=Europe/Berlin:20260519T174500
UID:251-404089-20260519T133000@VHSVOLKSHOCHSCHULE TRIER
SUMMARY:Integration: Zweitschriftlernerkurs (251-404089) 
LOCATION:Bürgerhaus Trier-Nord, R.209b, Hans-Eiden-Platz 3, 54292 Trier 
END:VEVENT
BEGIN:VEVENT
DTSTAMP:20260421T092443
DTSTART;TZID=Europe/Berlin:20260520T133000
DTEND;TZID=Europe/Berlin:20260520T174500
UID:251-404089-20260520T133000@VHSVOLKSHOCHSCHULE TRIER
SUMMARY:Integration: Zweitschriftlernerkurs (251-404089) 
LOCATION:Bürgerhaus Trier-Nord, R.209b, Hans-Eiden-Platz 3, 54292 Trier 
END:VEVENT
BEGIN:VEVENT
DTSTAMP:20260421T092443
DTSTART;TZID=Europe/Berlin:20260521T133000
DTEND;TZID=Europe/Berlin:20260521T174500
UID:251-404089-20260521T133000@VHSVOLKSHOCHSCHULE TRIER
SUMMARY:Integration: Zweitschriftlernerkurs (251-404089) 
LOCATION:Bürgerhaus Trier-Nord, R.209b, Hans-Eiden-Platz 3, 54292 Trier 
END:VEVENT
BEGIN:VEVENT
DTSTAMP:20260421T092443
DTSTART;TZID=Europe/Berlin:20260522T133000
DTEND;TZID=Europe/Berlin:20260522T174500
UID:251-404089-20260522T133000@VHSVOLKSHOCHSCHULE TRIER
SUMMARY:Integration: Zweitschriftlernerkurs (251-404089) 
LOCATION:Bürgerhaus Trier-Nord, R.209b, Hans-Eiden-Platz 3, 54292 Trier 
END:VEVENT
BEGIN:VEVENT
DTSTAMP:20260421T092443
DTSTART;TZID=Europe/Berlin:20260526T133000
DTEND;TZID=Europe/Berlin:20260526T174500
UID:251-404089-20260526T133000@VHSVOLKSHOCHSCHULE TRIER
SUMMARY:Integration: Zweitschriftlernerkurs (251-404089) 
LOCATION:Bürgerhaus Trier-Nord, R.209b, Hans-Eiden-Platz 3, 54292 Trier 
END:VEVENT
BEGIN:VEVENT
DTSTAMP:20260421T092443
DTSTART;TZID=Europe/Berlin:20260527T133000
DTEND;TZID=Europe/Berlin:20260527T174500
UID:251-404089-20260527T133000@VHSVOLKSHOCHSCHULE TRIER
SUMMARY:Integration: Zweitschriftlernerkurs (251-404089) 
LOCATION:Bürgerhaus Trier-Nord, R.209b, Hans-Eiden-Platz 3, 54292 Trier 
END:VEVENT
BEGIN:VEVENT
DTSTAMP:20260421T092443
DTSTART;TZID=Europe/Berlin:20260528T133000
DTEND;TZID=Europe/Berlin:20260528T174500
UID:251-404089-20260528T133000@VHSVOLKSHOCHSCHULE TRIER
SUMMARY:Integration: Zweitschriftlernerkurs (251-404089) 
LOCATION:Bürgerhaus Trier-Nord, R.209b, Hans-Eiden-Platz 3, 54292 Trier 
END:VEVENT
BEGIN:VEVENT
DTSTAMP:20260421T092443
DTSTART;TZID=Europe/Berlin:20260529T133000
DTEND;TZID=Europe/Berlin:20260529T174500
UID:251-404089-20260529T133000@VHSVOLKSHOCHSCHULE TRIER
SUMMARY:Integration: Zweitschriftlernerkurs (251-404089) 
LOCATION:Bürgerhaus Trier-Nord, R.209b, Hans-Eiden-Platz 3, 54292 Trier 
END:VEVENT
BEGIN:VEVENT
DTSTAMP:20260421T092443
DTSTART;TZID=Europe/Berlin:20260601T133000
DTEND;TZID=Europe/Berlin:20260601T174500
UID:251-404089-20260601T133000@VHSVOLKSHOCHSCHULE TRIER
SUMMARY:Integration: Zweitschriftlernerkurs (251-404089) 
LOCATION:Bürgerhaus Trier-Nord, R.209b, Hans-Eiden-Platz 3, 54292 Trier 
END:VEVENT
BEGIN:VEVENT
DTSTAMP:20260421T092443
DTSTART;TZID=Europe/Berlin:20260602T133000
DTEND;TZID=Europe/Berlin:20260602T174500
UID:251-404089-20260602T133000@VHSVOLKSHOCHSCHULE TRIER
SUMMARY:Integration: Zweitschriftlernerkurs (251-404089) 
LOCATION:Bürgerhaus Trier-Nord, R.209b, Hans-Eiden-Platz 3, 54292 Trier 
END:VEVENT
BEGIN:VEVENT
DTSTAMP:20260421T092443
DTSTART;TZID=Europe/Berlin:20260603T133000
DTEND;TZID=Europe/Berlin:20260603T174500
UID:251-404089-20260603T133000@VHSVOLKSHOCHSCHULE TRIER
SUMMARY:Integration: Zweitschriftlernerkurs (251-404089) 
LOCATION:Bürgerhaus Trier-Nord, R.209b, Hans-Eiden-Platz 3, 54292 Trier 
END:VEVENT
BEGIN:VEVENT
DTSTAMP:20260421T092443
DTSTART;TZID=Europe/Berlin:20260608T133000
DTEND;TZID=Europe/Berlin:20260608T174500
UID:251-404089-20260608T133000@VHSVOLKSHOCHSCHULE TRIER
SUMMARY:Integration: Zweitschriftlernerkurs (251-404089) 
LOCATION:Bürgerhaus Trier-Nord, R.209b, Hans-Eiden-Platz 3, 54292 Trier 
END:VEVENT
END:VCALENDAR