BEGIN:VCALENDAR
VERSION:2.0
PRODID:http://www.kufer.de/kuferweb / DE
METHOD:PUBLISH
CALSCALE:GREGORIAN
X-WR-TIMEZONE:Europe/Berlin
BEGIN:VTIMEZONE
TZID:Europe/Berlin
X-LIC-LOCATION:Europe/Berlin
BEGIN:DAYLIGHT
TZOFFSETFROM:+0100
TZOFFSETTO:+0200
TZNAME:CEST
DTSTART;TZID=Europe/Berlin:19700329T020000
RRULE:FREQ=YEARLY;INTERVAL=1;BYDAY=-1SU;BYMONTH=3
END:DAYLIGHT
BEGIN:STANDARD
TZOFFSETFROM:+0200
TZOFFSETTO:+0100
TZNAME:CET
DTSTART;TZID=Europe/Berlin:19701025T030000
RRULE:FREQ=YEARLY;INTERVAL=1;BYDAY=-1SU;BYMONTH=10
END:STANDARD
END:VTIMEZONE
BEGIN:VEVENT
DTSTAMP:20260419T162546
DTSTART;TZID=Europe/Berlin:20250305T183000
DTEND;TZID=Europe/Berlin:20250305T200000
UID:251-40466-20250305T183000@VHSVOLKSHOCHSCHULE TRIER
SUMMARY:B2.1 Deutsch als Fremdsprache (251-40466) 
LOCATION:Bürgerhaus Trier-Nord, R.205, Hans-Eiden-Platz 3, 54292 Trier 
END:VEVENT
BEGIN:VEVENT
DTSTAMP:20260419T162546
DTSTART;TZID=Europe/Berlin:20250310T183000
DTEND;TZID=Europe/Berlin:20250310T200000
UID:251-40466-20250310T183000@VHSVOLKSHOCHSCHULE TRIER
SUMMARY:B2.1 Deutsch als Fremdsprache (251-40466) 
LOCATION:Bürgerhaus Trier-Nord, R.205, Hans-Eiden-Platz 3, 54292 Trier 
END:VEVENT
BEGIN:VEVENT
DTSTAMP:20260419T162546
DTSTART;TZID=Europe/Berlin:20250312T183000
DTEND;TZID=Europe/Berlin:20250312T200000
UID:251-40466-20250312T183000@VHSVOLKSHOCHSCHULE TRIER
SUMMARY:B2.1 Deutsch als Fremdsprache (251-40466) 
LOCATION:Bürgerhaus Trier-Nord, R.205, Hans-Eiden-Platz 3, 54292 Trier 
END:VEVENT
BEGIN:VEVENT
DTSTAMP:20260419T162546
DTSTART;TZID=Europe/Berlin:20250317T183000
DTEND;TZID=Europe/Berlin:20250317T200000
UID:251-40466-20250317T183000@VHSVOLKSHOCHSCHULE TRIER
SUMMARY:B2.1 Deutsch als Fremdsprache (251-40466) 
LOCATION:Bürgerhaus Trier-Nord, R.205, Hans-Eiden-Platz 3, 54292 Trier 
END:VEVENT
BEGIN:VEVENT
DTSTAMP:20260419T162546
DTSTART;TZID=Europe/Berlin:20250319T183000
DTEND;TZID=Europe/Berlin:20250319T200000
UID:251-40466-20250319T183000@VHSVOLKSHOCHSCHULE TRIER
SUMMARY:B2.1 Deutsch als Fremdsprache (251-40466) 
LOCATION:Bürgerhaus Trier-Nord, R.205, Hans-Eiden-Platz 3, 54292 Trier 
END:VEVENT
BEGIN:VEVENT
DTSTAMP:20260419T162546
DTSTART;TZID=Europe/Berlin:20250324T183000
DTEND;TZID=Europe/Berlin:20250324T200000
UID:251-40466-20250324T183000@VHSVOLKSHOCHSCHULE TRIER
SUMMARY:B2.1 Deutsch als Fremdsprache (251-40466) 
LOCATION:Bürgerhaus Trier-Nord, R.205, Hans-Eiden-Platz 3, 54292 Trier 
END:VEVENT
BEGIN:VEVENT
DTSTAMP:20260419T162546
DTSTART;TZID=Europe/Berlin:20250326T183000
DTEND;TZID=Europe/Berlin:20250326T200000
UID:251-40466-20250326T183000@VHSVOLKSHOCHSCHULE TRIER
SUMMARY:B2.1 Deutsch als Fremdsprache (251-40466) 
LOCATION:Bürgerhaus Trier-Nord, R.205, Hans-Eiden-Platz 3, 54292 Trier 
END:VEVENT
BEGIN:VEVENT
DTSTAMP:20260419T162546
DTSTART;TZID=Europe/Berlin:20250331T183000
DTEND;TZID=Europe/Berlin:20250331T200000
UID:251-40466-20250331T183000@VHSVOLKSHOCHSCHULE TRIER
SUMMARY:B2.1 Deutsch als Fremdsprache (251-40466) 
LOCATION:Bürgerhaus Trier-Nord, R.205, Hans-Eiden-Platz 3, 54292 Trier 
END:VEVENT
BEGIN:VEVENT
DTSTAMP:20260419T162546
DTSTART;TZID=Europe/Berlin:20250402T183000
DTEND;TZID=Europe/Berlin:20250402T200000
UID:251-40466-20250402T183000@VHSVOLKSHOCHSCHULE TRIER
SUMMARY:B2.1 Deutsch als Fremdsprache (251-40466) 
LOCATION:Bürgerhaus Trier-Nord, R.205, Hans-Eiden-Platz 3, 54292 Trier 
END:VEVENT
BEGIN:VEVENT
DTSTAMP:20260419T162546
DTSTART;TZID=Europe/Berlin:20250407T183000
DTEND;TZID=Europe/Berlin:20250407T200000
UID:251-40466-20250407T183000@VHSVOLKSHOCHSCHULE TRIER
SUMMARY:B2.1 Deutsch als Fremdsprache (251-40466) 
LOCATION:Bürgerhaus Trier-Nord, R.205, Hans-Eiden-Platz 3, 54292 Trier 
END:VEVENT
BEGIN:VEVENT
DTSTAMP:20260419T162546
DTSTART;TZID=Europe/Berlin:20250409T183000
DTEND;TZID=Europe/Berlin:20250409T200000
UID:251-40466-20250409T183000@VHSVOLKSHOCHSCHULE TRIER
SUMMARY:B2.1 Deutsch als Fremdsprache (251-40466) 
LOCATION:Bürgerhaus Trier-Nord, R.205, Hans-Eiden-Platz 3, 54292 Trier 
END:VEVENT
BEGIN:VEVENT
DTSTAMP:20260419T162546
DTSTART;TZID=Europe/Berlin:20250428T183000
DTEND;TZID=Europe/Berlin:20250428T200000
UID:251-40466-20250428T183000@VHSVOLKSHOCHSCHULE TRIER
SUMMARY:B2.1 Deutsch als Fremdsprache (251-40466) 
LOCATION:Bürgerhaus Trier-Nord, R.205, Hans-Eiden-Platz 3, 54292 Trier 
END:VEVENT
BEGIN:VEVENT
DTSTAMP:20260419T162546
DTSTART;TZID=Europe/Berlin:20250430T183000
DTEND;TZID=Europe/Berlin:20250430T200000
UID:251-40466-20250430T183000@VHSVOLKSHOCHSCHULE TRIER
SUMMARY:B2.1 Deutsch als Fremdsprache (251-40466) 
LOCATION:Bürgerhaus Trier-Nord, R.205, Hans-Eiden-Platz 3, 54292 Trier 
END:VEVENT
BEGIN:VEVENT
DTSTAMP:20260419T162546
DTSTART;TZID=Europe/Berlin:20250505T183000
DTEND;TZID=Europe/Berlin:20250505T200000
UID:251-40466-20250505T183000@VHSVOLKSHOCHSCHULE TRIER
SUMMARY:B2.1 Deutsch als Fremdsprache (251-40466) 
LOCATION:Bürgerhaus Trier-Nord, R.205, Hans-Eiden-Platz 3, 54292 Trier 
END:VEVENT
BEGIN:VEVENT
DTSTAMP:20260419T162546
DTSTART;TZID=Europe/Berlin:20250507T183000
DTEND;TZID=Europe/Berlin:20250507T200000
UID:251-40466-20250507T183000@VHSVOLKSHOCHSCHULE TRIER
SUMMARY:B2.1 Deutsch als Fremdsprache (251-40466) 
LOCATION:Bürgerhaus Trier-Nord, R.205, Hans-Eiden-Platz 3, 54292 Trier 
END:VEVENT
BEGIN:VEVENT
DTSTAMP:20260419T162546
DTSTART;TZID=Europe/Berlin:20250512T183000
DTEND;TZID=Europe/Berlin:20250512T200000
UID:251-40466-20250512T183000@VHSVOLKSHOCHSCHULE TRIER
SUMMARY:B2.1 Deutsch als Fremdsprache (251-40466) 
LOCATION:Bürgerhaus Trier-Nord, R.205, Hans-Eiden-Platz 3, 54292 Trier 
END:VEVENT
BEGIN:VEVENT
DTSTAMP:20260419T162546
DTSTART;TZID=Europe/Berlin:20250514T183000
DTEND;TZID=Europe/Berlin:20250514T200000
UID:251-40466-20250514T183000@VHSVOLKSHOCHSCHULE TRIER
SUMMARY:B2.1 Deutsch als Fremdsprache (251-40466) 
LOCATION:Bürgerhaus Trier-Nord, R.205, Hans-Eiden-Platz 3, 54292 Trier 
END:VEVENT
BEGIN:VEVENT
DTSTAMP:20260419T162546
DTSTART;TZID=Europe/Berlin:20250519T183000
DTEND;TZID=Europe/Berlin:20250519T200000
UID:251-40466-20250519T183000@VHSVOLKSHOCHSCHULE TRIER
SUMMARY:B2.1 Deutsch als Fremdsprache (251-40466) 
LOCATION:Bürgerhaus Trier-Nord, R.205, Hans-Eiden-Platz 3, 54292 Trier 
END:VEVENT
BEGIN:VEVENT
DTSTAMP:20260419T162546
DTSTART;TZID=Europe/Berlin:20250521T183000
DTEND;TZID=Europe/Berlin:20250521T200000
UID:251-40466-20250521T183000@VHSVOLKSHOCHSCHULE TRIER
SUMMARY:B2.1 Deutsch als Fremdsprache (251-40466) 
LOCATION:Bürgerhaus Trier-Nord, R.205, Hans-Eiden-Platz 3, 54292 Trier 
END:VEVENT
BEGIN:VEVENT
DTSTAMP:20260419T162546
DTSTART;TZID=Europe/Berlin:20250526T183000
DTEND;TZID=Europe/Berlin:20250526T200000
UID:251-40466-20250526T183000@VHSVOLKSHOCHSCHULE TRIER
SUMMARY:B2.1 Deutsch als Fremdsprache (251-40466) 
LOCATION:Bürgerhaus Trier-Nord, R.205, Hans-Eiden-Platz 3, 54292 Trier 
END:VEVENT
BEGIN:VEVENT
DTSTAMP:20260419T162546
DTSTART;TZID=Europe/Berlin:20250528T183000
DTEND;TZID=Europe/Berlin:20250528T200000
UID:251-40466-20250528T183000@VHSVOLKSHOCHSCHULE TRIER
SUMMARY:B2.1 Deutsch als Fremdsprache (251-40466) 
LOCATION:Bürgerhaus Trier-Nord, R.205, Hans-Eiden-Platz 3, 54292 Trier 
END:VEVENT
BEGIN:VEVENT
DTSTAMP:20260419T162546
DTSTART;TZID=Europe/Berlin:20250602T183000
DTEND;TZID=Europe/Berlin:20250602T200000
UID:251-40466-20250602T183000@VHSVOLKSHOCHSCHULE TRIER
SUMMARY:B2.1 Deutsch als Fremdsprache (251-40466) 
LOCATION:Bürgerhaus Trier-Nord, R.205, Hans-Eiden-Platz 3, 54292 Trier 
END:VEVENT
BEGIN:VEVENT
DTSTAMP:20260419T162546
DTSTART;TZID=Europe/Berlin:20250604T183000
DTEND;TZID=Europe/Berlin:20250604T200000
UID:251-40466-20250604T183000@VHSVOLKSHOCHSCHULE TRIER
SUMMARY:B2.1 Deutsch als Fremdsprache (251-40466) 
LOCATION:Bürgerhaus Trier-Nord, R.205, Hans-Eiden-Platz 3, 54292 Trier 
END:VEVENT
BEGIN:VEVENT
DTSTAMP:20260419T162546
DTSTART;TZID=Europe/Berlin:20250611T183000
DTEND;TZID=Europe/Berlin:20250611T200000
UID:251-40466-20250611T183000@VHSVOLKSHOCHSCHULE TRIER
SUMMARY:B2.1 Deutsch als Fremdsprache (251-40466) 
LOCATION:Bürgerhaus Trier-Nord, R.205, Hans-Eiden-Platz 3, 54292 Trier 
END:VEVENT
BEGIN:VEVENT
DTSTAMP:20260419T162546
DTSTART;TZID=Europe/Berlin:20250616T183000
DTEND;TZID=Europe/Berlin:20250616T200000
UID:251-40466-20250616T183000@VHSVOLKSHOCHSCHULE TRIER
SUMMARY:B2.1 Deutsch als Fremdsprache (251-40466) 
LOCATION:Bürgerhaus Trier-Nord, R.205, Hans-Eiden-Platz 3, 54292 Trier 
END:VEVENT
BEGIN:VEVENT
DTSTAMP:20260419T162546
DTSTART;TZID=Europe/Berlin:20250618T183000
DTEND;TZID=Europe/Berlin:20250618T200000
UID:251-40466-20250618T183000@VHSVOLKSHOCHSCHULE TRIER
SUMMARY:B2.1 Deutsch als Fremdsprache (251-40466) 
LOCATION:Bürgerhaus Trier-Nord, R.205, Hans-Eiden-Platz 3, 54292 Trier 
END:VEVENT
BEGIN:VEVENT
DTSTAMP:20260419T162546
DTSTART;TZID=Europe/Berlin:20250623T183000
DTEND;TZID=Europe/Berlin:20250623T200000
UID:251-40466-20250623T183000@VHSVOLKSHOCHSCHULE TRIER
SUMMARY:B2.1 Deutsch als Fremdsprache (251-40466) 
LOCATION:Bürgerhaus Trier-Nord, R.205, Hans-Eiden-Platz 3, 54292 Trier 
END:VEVENT
BEGIN:VEVENT
DTSTAMP:20260419T162546
DTSTART;TZID=Europe/Berlin:20250625T183000
DTEND;TZID=Europe/Berlin:20250625T200000
UID:251-40466-20250625T183000@VHSVOLKSHOCHSCHULE TRIER
SUMMARY:B2.1 Deutsch als Fremdsprache (251-40466) 
LOCATION:Bürgerhaus Trier-Nord, R.205, Hans-Eiden-Platz 3, 54292 Trier 
END:VEVENT
BEGIN:VEVENT
DTSTAMP:20260419T162546
DTSTART;TZID=Europe/Berlin:20250630T183000
DTEND;TZID=Europe/Berlin:20250630T200000
UID:251-40466-20250630T183000@VHSVOLKSHOCHSCHULE TRIER
SUMMARY:B2.1 Deutsch als Fremdsprache (251-40466) 
LOCATION:Bürgerhaus Trier-Nord, R.205, Hans-Eiden-Platz 3, 54292 Trier 
END:VEVENT
BEGIN:VEVENT
DTSTAMP:20260419T162546
DTSTART;TZID=Europe/Berlin:20250702T183000
DTEND;TZID=Europe/Berlin:20250702T200000
UID:251-40466-20250702T183000@VHSVOLKSHOCHSCHULE TRIER
SUMMARY:B2.1 Deutsch als Fremdsprache (251-40466) 
LOCATION:Bürgerhaus Trier-Nord, R.205, Hans-Eiden-Platz 3, 54292 Trier 
END:VEVENT
BEGIN:VEVENT
DTSTAMP:20260419T162546
DTSTART;TZID=Europe/Berlin:20250707T183000
DTEND;TZID=Europe/Berlin:20250707T200000
UID:251-40466-20250707T183000@VHSVOLKSHOCHSCHULE TRIER
SUMMARY:B2.1 Deutsch als Fremdsprache (251-40466) 
LOCATION:Bürgerhaus Trier-Nord, R.205, Hans-Eiden-Platz 3, 54292 Trier 
END:VEVENT
BEGIN:VEVENT
DTSTAMP:20260419T162546
DTSTART;TZID=Europe/Berlin:20250709T183000
DTEND;TZID=Europe/Berlin:20250709T200000
UID:251-40466-20250709T183000@VHSVOLKSHOCHSCHULE TRIER
DESCRIPTION:Nachholtermin für.7.5.
SUMMARY:B2.1 Deutsch als Fremdsprache (251-40466) 
LOCATION:Bürgerhaus Trier-Nord, R.205, Hans-Eiden-Platz 3, 54292 Trier 
END:VEVENT
END:VCALENDAR