BEGIN:VCALENDAR
VERSION:2.0
PRODID:http://www.kufer.de/kuferweb / DE
METHOD:PUBLISH
CALSCALE:GREGORIAN
X-WR-TIMEZONE:Europe/Berlin
BEGIN:VTIMEZONE
TZID:Europe/Berlin
X-LIC-LOCATION:Europe/Berlin
BEGIN:DAYLIGHT
TZOFFSETFROM:+0100
TZOFFSETTO:+0200
TZNAME:CEST
DTSTART;TZID=Europe/Berlin:19700329T020000
RRULE:FREQ=YEARLY;INTERVAL=1;BYDAY=-1SU;BYMONTH=3
END:DAYLIGHT
BEGIN:STANDARD
TZOFFSETFROM:+0200
TZOFFSETTO:+0100
TZNAME:CET
DTSTART;TZID=Europe/Berlin:19701025T030000
RRULE:FREQ=YEARLY;INTERVAL=1;BYDAY=-1SU;BYMONTH=10
END:STANDARD
END:VTIMEZONE
BEGIN:VEVENT
DTSTAMP:20260419T144154
DTSTART;TZID=Europe/Berlin:20250217T193000
DTEND;TZID=Europe/Berlin:20250217T210000
UID:251-42601-20250217T193000@VHSVOLKSHOCHSCHULE TRIER
SUMMARY:A1 Luxemburgisch für Anfänger/innen ohne Vorkenntnisse Alles an der Rei - Lëtzebuergesch fir de Beruff an den Alldag, ab Lekt. 1 (251-42601) 
LOCATION:Berufsbildende Schule - Wirtschaft, B9, Irminenfreihof 9, 54290 Trier
END:VEVENT
BEGIN:VEVENT
DTSTAMP:20260419T144154
DTSTART;TZID=Europe/Berlin:20250224T193000
DTEND;TZID=Europe/Berlin:20250224T210000
UID:251-42601-20250224T193000@VHSVOLKSHOCHSCHULE TRIER
SUMMARY:A1 Luxemburgisch für Anfänger/innen ohne Vorkenntnisse Alles an der Rei - Lëtzebuergesch fir de Beruff an den Alldag, ab Lekt. 1 (251-42601) 
LOCATION:Berufsbildende Schule - Wirtschaft, B9, Irminenfreihof 9, 54290 Trier
END:VEVENT
BEGIN:VEVENT
DTSTAMP:20260419T144154
DTSTART;TZID=Europe/Berlin:20250310T193000
DTEND;TZID=Europe/Berlin:20250310T210000
UID:251-42601-20250310T193000@VHSVOLKSHOCHSCHULE TRIER
SUMMARY:A1 Luxemburgisch für Anfänger/innen ohne Vorkenntnisse Alles an der Rei - Lëtzebuergesch fir de Beruff an den Alldag, ab Lekt. 1 (251-42601) 
LOCATION:Berufsbildende Schule - Wirtschaft, B9, Irminenfreihof 9, 54290 Trier
END:VEVENT
BEGIN:VEVENT
DTSTAMP:20260419T144154
DTSTART;TZID=Europe/Berlin:20250317T193000
DTEND;TZID=Europe/Berlin:20250317T210000
UID:251-42601-20250317T193000@VHSVOLKSHOCHSCHULE TRIER
SUMMARY:A1 Luxemburgisch für Anfänger/innen ohne Vorkenntnisse Alles an der Rei - Lëtzebuergesch fir de Beruff an den Alldag, ab Lekt. 1 (251-42601) 
LOCATION:Berufsbildende Schule - Wirtschaft, B9, Irminenfreihof 9, 54290 Trier
END:VEVENT
BEGIN:VEVENT
DTSTAMP:20260419T144154
DTSTART;TZID=Europe/Berlin:20250324T193000
DTEND;TZID=Europe/Berlin:20250324T210000
UID:251-42601-20250324T193000@VHSVOLKSHOCHSCHULE TRIER
SUMMARY:A1 Luxemburgisch für Anfänger/innen ohne Vorkenntnisse Alles an der Rei - Lëtzebuergesch fir de Beruff an den Alldag, ab Lekt. 1 (251-42601) 
LOCATION:Berufsbildende Schule - Wirtschaft, B9, Irminenfreihof 9, 54290 Trier
END:VEVENT
BEGIN:VEVENT
DTSTAMP:20260419T144154
DTSTART;TZID=Europe/Berlin:20250331T193000
DTEND;TZID=Europe/Berlin:20250331T210000
UID:251-42601-20250331T193000@VHSVOLKSHOCHSCHULE TRIER
SUMMARY:A1 Luxemburgisch für Anfänger/innen ohne Vorkenntnisse Alles an der Rei - Lëtzebuergesch fir de Beruff an den Alldag, ab Lekt. 1 (251-42601) 
LOCATION:Berufsbildende Schule - Wirtschaft, B9, Irminenfreihof 9, 54290 Trier
END:VEVENT
BEGIN:VEVENT
DTSTAMP:20260419T144154
DTSTART;TZID=Europe/Berlin:20250407T193000
DTEND;TZID=Europe/Berlin:20250407T210000
UID:251-42601-20250407T193000@VHSVOLKSHOCHSCHULE TRIER
SUMMARY:A1 Luxemburgisch für Anfänger/innen ohne Vorkenntnisse Alles an der Rei - Lëtzebuergesch fir de Beruff an den Alldag, ab Lekt. 1 (251-42601) 
LOCATION:Berufsbildende Schule - Wirtschaft, B9, Irminenfreihof 9, 54290 Trier
END:VEVENT
BEGIN:VEVENT
DTSTAMP:20260419T144154
DTSTART;TZID=Europe/Berlin:20250428T193000
DTEND;TZID=Europe/Berlin:20250428T210000
UID:251-42601-20250428T193000@VHSVOLKSHOCHSCHULE TRIER
SUMMARY:A1 Luxemburgisch für Anfänger/innen ohne Vorkenntnisse Alles an der Rei - Lëtzebuergesch fir de Beruff an den Alldag, ab Lekt. 1 (251-42601) 
LOCATION:Berufsbildende Schule - Wirtschaft, B9, Irminenfreihof 9, 54290 Trier
END:VEVENT
BEGIN:VEVENT
DTSTAMP:20260419T144154
DTSTART;TZID=Europe/Berlin:20250505T193000
DTEND;TZID=Europe/Berlin:20250505T210000
UID:251-42601-20250505T193000@VHSVOLKSHOCHSCHULE TRIER
SUMMARY:A1 Luxemburgisch für Anfänger/innen ohne Vorkenntnisse Alles an der Rei - Lëtzebuergesch fir de Beruff an den Alldag, ab Lekt. 1 (251-42601) 
LOCATION:Berufsbildende Schule - Wirtschaft, B9, Irminenfreihof 9, 54290 Trier
END:VEVENT
BEGIN:VEVENT
DTSTAMP:20260419T144154
DTSTART;TZID=Europe/Berlin:20250512T193000
DTEND;TZID=Europe/Berlin:20250512T210000
UID:251-42601-20250512T193000@VHSVOLKSHOCHSCHULE TRIER
SUMMARY:A1 Luxemburgisch für Anfänger/innen ohne Vorkenntnisse Alles an der Rei - Lëtzebuergesch fir de Beruff an den Alldag, ab Lekt. 1 (251-42601) 
LOCATION:Berufsbildende Schule - Wirtschaft, B9, Irminenfreihof 9, 54290 Trier
END:VEVENT
BEGIN:VEVENT
DTSTAMP:20260419T144154
DTSTART;TZID=Europe/Berlin:20250519T193000
DTEND;TZID=Europe/Berlin:20250519T210000
UID:251-42601-20250519T193000@VHSVOLKSHOCHSCHULE TRIER
SUMMARY:A1 Luxemburgisch für Anfänger/innen ohne Vorkenntnisse Alles an der Rei - Lëtzebuergesch fir de Beruff an den Alldag, ab Lekt. 1 (251-42601) 
LOCATION:Berufsbildende Schule - Wirtschaft, B9, Irminenfreihof 9, 54290 Trier
END:VEVENT
BEGIN:VEVENT
DTSTAMP:20260419T144154
DTSTART;TZID=Europe/Berlin:20250526T193000
DTEND;TZID=Europe/Berlin:20250526T210000
UID:251-42601-20250526T193000@VHSVOLKSHOCHSCHULE TRIER
SUMMARY:A1 Luxemburgisch für Anfänger/innen ohne Vorkenntnisse Alles an der Rei - Lëtzebuergesch fir de Beruff an den Alldag, ab Lekt. 1 (251-42601) 
LOCATION:Berufsbildende Schule - Wirtschaft, B9, Irminenfreihof 9, 54290 Trier
END:VEVENT
BEGIN:VEVENT
DTSTAMP:20260419T144154
DTSTART;TZID=Europe/Berlin:20250602T193000
DTEND;TZID=Europe/Berlin:20250602T210000
UID:251-42601-20250602T193000@VHSVOLKSHOCHSCHULE TRIER
SUMMARY:A1 Luxemburgisch für Anfänger/innen ohne Vorkenntnisse Alles an der Rei - Lëtzebuergesch fir de Beruff an den Alldag, ab Lekt. 1 (251-42601) 
LOCATION:Berufsbildende Schule - Wirtschaft, B9, Irminenfreihof 9, 54290 Trier
END:VEVENT
BEGIN:VEVENT
DTSTAMP:20260419T144154
DTSTART;TZID=Europe/Berlin:20250616T193000
DTEND;TZID=Europe/Berlin:20250616T210000
UID:251-42601-20250616T193000@VHSVOLKSHOCHSCHULE TRIER
SUMMARY:A1 Luxemburgisch für Anfänger/innen ohne Vorkenntnisse Alles an der Rei - Lëtzebuergesch fir de Beruff an den Alldag, ab Lekt. 1 (251-42601) 
LOCATION:Berufsbildende Schule - Wirtschaft, B9, Irminenfreihof 9, 54290 Trier
END:VEVENT
BEGIN:VEVENT
DTSTAMP:20260419T144154
DTSTART;TZID=Europe/Berlin:20250623T193000
DTEND;TZID=Europe/Berlin:20250623T210000
UID:251-42601-20250623T193000@VHSVOLKSHOCHSCHULE TRIER
SUMMARY:A1 Luxemburgisch für Anfänger/innen ohne Vorkenntnisse Alles an der Rei - Lëtzebuergesch fir de Beruff an den Alldag, ab Lekt. 1 (251-42601) 
LOCATION:Berufsbildende Schule - Wirtschaft, B9, Irminenfreihof 9, 54290 Trier
END:VEVENT
END:VCALENDAR