BEGIN:VCALENDAR
VERSION:2.0
PRODID:http://www.kufer.de/kuferweb / DE
METHOD:PUBLISH
CALSCALE:GREGORIAN
X-WR-TIMEZONE:Europe/Berlin
BEGIN:VTIMEZONE
TZID:Europe/Berlin
X-LIC-LOCATION:Europe/Berlin
BEGIN:DAYLIGHT
TZOFFSETFROM:+0100
TZOFFSETTO:+0200
TZNAME:CEST
DTSTART;TZID=Europe/Berlin:19700329T020000
RRULE:FREQ=YEARLY;INTERVAL=1;BYDAY=-1SU;BYMONTH=3
END:DAYLIGHT
BEGIN:STANDARD
TZOFFSETFROM:+0200
TZOFFSETTO:+0100
TZNAME:CET
DTSTART;TZID=Europe/Berlin:19701025T030000
RRULE:FREQ=YEARLY;INTERVAL=1;BYDAY=-1SU;BYMONTH=10
END:STANDARD
END:VTIMEZONE
BEGIN:VEVENT
DTSTAMP:20260419T144307
DTSTART;TZID=Europe/Berlin:20251212T163000
DTEND;TZID=Europe/Berlin:20251212T173000
UID:252-30029-20251212T163000@VHSVOLKSHOCHSCHULE TRIER
SUMMARY:Tanzen 60+ Fortgeschrittene (252-30029) 
LOCATION:Tanzschule Dance in Trier, Bahnhofsplatz 1, 54292 Trier
END:VEVENT
BEGIN:VEVENT
DTSTAMP:20260419T144307
DTSTART;TZID=Europe/Berlin:20251219T163000
DTEND;TZID=Europe/Berlin:20251219T173000
UID:252-30029-20251219T163000@VHSVOLKSHOCHSCHULE TRIER
SUMMARY:Tanzen 60+ Fortgeschrittene (252-30029) 
LOCATION:Tanzschule Dance in Trier, Bahnhofsplatz 1, 54292 Trier
END:VEVENT
BEGIN:VEVENT
DTSTAMP:20260419T144307
DTSTART;TZID=Europe/Berlin:20260109T163000
DTEND;TZID=Europe/Berlin:20260109T173000
UID:252-30029-20260109T163000@VHSVOLKSHOCHSCHULE TRIER
SUMMARY:Tanzen 60+ Fortgeschrittene (252-30029) 
LOCATION:Tanzschule Dance in Trier, Bahnhofsplatz 1, 54292 Trier
END:VEVENT
BEGIN:VEVENT
DTSTAMP:20260419T144307
DTSTART;TZID=Europe/Berlin:20260116T163000
DTEND;TZID=Europe/Berlin:20260116T173000
UID:252-30029-20260116T163000@VHSVOLKSHOCHSCHULE TRIER
SUMMARY:Tanzen 60+ Fortgeschrittene (252-30029) 
LOCATION:Tanzschule Dance in Trier, Bahnhofsplatz 1, 54292 Trier
END:VEVENT
BEGIN:VEVENT
DTSTAMP:20260419T144307
DTSTART;TZID=Europe/Berlin:20260123T163000
DTEND;TZID=Europe/Berlin:20260123T173000
UID:252-30029-20260123T163000@VHSVOLKSHOCHSCHULE TRIER
SUMMARY:Tanzen 60+ Fortgeschrittene (252-30029) 
LOCATION:Tanzschule Dance in Trier, Bahnhofsplatz 1, 54292 Trier
END:VEVENT
BEGIN:VEVENT
DTSTAMP:20260419T144307
DTSTART;TZID=Europe/Berlin:20260130T163000
DTEND;TZID=Europe/Berlin:20260130T173000
UID:252-30029-20260130T163000@VHSVOLKSHOCHSCHULE TRIER
SUMMARY:Tanzen 60+ Fortgeschrittene (252-30029) 
LOCATION:Tanzschule Dance in Trier, Bahnhofsplatz 1, 54292 Trier
END:VEVENT
BEGIN:VEVENT
DTSTAMP:20260419T144307
DTSTART;TZID=Europe/Berlin:20260206T163000
DTEND;TZID=Europe/Berlin:20260206T173000
UID:252-30029-20260206T163000@VHSVOLKSHOCHSCHULE TRIER
SUMMARY:Tanzen 60+ Fortgeschrittene (252-30029) 
LOCATION:Tanzschule Dance in Trier, Bahnhofsplatz 1, 54292 Trier
END:VEVENT
BEGIN:VEVENT
DTSTAMP:20260419T144307
DTSTART;TZID=Europe/Berlin:20260220T163000
DTEND;TZID=Europe/Berlin:20260220T173000
UID:252-30029-20260220T163000@VHSVOLKSHOCHSCHULE TRIER
SUMMARY:Tanzen 60+ Fortgeschrittene (252-30029) 
LOCATION:Tanzschule Dance in Trier, Bahnhofsplatz 1, 54292 Trier
END:VEVENT
BEGIN:VEVENT
DTSTAMP:20260419T144307
DTSTART;TZID=Europe/Berlin:20260227T163000
DTEND;TZID=Europe/Berlin:20260227T173000
UID:252-30029-20260227T163000@VHSVOLKSHOCHSCHULE TRIER
SUMMARY:Tanzen 60+ Fortgeschrittene (252-30029) 
LOCATION:Tanzschule Dance in Trier, Bahnhofsplatz 1, 54292 Trier
END:VEVENT
BEGIN:VEVENT
DTSTAMP:20260419T144307
DTSTART;TZID=Europe/Berlin:20260306T163000
DTEND;TZID=Europe/Berlin:20260306T173000
UID:252-30029-20260306T163000@VHSVOLKSHOCHSCHULE TRIER
SUMMARY:Tanzen 60+ Fortgeschrittene (252-30029) 
LOCATION:Tanzschule Dance in Trier, Bahnhofsplatz 1, 54292 Trier
END:VEVENT
END:VCALENDAR