BEGIN:VCALENDAR
VERSION:2.0
PRODID:http://www.kufer.de/kuferweb / DE
METHOD:PUBLISH
CALSCALE:GREGORIAN
X-WR-TIMEZONE:Europe/Berlin
BEGIN:VTIMEZONE
TZID:Europe/Berlin
X-LIC-LOCATION:Europe/Berlin
BEGIN:DAYLIGHT
TZOFFSETFROM:+0100
TZOFFSETTO:+0200
TZNAME:CEST
DTSTART;TZID=Europe/Berlin:19700329T020000
RRULE:FREQ=YEARLY;INTERVAL=1;BYDAY=-1SU;BYMONTH=3
END:DAYLIGHT
BEGIN:STANDARD
TZOFFSETFROM:+0200
TZOFFSETTO:+0100
TZNAME:CET
DTSTART;TZID=Europe/Berlin:19701025T030000
RRULE:FREQ=YEARLY;INTERVAL=1;BYDAY=-1SU;BYMONTH=10
END:STANDARD
END:VTIMEZONE
BEGIN:VEVENT
DTSTAMP:20260419T144246
DTSTART;TZID=Europe/Berlin:20251211T170500
DTEND;TZID=Europe/Berlin:20251211T180500
UID:252-30219-20251211T170500@VHSVOLKSHOCHSCHULE TRIER
SUMMARY:Fit mit HIIT (252-30219) 
LOCATION:Turnhalle Heiligkreuz, Rotbachstr. 21, Trier
END:VEVENT
BEGIN:VEVENT
DTSTAMP:20260419T144246
DTSTART;TZID=Europe/Berlin:20251218T170500
DTEND;TZID=Europe/Berlin:20251218T180500
UID:252-30219-20251218T170500@VHSVOLKSHOCHSCHULE TRIER
SUMMARY:Fit mit HIIT (252-30219) 
LOCATION:Turnhalle Heiligkreuz, Rotbachstr. 21, Trier
END:VEVENT
BEGIN:VEVENT
DTSTAMP:20260419T144246
DTSTART;TZID=Europe/Berlin:20260108T170500
DTEND;TZID=Europe/Berlin:20260108T180500
UID:252-30219-20260108T170500@VHSVOLKSHOCHSCHULE TRIER
DESCRIPTION:wg. Wetter
SUMMARY:Fit mit HIIT (252-30219) 
LOCATION:Turnhalle Heiligkreuz, Rotbachstr. 21, Trier
END:VEVENT
BEGIN:VEVENT
DTSTAMP:20260419T144246
DTSTART;TZID=Europe/Berlin:20260115T170500
DTEND;TZID=Europe/Berlin:20260115T180500
UID:252-30219-20260115T170500@VHSVOLKSHOCHSCHULE TRIER
SUMMARY:Fit mit HIIT (252-30219) 
LOCATION:Turnhalle Heiligkreuz, Rotbachstr. 21, Trier
END:VEVENT
BEGIN:VEVENT
DTSTAMP:20260419T144246
DTSTART;TZID=Europe/Berlin:20260122T170500
DTEND;TZID=Europe/Berlin:20260122T180500
UID:252-30219-20260122T170500@VHSVOLKSHOCHSCHULE TRIER
SUMMARY:Fit mit HIIT (252-30219) 
LOCATION:Turnhalle Heiligkreuz, Rotbachstr. 21, Trier
END:VEVENT
BEGIN:VEVENT
DTSTAMP:20260419T144246
DTSTART;TZID=Europe/Berlin:20260129T170500
DTEND;TZID=Europe/Berlin:20260129T180500
UID:252-30219-20260129T170500@VHSVOLKSHOCHSCHULE TRIER
SUMMARY:Fit mit HIIT (252-30219) 
LOCATION:Turnhalle Heiligkreuz, Rotbachstr. 21, Trier
END:VEVENT
BEGIN:VEVENT
DTSTAMP:20260419T144246
DTSTART;TZID=Europe/Berlin:20260205T170500
DTEND;TZID=Europe/Berlin:20260205T180500
UID:252-30219-20260205T170500@VHSVOLKSHOCHSCHULE TRIER
DESCRIPTION:nicht an Weiberfastnacht
SUMMARY:Fit mit HIIT (252-30219) 
LOCATION:Turnhalle Heiligkreuz, Rotbachstr. 21, Trier
END:VEVENT
BEGIN:VEVENT
DTSTAMP:20260419T144246
DTSTART;TZID=Europe/Berlin:20260219T170500
DTEND;TZID=Europe/Berlin:20260219T180500
UID:252-30219-20260219T170500@VHSVOLKSHOCHSCHULE TRIER
SUMMARY:Fit mit HIIT (252-30219) 
LOCATION:Turnhalle Heiligkreuz, Rotbachstr. 21, Trier
END:VEVENT
BEGIN:VEVENT
DTSTAMP:20260419T144246
DTSTART;TZID=Europe/Berlin:20260226T170500
DTEND;TZID=Europe/Berlin:20260226T180500
UID:252-30219-20260226T170500@VHSVOLKSHOCHSCHULE TRIER
SUMMARY:Fit mit HIIT (252-30219) 
LOCATION:Turnhalle Heiligkreuz, Rotbachstr. 21, Trier
END:VEVENT
BEGIN:VEVENT
DTSTAMP:20260419T144246
DTSTART;TZID=Europe/Berlin:20260305T170500
DTEND;TZID=Europe/Berlin:20260305T180500
UID:252-30219-20260305T170500@VHSVOLKSHOCHSCHULE TRIER
SUMMARY:Fit mit HIIT (252-30219) 
LOCATION:Turnhalle Heiligkreuz, Rotbachstr. 21, Trier
END:VEVENT
END:VCALENDAR