BEGIN:VCALENDAR
VERSION:2.0
PRODID:http://www.kufer.de/kuferweb / DE
METHOD:PUBLISH
CALSCALE:GREGORIAN
X-WR-TIMEZONE:Europe/Berlin
BEGIN:VTIMEZONE
TZID:Europe/Berlin
X-LIC-LOCATION:Europe/Berlin
BEGIN:DAYLIGHT
TZOFFSETFROM:+0100
TZOFFSETTO:+0200
TZNAME:CEST
DTSTART;TZID=Europe/Berlin:19700329T020000
RRULE:FREQ=YEARLY;INTERVAL=1;BYDAY=-1SU;BYMONTH=3
END:DAYLIGHT
BEGIN:STANDARD
TZOFFSETFROM:+0200
TZOFFSETTO:+0100
TZNAME:CET
DTSTART;TZID=Europe/Berlin:19701025T030000
RRULE:FREQ=YEARLY;INTERVAL=1;BYDAY=-1SU;BYMONTH=10
END:STANDARD
END:VTIMEZONE
BEGIN:VEVENT
DTSTAMP:20260422T153318
DTSTART;TZID=Europe/Berlin:20260320T083000
DTEND;TZID=Europe/Berlin:20260320T124500
UID:252-404016-20260320T083000@VHSVOLKSHOCHSCHULE TRIER
SUMMARY:B1.2 Deutsch als Fremdsprache - Integrationskurs (252-404016) 
LOCATION:Bürgerhaus Trier-Nord, R.209a, Hans-Eiden-Platz 3, 54292 Trier 
END:VEVENT
BEGIN:VEVENT
DTSTAMP:20260422T153318
DTSTART;TZID=Europe/Berlin:20260323T083000
DTEND;TZID=Europe/Berlin:20260323T124500
UID:252-404016-20260323T083000@VHSVOLKSHOCHSCHULE TRIER
SUMMARY:B1.2 Deutsch als Fremdsprache - Integrationskurs (252-404016) 
LOCATION:Bürgerhaus Trier-Nord, R.209a, Hans-Eiden-Platz 3, 54292 Trier 
END:VEVENT
BEGIN:VEVENT
DTSTAMP:20260422T153318
DTSTART;TZID=Europe/Berlin:20260324T083000
DTEND;TZID=Europe/Berlin:20260324T124500
UID:252-404016-20260324T083000@VHSVOLKSHOCHSCHULE TRIER
SUMMARY:B1.2 Deutsch als Fremdsprache - Integrationskurs (252-404016) 
LOCATION:Bürgerhaus Trier-Nord, R.209a, Hans-Eiden-Platz 3, 54292 Trier 
END:VEVENT
BEGIN:VEVENT
DTSTAMP:20260422T153318
DTSTART;TZID=Europe/Berlin:20260325T083000
DTEND;TZID=Europe/Berlin:20260325T124500
UID:252-404016-20260325T083000@VHSVOLKSHOCHSCHULE TRIER
SUMMARY:B1.2 Deutsch als Fremdsprache - Integrationskurs (252-404016) 
LOCATION:Bürgerhaus Trier-Nord, R.209a, Hans-Eiden-Platz 3, 54292 Trier 
END:VEVENT
BEGIN:VEVENT
DTSTAMP:20260422T153318
DTSTART;TZID=Europe/Berlin:20260326T083000
DTEND;TZID=Europe/Berlin:20260326T124500
UID:252-404016-20260326T083000@VHSVOLKSHOCHSCHULE TRIER
SUMMARY:B1.2 Deutsch als Fremdsprache - Integrationskurs (252-404016) 
LOCATION:Bürgerhaus Trier-Nord, R.209a, Hans-Eiden-Platz 3, 54292 Trier 
END:VEVENT
BEGIN:VEVENT
DTSTAMP:20260422T153318
DTSTART;TZID=Europe/Berlin:20260327T083000
DTEND;TZID=Europe/Berlin:20260327T124500
UID:252-404016-20260327T083000@VHSVOLKSHOCHSCHULE TRIER
SUMMARY:B1.2 Deutsch als Fremdsprache - Integrationskurs (252-404016) 
LOCATION:Bürgerhaus Trier-Nord, R.209a, Hans-Eiden-Platz 3, 54292 Trier 
END:VEVENT
BEGIN:VEVENT
DTSTAMP:20260422T153318
DTSTART;TZID=Europe/Berlin:20260413T083000
DTEND;TZID=Europe/Berlin:20260413T124500
UID:252-404016-20260413T083000@VHSVOLKSHOCHSCHULE TRIER
SUMMARY:B1.2 Deutsch als Fremdsprache - Integrationskurs (252-404016) 
LOCATION:Bürgerhaus Trier-Nord, R.209a, Hans-Eiden-Platz 3, 54292 Trier 
END:VEVENT
BEGIN:VEVENT
DTSTAMP:20260422T153318
DTSTART;TZID=Europe/Berlin:20260414T083000
DTEND;TZID=Europe/Berlin:20260414T124500
UID:252-404016-20260414T083000@VHSVOLKSHOCHSCHULE TRIER
SUMMARY:B1.2 Deutsch als Fremdsprache - Integrationskurs (252-404016) 
LOCATION:Bürgerhaus Trier-Nord, R.209a, Hans-Eiden-Platz 3, 54292 Trier 
END:VEVENT
BEGIN:VEVENT
DTSTAMP:20260422T153318
DTSTART;TZID=Europe/Berlin:20260415T083000
DTEND;TZID=Europe/Berlin:20260415T124500
UID:252-404016-20260415T083000@VHSVOLKSHOCHSCHULE TRIER
SUMMARY:B1.2 Deutsch als Fremdsprache - Integrationskurs (252-404016) 
LOCATION:Bürgerhaus Trier-Nord, R.209a, Hans-Eiden-Platz 3, 54292 Trier 
END:VEVENT
BEGIN:VEVENT
DTSTAMP:20260422T153318
DTSTART;TZID=Europe/Berlin:20260416T083000
DTEND;TZID=Europe/Berlin:20260416T124500
UID:252-404016-20260416T083000@VHSVOLKSHOCHSCHULE TRIER
SUMMARY:B1.2 Deutsch als Fremdsprache - Integrationskurs (252-404016) 
LOCATION:Bürgerhaus Trier-Nord, R.209a, Hans-Eiden-Platz 3, 54292 Trier 
END:VEVENT
BEGIN:VEVENT
DTSTAMP:20260422T153318
DTSTART;TZID=Europe/Berlin:20260417T083000
DTEND;TZID=Europe/Berlin:20260417T124500
UID:252-404016-20260417T083000@VHSVOLKSHOCHSCHULE TRIER
SUMMARY:B1.2 Deutsch als Fremdsprache - Integrationskurs (252-404016) 
LOCATION:Bürgerhaus Trier-Nord, R.209a, Hans-Eiden-Platz 3, 54292 Trier 
END:VEVENT
BEGIN:VEVENT
DTSTAMP:20260422T153318
DTSTART;TZID=Europe/Berlin:20260420T083000
DTEND;TZID=Europe/Berlin:20260420T124500
UID:252-404016-20260420T083000@VHSVOLKSHOCHSCHULE TRIER
SUMMARY:B1.2 Deutsch als Fremdsprache - Integrationskurs (252-404016) 
LOCATION:Bürgerhaus Trier-Nord, R.209a, Hans-Eiden-Platz 3, 54292 Trier 
END:VEVENT
BEGIN:VEVENT
DTSTAMP:20260422T153318
DTSTART;TZID=Europe/Berlin:20260421T083000
DTEND;TZID=Europe/Berlin:20260421T124500
UID:252-404016-20260421T083000@VHSVOLKSHOCHSCHULE TRIER
SUMMARY:B1.2 Deutsch als Fremdsprache - Integrationskurs (252-404016) 
LOCATION:Bürgerhaus Trier-Nord, R.209a, Hans-Eiden-Platz 3, 54292 Trier 
END:VEVENT
BEGIN:VEVENT
DTSTAMP:20260422T153318
DTSTART;TZID=Europe/Berlin:20260422T083000
DTEND;TZID=Europe/Berlin:20260422T124500
UID:252-404016-20260422T083000@VHSVOLKSHOCHSCHULE TRIER
SUMMARY:B1.2 Deutsch als Fremdsprache - Integrationskurs (252-404016) 
LOCATION:Bürgerhaus Trier-Nord, R.209a, Hans-Eiden-Platz 3, 54292 Trier 
END:VEVENT
BEGIN:VEVENT
DTSTAMP:20260422T153318
DTSTART;TZID=Europe/Berlin:20260423T083000
DTEND;TZID=Europe/Berlin:20260423T124500
UID:252-404016-20260423T083000@VHSVOLKSHOCHSCHULE TRIER
SUMMARY:B1.2 Deutsch als Fremdsprache - Integrationskurs (252-404016) 
LOCATION:Bürgerhaus Trier-Nord, R.209a, Hans-Eiden-Platz 3, 54292 Trier 
END:VEVENT
BEGIN:VEVENT
DTSTAMP:20260422T153318
DTSTART;TZID=Europe/Berlin:20260424T083000
DTEND;TZID=Europe/Berlin:20260424T124500
UID:252-404016-20260424T083000@VHSVOLKSHOCHSCHULE TRIER
SUMMARY:B1.2 Deutsch als Fremdsprache - Integrationskurs (252-404016) 
LOCATION:Bürgerhaus Trier-Nord, R.209a, Hans-Eiden-Platz 3, 54292 Trier 
END:VEVENT
BEGIN:VEVENT
DTSTAMP:20260422T153318
DTSTART;TZID=Europe/Berlin:20260427T083000
DTEND;TZID=Europe/Berlin:20260427T124500
UID:252-404016-20260427T083000@VHSVOLKSHOCHSCHULE TRIER
SUMMARY:B1.2 Deutsch als Fremdsprache - Integrationskurs (252-404016) 
LOCATION:Bürgerhaus Trier-Nord, R.209a, Hans-Eiden-Platz 3, 54292 Trier 
END:VEVENT
BEGIN:VEVENT
DTSTAMP:20260422T153318
DTSTART;TZID=Europe/Berlin:20260428T083000
DTEND;TZID=Europe/Berlin:20260428T124500
UID:252-404016-20260428T083000@VHSVOLKSHOCHSCHULE TRIER
SUMMARY:B1.2 Deutsch als Fremdsprache - Integrationskurs (252-404016) 
LOCATION:Bürgerhaus Trier-Nord, R.209a, Hans-Eiden-Platz 3, 54292 Trier 
END:VEVENT
BEGIN:VEVENT
DTSTAMP:20260422T153318
DTSTART;TZID=Europe/Berlin:20260429T083000
DTEND;TZID=Europe/Berlin:20260429T124500
UID:252-404016-20260429T083000@VHSVOLKSHOCHSCHULE TRIER
SUMMARY:B1.2 Deutsch als Fremdsprache - Integrationskurs (252-404016) 
LOCATION:Bürgerhaus Trier-Nord, R.209a, Hans-Eiden-Platz 3, 54292 Trier 
END:VEVENT
BEGIN:VEVENT
DTSTAMP:20260422T153318
DTSTART;TZID=Europe/Berlin:20260430T083000
DTEND;TZID=Europe/Berlin:20260430T124500
UID:252-404016-20260430T083000@VHSVOLKSHOCHSCHULE TRIER
SUMMARY:B1.2 Deutsch als Fremdsprache - Integrationskurs (252-404016) 
LOCATION:Bürgerhaus Trier-Nord, R.209a, Hans-Eiden-Platz 3, 54292 Trier 
END:VEVENT
END:VCALENDAR