BEGIN:VCALENDAR
VERSION:2.0
PRODID:http://www.kufer.de/kuferweb / DE
METHOD:PUBLISH
CALSCALE:GREGORIAN
X-WR-TIMEZONE:Europe/Berlin
BEGIN:VTIMEZONE
TZID:Europe/Berlin
X-LIC-LOCATION:Europe/Berlin
BEGIN:DAYLIGHT
TZOFFSETFROM:+0100
TZOFFSETTO:+0200
TZNAME:CEST
DTSTART;TZID=Europe/Berlin:19700329T020000
RRULE:FREQ=YEARLY;INTERVAL=1;BYDAY=-1SU;BYMONTH=3
END:DAYLIGHT
BEGIN:STANDARD
TZOFFSETFROM:+0200
TZOFFSETTO:+0100
TZNAME:CET
DTSTART;TZID=Europe/Berlin:19701025T030000
RRULE:FREQ=YEARLY;INTERVAL=1;BYDAY=-1SU;BYMONTH=10
END:STANDARD
END:VTIMEZONE
BEGIN:VEVENT
DTSTAMP:20260424T150947
DTSTART;TZID=Europe/Berlin:20260505T083000
DTEND;TZID=Europe/Berlin:20260505T124500
UID:252-404024-20260505T083000@VHSVOLKSHOCHSCHULE TRIER
SUMMARY:A2.2 Deutsch als Fremdsprache - Integrationskurs (252-404024) 
LOCATION:Bürgerhaus Trier-Nord, R.210, Hans-Eiden-Platz 3, 54292 Trier 
END:VEVENT
BEGIN:VEVENT
DTSTAMP:20260424T150947
DTSTART;TZID=Europe/Berlin:20260506T083000
DTEND;TZID=Europe/Berlin:20260506T124500
UID:252-404024-20260506T083000@VHSVOLKSHOCHSCHULE TRIER
SUMMARY:A2.2 Deutsch als Fremdsprache - Integrationskurs (252-404024) 
LOCATION:Bürgerhaus Trier-Nord, R.210, Hans-Eiden-Platz 3, 54292 Trier 
END:VEVENT
BEGIN:VEVENT
DTSTAMP:20260424T150947
DTSTART;TZID=Europe/Berlin:20260507T083000
DTEND;TZID=Europe/Berlin:20260507T124500
UID:252-404024-20260507T083000@VHSVOLKSHOCHSCHULE TRIER
SUMMARY:A2.2 Deutsch als Fremdsprache - Integrationskurs (252-404024) 
LOCATION:Bürgerhaus Trier-Nord, R.210, Hans-Eiden-Platz 3, 54292 Trier 
END:VEVENT
BEGIN:VEVENT
DTSTAMP:20260424T150947
DTSTART;TZID=Europe/Berlin:20260508T083000
DTEND;TZID=Europe/Berlin:20260508T124500
UID:252-404024-20260508T083000@VHSVOLKSHOCHSCHULE TRIER
SUMMARY:A2.2 Deutsch als Fremdsprache - Integrationskurs (252-404024) 
LOCATION:Bürgerhaus Trier-Nord, R.210, Hans-Eiden-Platz 3, 54292 Trier 
END:VEVENT
BEGIN:VEVENT
DTSTAMP:20260424T150947
DTSTART;TZID=Europe/Berlin:20260511T083000
DTEND;TZID=Europe/Berlin:20260511T124500
UID:252-404024-20260511T083000@VHSVOLKSHOCHSCHULE TRIER
SUMMARY:A2.2 Deutsch als Fremdsprache - Integrationskurs (252-404024) 
LOCATION:Bürgerhaus Trier-Nord, R.210, Hans-Eiden-Platz 3, 54292 Trier 
END:VEVENT
BEGIN:VEVENT
DTSTAMP:20260424T150947
DTSTART;TZID=Europe/Berlin:20260512T083000
DTEND;TZID=Europe/Berlin:20260512T124500
UID:252-404024-20260512T083000@VHSVOLKSHOCHSCHULE TRIER
SUMMARY:A2.2 Deutsch als Fremdsprache - Integrationskurs (252-404024) 
LOCATION:Bürgerhaus Trier-Nord, R.210, Hans-Eiden-Platz 3, 54292 Trier 
END:VEVENT
BEGIN:VEVENT
DTSTAMP:20260424T150947
DTSTART;TZID=Europe/Berlin:20260513T083000
DTEND;TZID=Europe/Berlin:20260513T124500
UID:252-404024-20260513T083000@VHSVOLKSHOCHSCHULE TRIER
SUMMARY:A2.2 Deutsch als Fremdsprache - Integrationskurs (252-404024) 
LOCATION:Bürgerhaus Trier-Nord, R.210, Hans-Eiden-Platz 3, 54292 Trier 
END:VEVENT
BEGIN:VEVENT
DTSTAMP:20260424T150947
DTSTART;TZID=Europe/Berlin:20260518T083000
DTEND;TZID=Europe/Berlin:20260518T124500
UID:252-404024-20260518T083000@VHSVOLKSHOCHSCHULE TRIER
SUMMARY:A2.2 Deutsch als Fremdsprache - Integrationskurs (252-404024) 
LOCATION:Bürgerhaus Trier-Nord, R.210, Hans-Eiden-Platz 3, 54292 Trier 
END:VEVENT
BEGIN:VEVENT
DTSTAMP:20260424T150947
DTSTART;TZID=Europe/Berlin:20260519T083000
DTEND;TZID=Europe/Berlin:20260519T124500
UID:252-404024-20260519T083000@VHSVOLKSHOCHSCHULE TRIER
SUMMARY:A2.2 Deutsch als Fremdsprache - Integrationskurs (252-404024) 
LOCATION:Bürgerhaus Trier-Nord, R.210, Hans-Eiden-Platz 3, 54292 Trier 
END:VEVENT
BEGIN:VEVENT
DTSTAMP:20260424T150947
DTSTART;TZID=Europe/Berlin:20260520T083000
DTEND;TZID=Europe/Berlin:20260520T124500
UID:252-404024-20260520T083000@VHSVOLKSHOCHSCHULE TRIER
SUMMARY:A2.2 Deutsch als Fremdsprache - Integrationskurs (252-404024) 
LOCATION:Bürgerhaus Trier-Nord, R.210, Hans-Eiden-Platz 3, 54292 Trier 
END:VEVENT
BEGIN:VEVENT
DTSTAMP:20260424T150947
DTSTART;TZID=Europe/Berlin:20260521T083000
DTEND;TZID=Europe/Berlin:20260521T124500
UID:252-404024-20260521T083000@VHSVOLKSHOCHSCHULE TRIER
SUMMARY:A2.2 Deutsch als Fremdsprache - Integrationskurs (252-404024) 
LOCATION:Bürgerhaus Trier-Nord, R.210, Hans-Eiden-Platz 3, 54292 Trier 
END:VEVENT
BEGIN:VEVENT
DTSTAMP:20260424T150947
DTSTART;TZID=Europe/Berlin:20260522T083000
DTEND;TZID=Europe/Berlin:20260522T124500
UID:252-404024-20260522T083000@VHSVOLKSHOCHSCHULE TRIER
SUMMARY:A2.2 Deutsch als Fremdsprache - Integrationskurs (252-404024) 
LOCATION:Bürgerhaus Trier-Nord, R.210, Hans-Eiden-Platz 3, 54292 Trier 
END:VEVENT
BEGIN:VEVENT
DTSTAMP:20260424T150947
DTSTART;TZID=Europe/Berlin:20260526T083000
DTEND;TZID=Europe/Berlin:20260526T124500
UID:252-404024-20260526T083000@VHSVOLKSHOCHSCHULE TRIER
SUMMARY:A2.2 Deutsch als Fremdsprache - Integrationskurs (252-404024) 
LOCATION:Bürgerhaus Trier-Nord, R.210, Hans-Eiden-Platz 3, 54292 Trier 
END:VEVENT
BEGIN:VEVENT
DTSTAMP:20260424T150947
DTSTART;TZID=Europe/Berlin:20260527T083000
DTEND;TZID=Europe/Berlin:20260527T124500
UID:252-404024-20260527T083000@VHSVOLKSHOCHSCHULE TRIER
SUMMARY:A2.2 Deutsch als Fremdsprache - Integrationskurs (252-404024) 
LOCATION:Bürgerhaus Trier-Nord, R.210, Hans-Eiden-Platz 3, 54292 Trier 
END:VEVENT
BEGIN:VEVENT
DTSTAMP:20260424T150947
DTSTART;TZID=Europe/Berlin:20260528T083000
DTEND;TZID=Europe/Berlin:20260528T124500
UID:252-404024-20260528T083000@VHSVOLKSHOCHSCHULE TRIER
SUMMARY:A2.2 Deutsch als Fremdsprache - Integrationskurs (252-404024) 
LOCATION:Bürgerhaus Trier-Nord, R.210, Hans-Eiden-Platz 3, 54292 Trier 
END:VEVENT
BEGIN:VEVENT
DTSTAMP:20260424T150947
DTSTART;TZID=Europe/Berlin:20260529T083000
DTEND;TZID=Europe/Berlin:20260529T124500
UID:252-404024-20260529T083000@VHSVOLKSHOCHSCHULE TRIER
SUMMARY:A2.2 Deutsch als Fremdsprache - Integrationskurs (252-404024) 
LOCATION:Bürgerhaus Trier-Nord, R.210, Hans-Eiden-Platz 3, 54292 Trier 
END:VEVENT
BEGIN:VEVENT
DTSTAMP:20260424T150947
DTSTART;TZID=Europe/Berlin:20260601T083000
DTEND;TZID=Europe/Berlin:20260601T124500
UID:252-404024-20260601T083000@VHSVOLKSHOCHSCHULE TRIER
SUMMARY:A2.2 Deutsch als Fremdsprache - Integrationskurs (252-404024) 
LOCATION:Bürgerhaus Trier-Nord, R.210, Hans-Eiden-Platz 3, 54292 Trier 
END:VEVENT
BEGIN:VEVENT
DTSTAMP:20260424T150947
DTSTART;TZID=Europe/Berlin:20260602T083000
DTEND;TZID=Europe/Berlin:20260602T124500
UID:252-404024-20260602T083000@VHSVOLKSHOCHSCHULE TRIER
SUMMARY:A2.2 Deutsch als Fremdsprache - Integrationskurs (252-404024) 
LOCATION:Bürgerhaus Trier-Nord, R.210, Hans-Eiden-Platz 3, 54292 Trier 
END:VEVENT
BEGIN:VEVENT
DTSTAMP:20260424T150947
DTSTART;TZID=Europe/Berlin:20260603T083000
DTEND;TZID=Europe/Berlin:20260603T124500
UID:252-404024-20260603T083000@VHSVOLKSHOCHSCHULE TRIER
SUMMARY:A2.2 Deutsch als Fremdsprache - Integrationskurs (252-404024) 
LOCATION:Bürgerhaus Trier-Nord, R.210, Hans-Eiden-Platz 3, 54292 Trier 
END:VEVENT
BEGIN:VEVENT
DTSTAMP:20260424T150947
DTSTART;TZID=Europe/Berlin:20260608T083000
DTEND;TZID=Europe/Berlin:20260608T124500
UID:252-404024-20260608T083000@VHSVOLKSHOCHSCHULE TRIER
SUMMARY:A2.2 Deutsch als Fremdsprache - Integrationskurs (252-404024) 
LOCATION:Bürgerhaus Trier-Nord, R.210, Hans-Eiden-Platz 3, 54292 Trier 
END:VEVENT
END:VCALENDAR