BEGIN:VCALENDAR
VERSION:2.0
PRODID:http://www.kufer.de/kuferweb / DE
METHOD:PUBLISH
CALSCALE:GREGORIAN
X-WR-TIMEZONE:Europe/Berlin
BEGIN:VTIMEZONE
TZID:Europe/Berlin
X-LIC-LOCATION:Europe/Berlin
BEGIN:DAYLIGHT
TZOFFSETFROM:+0100
TZOFFSETTO:+0200
TZNAME:CEST
DTSTART;TZID=Europe/Berlin:19700329T020000
RRULE:FREQ=YEARLY;INTERVAL=1;BYDAY=-1SU;BYMONTH=3
END:DAYLIGHT
BEGIN:STANDARD
TZOFFSETFROM:+0200
TZOFFSETTO:+0100
TZNAME:CET
DTSTART;TZID=Europe/Berlin:19701025T030000
RRULE:FREQ=YEARLY;INTERVAL=1;BYDAY=-1SU;BYMONTH=10
END:STANDARD
END:VTIMEZONE
BEGIN:VEVENT
DTSTAMP:20260424T190709
DTSTART;TZID=Europe/Berlin:20260401T090000
DTEND;TZID=Europe/Berlin:20260401T180000
UID:261-10001-20260401T090000@VHSVOLKSHOCHSCHULE TRIER
SUMMARY:Demokratie stärken – Rechtsextremismus bekämpfen - Ausstellung (261-10001) 
LOCATION:Domfreihof, Atrium, Domfreihof 1b, 54290 Trier
END:VEVENT
BEGIN:VEVENT
DTSTAMP:20260424T190709
DTSTART;TZID=Europe/Berlin:20260402T090000
DTEND;TZID=Europe/Berlin:20260402T180000
UID:261-10001-20260402T090000@VHSVOLKSHOCHSCHULE TRIER
SUMMARY:Demokratie stärken – Rechtsextremismus bekämpfen - Ausstellung (261-10001) 
LOCATION:Domfreihof, Atrium, Domfreihof 1b, 54290 Trier
END:VEVENT
BEGIN:VEVENT
DTSTAMP:20260424T190709
DTSTART;TZID=Europe/Berlin:20260403T090000
DTEND;TZID=Europe/Berlin:20260403T180000
UID:261-10001-20260403T090000@VHSVOLKSHOCHSCHULE TRIER
SUMMARY:Demokratie stärken – Rechtsextremismus bekämpfen - Ausstellung (261-10001) 
LOCATION:Domfreihof, Atrium, Domfreihof 1b, 54290 Trier
END:VEVENT
BEGIN:VEVENT
DTSTAMP:20260424T190709
DTSTART;TZID=Europe/Berlin:20260404T090000
DTEND;TZID=Europe/Berlin:20260404T180000
UID:261-10001-20260404T090000@VHSVOLKSHOCHSCHULE TRIER
SUMMARY:Demokratie stärken – Rechtsextremismus bekämpfen - Ausstellung (261-10001) 
LOCATION:Domfreihof, Atrium, Domfreihof 1b, 54290 Trier
END:VEVENT
BEGIN:VEVENT
DTSTAMP:20260424T190709
DTSTART;TZID=Europe/Berlin:20260406T090000
DTEND;TZID=Europe/Berlin:20260406T180000
UID:261-10001-20260406T090000@VHSVOLKSHOCHSCHULE TRIER
SUMMARY:Demokratie stärken – Rechtsextremismus bekämpfen - Ausstellung (261-10001) 
LOCATION:Domfreihof, Atrium, Domfreihof 1b, 54290 Trier
END:VEVENT
BEGIN:VEVENT
DTSTAMP:20260424T190709
DTSTART;TZID=Europe/Berlin:20260407T090000
DTEND;TZID=Europe/Berlin:20260407T180000
UID:261-10001-20260407T090000@VHSVOLKSHOCHSCHULE TRIER
SUMMARY:Demokratie stärken – Rechtsextremismus bekämpfen - Ausstellung (261-10001) 
LOCATION:Domfreihof, Atrium, Domfreihof 1b, 54290 Trier
END:VEVENT
BEGIN:VEVENT
DTSTAMP:20260424T190709
DTSTART;TZID=Europe/Berlin:20260408T090000
DTEND;TZID=Europe/Berlin:20260408T180000
UID:261-10001-20260408T090000@VHSVOLKSHOCHSCHULE TRIER
SUMMARY:Demokratie stärken – Rechtsextremismus bekämpfen - Ausstellung (261-10001) 
LOCATION:Domfreihof, Atrium, Domfreihof 1b, 54290 Trier
END:VEVENT
BEGIN:VEVENT
DTSTAMP:20260424T190709
DTSTART;TZID=Europe/Berlin:20260409T090000
DTEND;TZID=Europe/Berlin:20260409T180000
UID:261-10001-20260409T090000@VHSVOLKSHOCHSCHULE TRIER
SUMMARY:Demokratie stärken – Rechtsextremismus bekämpfen - Ausstellung (261-10001) 
LOCATION:Domfreihof, Atrium, Domfreihof 1b, 54290 Trier
END:VEVENT
BEGIN:VEVENT
DTSTAMP:20260424T190709
DTSTART;TZID=Europe/Berlin:20260410T090000
DTEND;TZID=Europe/Berlin:20260410T180000
UID:261-10001-20260410T090000@VHSVOLKSHOCHSCHULE TRIER
SUMMARY:Demokratie stärken – Rechtsextremismus bekämpfen - Ausstellung (261-10001) 
LOCATION:Domfreihof, Atrium, Domfreihof 1b, 54290 Trier
END:VEVENT
BEGIN:VEVENT
DTSTAMP:20260424T190709
DTSTART;TZID=Europe/Berlin:20260411T090000
DTEND;TZID=Europe/Berlin:20260411T180000
UID:261-10001-20260411T090000@VHSVOLKSHOCHSCHULE TRIER
SUMMARY:Demokratie stärken – Rechtsextremismus bekämpfen - Ausstellung (261-10001) 
LOCATION:Domfreihof, Atrium, Domfreihof 1b, 54290 Trier
END:VEVENT
BEGIN:VEVENT
DTSTAMP:20260424T190709
DTSTART;TZID=Europe/Berlin:20260413T090000
DTEND;TZID=Europe/Berlin:20260413T180000
UID:261-10001-20260413T090000@VHSVOLKSHOCHSCHULE TRIER
SUMMARY:Demokratie stärken – Rechtsextremismus bekämpfen - Ausstellung (261-10001) 
LOCATION:Domfreihof, Atrium, Domfreihof 1b, 54290 Trier
END:VEVENT
BEGIN:VEVENT
DTSTAMP:20260424T190709
DTSTART;TZID=Europe/Berlin:20260414T090000
DTEND;TZID=Europe/Berlin:20260414T180000
UID:261-10001-20260414T090000@VHSVOLKSHOCHSCHULE TRIER
SUMMARY:Demokratie stärken – Rechtsextremismus bekämpfen - Ausstellung (261-10001) 
LOCATION:Domfreihof, Atrium, Domfreihof 1b, 54290 Trier
END:VEVENT
BEGIN:VEVENT
DTSTAMP:20260424T190709
DTSTART;TZID=Europe/Berlin:20260415T090000
DTEND;TZID=Europe/Berlin:20260415T180000
UID:261-10001-20260415T090000@VHSVOLKSHOCHSCHULE TRIER
SUMMARY:Demokratie stärken – Rechtsextremismus bekämpfen - Ausstellung (261-10001) 
LOCATION:Domfreihof, Atrium, Domfreihof 1b, 54290 Trier
END:VEVENT
BEGIN:VEVENT
DTSTAMP:20260424T190709
DTSTART;TZID=Europe/Berlin:20260416T090000
DTEND;TZID=Europe/Berlin:20260416T180000
UID:261-10001-20260416T090000@VHSVOLKSHOCHSCHULE TRIER
SUMMARY:Demokratie stärken – Rechtsextremismus bekämpfen - Ausstellung (261-10001) 
LOCATION:Domfreihof, Atrium, Domfreihof 1b, 54290 Trier
END:VEVENT
BEGIN:VEVENT
DTSTAMP:20260424T190709
DTSTART;TZID=Europe/Berlin:20260417T090000
DTEND;TZID=Europe/Berlin:20260417T180000
UID:261-10001-20260417T090000@VHSVOLKSHOCHSCHULE TRIER
SUMMARY:Demokratie stärken – Rechtsextremismus bekämpfen - Ausstellung (261-10001) 
LOCATION:Domfreihof, Atrium, Domfreihof 1b, 54290 Trier
END:VEVENT
BEGIN:VEVENT
DTSTAMP:20260424T190709
DTSTART;TZID=Europe/Berlin:20260418T090000
DTEND;TZID=Europe/Berlin:20260418T180000
UID:261-10001-20260418T090000@VHSVOLKSHOCHSCHULE TRIER
SUMMARY:Demokratie stärken – Rechtsextremismus bekämpfen - Ausstellung (261-10001) 
LOCATION:Domfreihof, Atrium, Domfreihof 1b, 54290 Trier
END:VEVENT
BEGIN:VEVENT
DTSTAMP:20260424T190709
DTSTART;TZID=Europe/Berlin:20260420T090000
DTEND;TZID=Europe/Berlin:20260420T180000
UID:261-10001-20260420T090000@VHSVOLKSHOCHSCHULE TRIER
SUMMARY:Demokratie stärken – Rechtsextremismus bekämpfen - Ausstellung (261-10001) 
LOCATION:Domfreihof, Atrium, Domfreihof 1b, 54290 Trier
END:VEVENT
BEGIN:VEVENT
DTSTAMP:20260424T190709
DTSTART;TZID=Europe/Berlin:20260421T090000
DTEND;TZID=Europe/Berlin:20260421T180000
UID:261-10001-20260421T090000@VHSVOLKSHOCHSCHULE TRIER
SUMMARY:Demokratie stärken – Rechtsextremismus bekämpfen - Ausstellung (261-10001) 
LOCATION:Domfreihof, Atrium, Domfreihof 1b, 54290 Trier
END:VEVENT
BEGIN:VEVENT
DTSTAMP:20260424T190709
DTSTART;TZID=Europe/Berlin:20260422T090000
DTEND;TZID=Europe/Berlin:20260422T180000
UID:261-10001-20260422T090000@VHSVOLKSHOCHSCHULE TRIER
SUMMARY:Demokratie stärken – Rechtsextremismus bekämpfen - Ausstellung (261-10001) 
LOCATION:Domfreihof, Atrium, Domfreihof 1b, 54290 Trier
END:VEVENT
BEGIN:VEVENT
DTSTAMP:20260424T190709
DTSTART;TZID=Europe/Berlin:20260423T090000
DTEND;TZID=Europe/Berlin:20260423T180000
UID:261-10001-20260423T090000@VHSVOLKSHOCHSCHULE TRIER
SUMMARY:Demokratie stärken – Rechtsextremismus bekämpfen - Ausstellung (261-10001) 
LOCATION:Domfreihof, Atrium, Domfreihof 1b, 54290 Trier
END:VEVENT
BEGIN:VEVENT
DTSTAMP:20260424T190709
DTSTART;TZID=Europe/Berlin:20260424T090000
DTEND;TZID=Europe/Berlin:20260424T180000
UID:261-10001-20260424T090000@VHSVOLKSHOCHSCHULE TRIER
SUMMARY:Demokratie stärken – Rechtsextremismus bekämpfen - Ausstellung (261-10001) 
LOCATION:Domfreihof, Atrium, Domfreihof 1b, 54290 Trier
END:VEVENT
BEGIN:VEVENT
DTSTAMP:20260424T190709
DTSTART;TZID=Europe/Berlin:20260425T090000
DTEND;TZID=Europe/Berlin:20260425T180000
UID:261-10001-20260425T090000@VHSVOLKSHOCHSCHULE TRIER
SUMMARY:Demokratie stärken – Rechtsextremismus bekämpfen - Ausstellung (261-10001) 
LOCATION:Domfreihof, Atrium, Domfreihof 1b, 54290 Trier
END:VEVENT
END:VCALENDAR