BEGIN:VCALENDAR
VERSION:2.0
PRODID:http://www.kufer.de/kuferweb / DE
METHOD:PUBLISH
CALSCALE:GREGORIAN
X-WR-TIMEZONE:Europe/Berlin
BEGIN:VTIMEZONE
TZID:Europe/Berlin
X-LIC-LOCATION:Europe/Berlin
BEGIN:DAYLIGHT
TZOFFSETFROM:+0100
TZOFFSETTO:+0200
TZNAME:CEST
DTSTART;TZID=Europe/Berlin:19700329T020000
RRULE:FREQ=YEARLY;INTERVAL=1;BYDAY=-1SU;BYMONTH=3
END:DAYLIGHT
BEGIN:STANDARD
TZOFFSETFROM:+0200
TZOFFSETTO:+0100
TZNAME:CET
DTSTART;TZID=Europe/Berlin:19701025T030000
RRULE:FREQ=YEARLY;INTERVAL=1;BYDAY=-1SU;BYMONTH=10
END:STANDARD
END:VTIMEZONE
BEGIN:VEVENT
DTSTAMP:20260422T134509
DTSTART;TZID=Europe/Berlin:20260314T150000
DTEND;TZID=Europe/Berlin:20260314T180000
UID:261-20912-20260314T150000@VHSVOLKSHOCHSCHULE TRIER
SUMMARY:Freundinnen-Nähkurs am Samstag - kommunikativ und kreativ (261-20912) 
LOCATION:Bürgerhaus Trier-Nord, R.209a, Hans-Eiden-Platz 3, 54292 Trier 
END:VEVENT
BEGIN:VEVENT
DTSTAMP:20260422T134509
DTSTART;TZID=Europe/Berlin:20260418T150000
DTEND;TZID=Europe/Berlin:20260418T180000
UID:261-20912-20260418T150000@VHSVOLKSHOCHSCHULE TRIER
SUMMARY:Freundinnen-Nähkurs am Samstag - kommunikativ und kreativ (261-20912) 
LOCATION:Bürgerhaus Trier-Nord, R.209a, Hans-Eiden-Platz 3, 54292 Trier 
END:VEVENT
BEGIN:VEVENT
DTSTAMP:20260422T134509
DTSTART;TZID=Europe/Berlin:20260509T150000
DTEND;TZID=Europe/Berlin:20260509T180000
UID:261-20912-20260509T150000@VHSVOLKSHOCHSCHULE TRIER
SUMMARY:Freundinnen-Nähkurs am Samstag - kommunikativ und kreativ (261-20912) 
LOCATION:Bürgerhaus Trier-Nord, R.209a, Hans-Eiden-Platz 3, 54292 Trier 
END:VEVENT
BEGIN:VEVENT
DTSTAMP:20260422T134509
DTSTART;TZID=Europe/Berlin:20260613T150000
DTEND;TZID=Europe/Berlin:20260613T180000
UID:261-20912-20260613T150000@VHSVOLKSHOCHSCHULE TRIER
SUMMARY:Freundinnen-Nähkurs am Samstag - kommunikativ und kreativ (261-20912) 
LOCATION:Bürgerhaus Trier-Nord, R.209a, Hans-Eiden-Platz 3, 54292 Trier 
END:VEVENT
BEGIN:VEVENT
DTSTAMP:20260422T134509
DTSTART;TZID=Europe/Berlin:20260627T150000
DTEND;TZID=Europe/Berlin:20260627T180000
UID:261-20912-20260627T150000@VHSVOLKSHOCHSCHULE TRIER
SUMMARY:Freundinnen-Nähkurs am Samstag - kommunikativ und kreativ (261-20912) 
LOCATION:Bürgerhaus Trier-Nord, R.209a, Hans-Eiden-Platz 3, 54292 Trier 
END:VEVENT
END:VCALENDAR