BEGIN:VCALENDAR
VERSION:2.0
PRODID:http://www.kufer.de/kuferweb / DE
METHOD:PUBLISH
CALSCALE:GREGORIAN
X-WR-TIMEZONE:Europe/Berlin
BEGIN:VTIMEZONE
TZID:Europe/Berlin
X-LIC-LOCATION:Europe/Berlin
BEGIN:DAYLIGHT
TZOFFSETFROM:+0100
TZOFFSETTO:+0200
TZNAME:CEST
DTSTART;TZID=Europe/Berlin:19700329T020000
RRULE:FREQ=YEARLY;INTERVAL=1;BYDAY=-1SU;BYMONTH=3
END:DAYLIGHT
BEGIN:STANDARD
TZOFFSETFROM:+0200
TZOFFSETTO:+0100
TZNAME:CET
DTSTART;TZID=Europe/Berlin:19701025T030000
RRULE:FREQ=YEARLY;INTERVAL=1;BYDAY=-1SU;BYMONTH=10
END:STANDARD
END:VTIMEZONE
BEGIN:VEVENT
DTSTAMP:20260419T181652
DTSTART;TZID=Europe/Berlin:20260304T193000
DTEND;TZID=Europe/Berlin:20260304T210000
UID:261-30101-20260304T193000@VHSVOLKSHOCHSCHULE TRIER
SUMMARY:Autogenes Training Kurs-ID:KU-ST-3GUVT7 (261-30101) 
LOCATION:Karl-Berg-Musikschule, Raum V1, Paulinstr. 42 b/c, 54292 Trier
END:VEVENT
BEGIN:VEVENT
DTSTAMP:20260419T181652
DTSTART;TZID=Europe/Berlin:20260311T193000
DTEND;TZID=Europe/Berlin:20260311T210000
UID:261-30101-20260311T193000@VHSVOLKSHOCHSCHULE TRIER
SUMMARY:Autogenes Training Kurs-ID:KU-ST-3GUVT7 (261-30101) 
LOCATION:Karl-Berg-Musikschule, Raum V1, Paulinstr. 42 b/c, 54292 Trier
END:VEVENT
BEGIN:VEVENT
DTSTAMP:20260419T181652
DTSTART;TZID=Europe/Berlin:20260318T193000
DTEND;TZID=Europe/Berlin:20260318T210000
UID:261-30101-20260318T193000@VHSVOLKSHOCHSCHULE TRIER
SUMMARY:Autogenes Training Kurs-ID:KU-ST-3GUVT7 (261-30101) 
LOCATION:Karl-Berg-Musikschule, Raum V1, Paulinstr. 42 b/c, 54292 Trier
END:VEVENT
BEGIN:VEVENT
DTSTAMP:20260419T181652
DTSTART;TZID=Europe/Berlin:20260325T193000
DTEND;TZID=Europe/Berlin:20260325T210000
UID:261-30101-20260325T193000@VHSVOLKSHOCHSCHULE TRIER
SUMMARY:Autogenes Training Kurs-ID:KU-ST-3GUVT7 (261-30101) 
LOCATION:Karl-Berg-Musikschule, Raum V1, Paulinstr. 42 b/c, 54292 Trier
END:VEVENT
BEGIN:VEVENT
DTSTAMP:20260419T181652
DTSTART;TZID=Europe/Berlin:20260415T193000
DTEND;TZID=Europe/Berlin:20260415T210000
UID:261-30101-20260415T193000@VHSVOLKSHOCHSCHULE TRIER
SUMMARY:Autogenes Training Kurs-ID:KU-ST-3GUVT7 (261-30101) 
LOCATION:Karl-Berg-Musikschule, Raum V1, Paulinstr. 42 b/c, 54292 Trier
END:VEVENT
BEGIN:VEVENT
DTSTAMP:20260419T181652
DTSTART;TZID=Europe/Berlin:20260422T193000
DTEND;TZID=Europe/Berlin:20260422T210000
UID:261-30101-20260422T193000@VHSVOLKSHOCHSCHULE TRIER
SUMMARY:Autogenes Training Kurs-ID:KU-ST-3GUVT7 (261-30101) 
LOCATION:Karl-Berg-Musikschule, Raum V1, Paulinstr. 42 b/c, 54292 Trier
END:VEVENT
BEGIN:VEVENT
DTSTAMP:20260419T181652
DTSTART;TZID=Europe/Berlin:20260429T193000
DTEND;TZID=Europe/Berlin:20260429T210000
UID:261-30101-20260429T193000@VHSVOLKSHOCHSCHULE TRIER
SUMMARY:Autogenes Training Kurs-ID:KU-ST-3GUVT7 (261-30101) 
LOCATION:Karl-Berg-Musikschule, Raum V1, Paulinstr. 42 b/c, 54292 Trier
END:VEVENT
BEGIN:VEVENT
DTSTAMP:20260419T181652
DTSTART;TZID=Europe/Berlin:20260812T193000
DTEND;TZID=Europe/Berlin:20260812T210000
UID:261-30101-20260812T193000@VHSVOLKSHOCHSCHULE TRIER
DESCRIPTION:Abschlusstag
SUMMARY:Autogenes Training Kurs-ID:KU-ST-3GUVT7 (261-30101) 
LOCATION:Karl-Berg-Musikschule, Raum V1, Paulinstr. 42 b/c, 54292 Trier
END:VEVENT
END:VCALENDAR