BEGIN:VCALENDAR
VERSION:2.0
PRODID:http://www.kufer.de/kuferweb / DE
METHOD:PUBLISH
CALSCALE:GREGORIAN
X-WR-TIMEZONE:Europe/Berlin
BEGIN:VTIMEZONE
TZID:Europe/Berlin
X-LIC-LOCATION:Europe/Berlin
BEGIN:DAYLIGHT
TZOFFSETFROM:+0100
TZOFFSETTO:+0200
TZNAME:CEST
DTSTART;TZID=Europe/Berlin:19700329T020000
RRULE:FREQ=YEARLY;INTERVAL=1;BYDAY=-1SU;BYMONTH=3
END:DAYLIGHT
BEGIN:STANDARD
TZOFFSETFROM:+0200
TZOFFSETTO:+0100
TZNAME:CET
DTSTART;TZID=Europe/Berlin:19701025T030000
RRULE:FREQ=YEARLY;INTERVAL=1;BYDAY=-1SU;BYMONTH=10
END:STANDARD
END:VTIMEZONE
BEGIN:VEVENT
DTSTAMP:20260424T141407
DTSTART;TZID=Europe/Berlin:20260313T180000
DTEND;TZID=Europe/Berlin:20260313T193000
UID:261-30126-20260313T180000@VHSVOLKSHOCHSCHULE TRIER
SUMMARY:Yoga für den Rücken und EFT ( Klopf-Akupressur) (261-30126) 
LOCATION:Karl-Berg-Musikschule, Raum V1, Paulinstr. 42 b/c, 54292 Trier
END:VEVENT
BEGIN:VEVENT
DTSTAMP:20260424T141407
DTSTART;TZID=Europe/Berlin:20260320T180000
DTEND;TZID=Europe/Berlin:20260320T193000
UID:261-30126-20260320T180000@VHSVOLKSHOCHSCHULE TRIER
SUMMARY:Yoga für den Rücken und EFT ( Klopf-Akupressur) (261-30126) 
LOCATION:Karl-Berg-Musikschule, Raum V1, Paulinstr. 42 b/c, 54292 Trier
END:VEVENT
BEGIN:VEVENT
DTSTAMP:20260424T141407
DTSTART;TZID=Europe/Berlin:20260327T180000
DTEND;TZID=Europe/Berlin:20260327T193000
UID:261-30126-20260327T180000@VHSVOLKSHOCHSCHULE TRIER
SUMMARY:Yoga für den Rücken und EFT ( Klopf-Akupressur) (261-30126) 
LOCATION:Karl-Berg-Musikschule, Raum V1, Paulinstr. 42 b/c, 54292 Trier
END:VEVENT
BEGIN:VEVENT
DTSTAMP:20260424T141407
DTSTART;TZID=Europe/Berlin:20260417T180000
DTEND;TZID=Europe/Berlin:20260417T193000
UID:261-30126-20260417T180000@VHSVOLKSHOCHSCHULE TRIER
SUMMARY:Yoga für den Rücken und EFT ( Klopf-Akupressur) (261-30126) 
LOCATION:Karl-Berg-Musikschule, Raum V1, Paulinstr. 42 b/c, 54292 Trier
END:VEVENT
BEGIN:VEVENT
DTSTAMP:20260424T141407
DTSTART;TZID=Europe/Berlin:20260424T180000
DTEND;TZID=Europe/Berlin:20260424T193000
UID:261-30126-20260424T180000@VHSVOLKSHOCHSCHULE TRIER
SUMMARY:Yoga für den Rücken und EFT ( Klopf-Akupressur) (261-30126) 
LOCATION:Karl-Berg-Musikschule, Raum V1, Paulinstr. 42 b/c, 54292 Trier
END:VEVENT
BEGIN:VEVENT
DTSTAMP:20260424T141407
DTSTART;TZID=Europe/Berlin:20260508T180000
DTEND;TZID=Europe/Berlin:20260508T193000
UID:261-30126-20260508T180000@VHSVOLKSHOCHSCHULE TRIER
SUMMARY:Yoga für den Rücken und EFT ( Klopf-Akupressur) (261-30126) 
LOCATION:Karl-Berg-Musikschule, Raum V1, Paulinstr. 42 b/c, 54292 Trier
END:VEVENT
BEGIN:VEVENT
DTSTAMP:20260424T141407
DTSTART;TZID=Europe/Berlin:20260522T180000
DTEND;TZID=Europe/Berlin:20260522T193000
UID:261-30126-20260522T180000@VHSVOLKSHOCHSCHULE TRIER
SUMMARY:Yoga für den Rücken und EFT ( Klopf-Akupressur) (261-30126) 
LOCATION:Karl-Berg-Musikschule, Raum V1, Paulinstr. 42 b/c, 54292 Trier
END:VEVENT
BEGIN:VEVENT
DTSTAMP:20260424T141407
DTSTART;TZID=Europe/Berlin:20260529T180000
DTEND;TZID=Europe/Berlin:20260529T193000
UID:261-30126-20260529T180000@VHSVOLKSHOCHSCHULE TRIER
SUMMARY:Yoga für den Rücken und EFT ( Klopf-Akupressur) (261-30126) 
LOCATION:Karl-Berg-Musikschule, Raum V1, Paulinstr. 42 b/c, 54292 Trier
END:VEVENT
BEGIN:VEVENT
DTSTAMP:20260424T141407
DTSTART;TZID=Europe/Berlin:20260612T180000
DTEND;TZID=Europe/Berlin:20260612T193000
UID:261-30126-20260612T180000@VHSVOLKSHOCHSCHULE TRIER
SUMMARY:Yoga für den Rücken und EFT ( Klopf-Akupressur) (261-30126) 
LOCATION:Karl-Berg-Musikschule, Raum V1, Paulinstr. 42 b/c, 54292 Trier
END:VEVENT
BEGIN:VEVENT
DTSTAMP:20260424T141407
DTSTART;TZID=Europe/Berlin:20260619T180000
DTEND;TZID=Europe/Berlin:20260619T193000
UID:261-30126-20260619T180000@VHSVOLKSHOCHSCHULE TRIER
SUMMARY:Yoga für den Rücken und EFT ( Klopf-Akupressur) (261-30126) 
LOCATION:Karl-Berg-Musikschule, Raum V1, Paulinstr. 42 b/c, 54292 Trier
END:VEVENT
END:VCALENDAR