BEGIN:VCALENDAR
VERSION:2.0
PRODID:http://www.kufer.de/kuferweb / DE
METHOD:PUBLISH
CALSCALE:GREGORIAN
X-WR-TIMEZONE:Europe/Berlin
BEGIN:VTIMEZONE
TZID:Europe/Berlin
X-LIC-LOCATION:Europe/Berlin
BEGIN:DAYLIGHT
TZOFFSETFROM:+0100
TZOFFSETTO:+0200
TZNAME:CEST
DTSTART;TZID=Europe/Berlin:19700329T020000
RRULE:FREQ=YEARLY;INTERVAL=1;BYDAY=-1SU;BYMONTH=3
END:DAYLIGHT
BEGIN:STANDARD
TZOFFSETFROM:+0200
TZOFFSETTO:+0100
TZNAME:CET
DTSTART;TZID=Europe/Berlin:19701025T030000
RRULE:FREQ=YEARLY;INTERVAL=1;BYDAY=-1SU;BYMONTH=10
END:STANDARD
END:VTIMEZONE
BEGIN:VEVENT
DTSTAMP:20260424T161410
DTSTART;TZID=Europe/Berlin:20260317T114000
DTEND;TZID=Europe/Berlin:20260317T125500
UID:261-30152-20260317T114000@VHSVOLKSHOCHSCHULE TRIER
SUMMARY:Hatha Yoga - Yoga Sanft Kurs-ID:KU-ST-2GXAXS (261-30152) 
LOCATION:Karl-Berg-Musikschule, Raum V1, Paulinstr. 42 b/c, 54292 Trier
END:VEVENT
BEGIN:VEVENT
DTSTAMP:20260424T161410
DTSTART;TZID=Europe/Berlin:20260324T114000
DTEND;TZID=Europe/Berlin:20260324T125500
UID:261-30152-20260324T114000@VHSVOLKSHOCHSCHULE TRIER
SUMMARY:Hatha Yoga - Yoga Sanft Kurs-ID:KU-ST-2GXAXS (261-30152) 
LOCATION:Karl-Berg-Musikschule, Raum V1, Paulinstr. 42 b/c, 54292 Trier
END:VEVENT
BEGIN:VEVENT
DTSTAMP:20260424T161410
DTSTART;TZID=Europe/Berlin:20260414T114000
DTEND;TZID=Europe/Berlin:20260414T125500
UID:261-30152-20260414T114000@VHSVOLKSHOCHSCHULE TRIER
SUMMARY:Hatha Yoga - Yoga Sanft Kurs-ID:KU-ST-2GXAXS (261-30152) 
LOCATION:Karl-Berg-Musikschule, Raum V1, Paulinstr. 42 b/c, 54292 Trier
END:VEVENT
BEGIN:VEVENT
DTSTAMP:20260424T161410
DTSTART;TZID=Europe/Berlin:20260421T114000
DTEND;TZID=Europe/Berlin:20260421T125500
UID:261-30152-20260421T114000@VHSVOLKSHOCHSCHULE TRIER
SUMMARY:Hatha Yoga - Yoga Sanft Kurs-ID:KU-ST-2GXAXS (261-30152) 
LOCATION:Karl-Berg-Musikschule, Raum V1, Paulinstr. 42 b/c, 54292 Trier
END:VEVENT
BEGIN:VEVENT
DTSTAMP:20260424T161410
DTSTART;TZID=Europe/Berlin:20260428T114000
DTEND;TZID=Europe/Berlin:20260428T125500
UID:261-30152-20260428T114000@VHSVOLKSHOCHSCHULE TRIER
SUMMARY:Hatha Yoga - Yoga Sanft Kurs-ID:KU-ST-2GXAXS (261-30152) 
LOCATION:Karl-Berg-Musikschule, Raum V1, Paulinstr. 42 b/c, 54292 Trier
END:VEVENT
BEGIN:VEVENT
DTSTAMP:20260424T161410
DTSTART;TZID=Europe/Berlin:20260505T114000
DTEND;TZID=Europe/Berlin:20260505T125500
UID:261-30152-20260505T114000@VHSVOLKSHOCHSCHULE TRIER
SUMMARY:Hatha Yoga - Yoga Sanft Kurs-ID:KU-ST-2GXAXS (261-30152) 
LOCATION:Karl-Berg-Musikschule, Raum V1, Paulinstr. 42 b/c, 54292 Trier
END:VEVENT
BEGIN:VEVENT
DTSTAMP:20260424T161410
DTSTART;TZID=Europe/Berlin:20260512T114000
DTEND;TZID=Europe/Berlin:20260512T125500
UID:261-30152-20260512T114000@VHSVOLKSHOCHSCHULE TRIER
SUMMARY:Hatha Yoga - Yoga Sanft Kurs-ID:KU-ST-2GXAXS (261-30152) 
LOCATION:Karl-Berg-Musikschule, Raum V1, Paulinstr. 42 b/c, 54292 Trier
END:VEVENT
BEGIN:VEVENT
DTSTAMP:20260424T161410
DTSTART;TZID=Europe/Berlin:20260519T114000
DTEND;TZID=Europe/Berlin:20260519T125500
UID:261-30152-20260519T114000@VHSVOLKSHOCHSCHULE TRIER
SUMMARY:Hatha Yoga - Yoga Sanft Kurs-ID:KU-ST-2GXAXS (261-30152) 
LOCATION:Karl-Berg-Musikschule, Raum V1, Paulinstr. 42 b/c, 54292 Trier
END:VEVENT
BEGIN:VEVENT
DTSTAMP:20260424T161410
DTSTART;TZID=Europe/Berlin:20260526T114000
DTEND;TZID=Europe/Berlin:20260526T125500
UID:261-30152-20260526T114000@VHSVOLKSHOCHSCHULE TRIER
SUMMARY:Hatha Yoga - Yoga Sanft Kurs-ID:KU-ST-2GXAXS (261-30152) 
LOCATION:Karl-Berg-Musikschule, Raum V1, Paulinstr. 42 b/c, 54292 Trier
END:VEVENT
BEGIN:VEVENT
DTSTAMP:20260424T161410
DTSTART;TZID=Europe/Berlin:20260602T114000
DTEND;TZID=Europe/Berlin:20260602T125500
UID:261-30152-20260602T114000@VHSVOLKSHOCHSCHULE TRIER
SUMMARY:Hatha Yoga - Yoga Sanft Kurs-ID:KU-ST-2GXAXS (261-30152) 
LOCATION:Karl-Berg-Musikschule, Raum V1, Paulinstr. 42 b/c, 54292 Trier
END:VEVENT
END:VCALENDAR