BEGIN:VCALENDAR
VERSION:2.0
PRODID:http://www.kufer.de/kuferweb / DE
METHOD:PUBLISH
CALSCALE:GREGORIAN
X-WR-TIMEZONE:Europe/Berlin
BEGIN:VTIMEZONE
TZID:Europe/Berlin
X-LIC-LOCATION:Europe/Berlin
BEGIN:DAYLIGHT
TZOFFSETFROM:+0100
TZOFFSETTO:+0200
TZNAME:CEST
DTSTART;TZID=Europe/Berlin:19700329T020000
RRULE:FREQ=YEARLY;INTERVAL=1;BYDAY=-1SU;BYMONTH=3
END:DAYLIGHT
BEGIN:STANDARD
TZOFFSETFROM:+0200
TZOFFSETTO:+0100
TZNAME:CET
DTSTART;TZID=Europe/Berlin:19701025T030000
RRULE:FREQ=YEARLY;INTERVAL=1;BYDAY=-1SU;BYMONTH=10
END:STANDARD
END:VTIMEZONE
BEGIN:VEVENT
DTSTAMP:20260420T205649
DTSTART;TZID=Europe/Berlin:20260312T101000
DTEND;TZID=Europe/Berlin:20260312T111000
UID:261-30222-20260312T101000@VHSVOLKSHOCHSCHULE TRIER
SUMMARY:Seniorengymnastik  Gruppe St. Matthias (261-30222) 
LOCATION:Pfarrsaal St. Matthias, Medardstr. 1, 54294 Trier
END:VEVENT
BEGIN:VEVENT
DTSTAMP:20260420T205649
DTSTART;TZID=Europe/Berlin:20260319T101000
DTEND;TZID=Europe/Berlin:20260319T111000
UID:261-30222-20260319T101000@VHSVOLKSHOCHSCHULE TRIER
SUMMARY:Seniorengymnastik  Gruppe St. Matthias (261-30222) 
LOCATION:Pfarrsaal St. Matthias, Medardstr. 1, 54294 Trier
END:VEVENT
BEGIN:VEVENT
DTSTAMP:20260420T205649
DTSTART;TZID=Europe/Berlin:20260326T101000
DTEND;TZID=Europe/Berlin:20260326T111000
UID:261-30222-20260326T101000@VHSVOLKSHOCHSCHULE TRIER
SUMMARY:Seniorengymnastik  Gruppe St. Matthias (261-30222) 
LOCATION:Pfarrsaal St. Matthias, Medardstr. 1, 54294 Trier
END:VEVENT
BEGIN:VEVENT
DTSTAMP:20260420T205649
DTSTART;TZID=Europe/Berlin:20260402T101000
DTEND;TZID=Europe/Berlin:20260402T111000
UID:261-30222-20260402T101000@VHSVOLKSHOCHSCHULE TRIER
SUMMARY:Seniorengymnastik  Gruppe St. Matthias (261-30222) 
LOCATION:Pfarrsaal St. Matthias, Medardstr. 1, 54294 Trier
END:VEVENT
BEGIN:VEVENT
DTSTAMP:20260420T205649
DTSTART;TZID=Europe/Berlin:20260409T101000
DTEND;TZID=Europe/Berlin:20260409T111000
UID:261-30222-20260409T101000@VHSVOLKSHOCHSCHULE TRIER
SUMMARY:Seniorengymnastik  Gruppe St. Matthias (261-30222) 
LOCATION:Pfarrsaal St. Matthias, Medardstr. 1, 54294 Trier
END:VEVENT
BEGIN:VEVENT
DTSTAMP:20260420T205649
DTSTART;TZID=Europe/Berlin:20260416T101000
DTEND;TZID=Europe/Berlin:20260416T111000
UID:261-30222-20260416T101000@VHSVOLKSHOCHSCHULE TRIER
SUMMARY:Seniorengymnastik  Gruppe St. Matthias (261-30222) 
LOCATION:Pfarrsaal St. Matthias, Medardstr. 1, 54294 Trier
END:VEVENT
BEGIN:VEVENT
DTSTAMP:20260420T205649
DTSTART;TZID=Europe/Berlin:20260423T101000
DTEND;TZID=Europe/Berlin:20260423T111000
UID:261-30222-20260423T101000@VHSVOLKSHOCHSCHULE TRIER
SUMMARY:Seniorengymnastik  Gruppe St. Matthias (261-30222) 
LOCATION:Pfarrsaal St. Matthias, Medardstr. 1, 54294 Trier
END:VEVENT
BEGIN:VEVENT
DTSTAMP:20260420T205649
DTSTART;TZID=Europe/Berlin:20260430T101000
DTEND;TZID=Europe/Berlin:20260430T111000
UID:261-30222-20260430T101000@VHSVOLKSHOCHSCHULE TRIER
SUMMARY:Seniorengymnastik  Gruppe St. Matthias (261-30222) 
LOCATION:Pfarrsaal St. Matthias, Medardstr. 1, 54294 Trier
END:VEVENT
BEGIN:VEVENT
DTSTAMP:20260420T205649
DTSTART;TZID=Europe/Berlin:20260507T101000
DTEND;TZID=Europe/Berlin:20260507T111000
UID:261-30222-20260507T101000@VHSVOLKSHOCHSCHULE TRIER
SUMMARY:Seniorengymnastik  Gruppe St. Matthias (261-30222) 
LOCATION:Pfarrsaal St. Matthias, Medardstr. 1, 54294 Trier
END:VEVENT
BEGIN:VEVENT
DTSTAMP:20260420T205649
DTSTART;TZID=Europe/Berlin:20260521T101000
DTEND;TZID=Europe/Berlin:20260521T111000
UID:261-30222-20260521T101000@VHSVOLKSHOCHSCHULE TRIER
SUMMARY:Seniorengymnastik  Gruppe St. Matthias (261-30222) 
LOCATION:Pfarrsaal St. Matthias, Medardstr. 1, 54294 Trier
END:VEVENT
END:VCALENDAR