BEGIN:VCALENDAR
VERSION:2.0
PRODID:http://www.kufer.de/kuferweb / DE
METHOD:PUBLISH
CALSCALE:GREGORIAN
X-WR-TIMEZONE:Europe/Berlin
BEGIN:VTIMEZONE
TZID:Europe/Berlin
X-LIC-LOCATION:Europe/Berlin
BEGIN:DAYLIGHT
TZOFFSETFROM:+0100
TZOFFSETTO:+0200
TZNAME:CEST
DTSTART;TZID=Europe/Berlin:19700329T020000
RRULE:FREQ=YEARLY;INTERVAL=1;BYDAY=-1SU;BYMONTH=3
END:DAYLIGHT
BEGIN:STANDARD
TZOFFSETFROM:+0200
TZOFFSETTO:+0100
TZNAME:CET
DTSTART;TZID=Europe/Berlin:19701025T030000
RRULE:FREQ=YEARLY;INTERVAL=1;BYDAY=-1SU;BYMONTH=10
END:STANDARD
END:VTIMEZONE
BEGIN:VEVENT
DTSTAMP:20260422T162030
DTSTART;TZID=Europe/Berlin:20260528T101000
DTEND;TZID=Europe/Berlin:20260528T111000
UID:261-30224-20260528T101000@VHSVOLKSHOCHSCHULE TRIER
SUMMARY:Seniorengymnastik  Gruppe St. Matthias (261-30224) 
LOCATION:Pfarrsaal St. Matthias, Medardstr. 1, 54294 Trier
END:VEVENT
BEGIN:VEVENT
DTSTAMP:20260422T162030
DTSTART;TZID=Europe/Berlin:20260611T101000
DTEND;TZID=Europe/Berlin:20260611T111000
UID:261-30224-20260611T101000@VHSVOLKSHOCHSCHULE TRIER
SUMMARY:Seniorengymnastik  Gruppe St. Matthias (261-30224) 
LOCATION:Pfarrsaal St. Matthias, Medardstr. 1, 54294 Trier
END:VEVENT
BEGIN:VEVENT
DTSTAMP:20260422T162030
DTSTART;TZID=Europe/Berlin:20260618T101000
DTEND;TZID=Europe/Berlin:20260618T111000
UID:261-30224-20260618T101000@VHSVOLKSHOCHSCHULE TRIER
SUMMARY:Seniorengymnastik  Gruppe St. Matthias (261-30224) 
LOCATION:Pfarrsaal St. Matthias, Medardstr. 1, 54294 Trier
END:VEVENT
BEGIN:VEVENT
DTSTAMP:20260422T162030
DTSTART;TZID=Europe/Berlin:20260625T101000
DTEND;TZID=Europe/Berlin:20260625T111000
UID:261-30224-20260625T101000@VHSVOLKSHOCHSCHULE TRIER
SUMMARY:Seniorengymnastik  Gruppe St. Matthias (261-30224) 
LOCATION:Pfarrsaal St. Matthias, Medardstr. 1, 54294 Trier
END:VEVENT
BEGIN:VEVENT
DTSTAMP:20260422T162030
DTSTART;TZID=Europe/Berlin:20260702T101000
DTEND;TZID=Europe/Berlin:20260702T111000
UID:261-30224-20260702T101000@VHSVOLKSHOCHSCHULE TRIER
SUMMARY:Seniorengymnastik  Gruppe St. Matthias (261-30224) 
LOCATION:Schammatdorfzentrum Gymnastikraum, Im Schammat 13 a, 54294 Trier
END:VEVENT
BEGIN:VEVENT
DTSTAMP:20260422T162030
DTSTART;TZID=Europe/Berlin:20260709T101000
DTEND;TZID=Europe/Berlin:20260709T111000
UID:261-30224-20260709T101000@VHSVOLKSHOCHSCHULE TRIER
SUMMARY:Seniorengymnastik  Gruppe St. Matthias (261-30224) 
LOCATION:Schammatdorfzentrum Gymnastikraum, Im Schammat 13 a, 54294 Trier
END:VEVENT
BEGIN:VEVENT
DTSTAMP:20260422T162030
DTSTART;TZID=Europe/Berlin:20260716T101000
DTEND;TZID=Europe/Berlin:20260716T111000
UID:261-30224-20260716T101000@VHSVOLKSHOCHSCHULE TRIER
SUMMARY:Seniorengymnastik  Gruppe St. Matthias (261-30224) 
LOCATION:Schammatdorfzentrum Gymnastikraum, Im Schammat 13 a, 54294 Trier
END:VEVENT
BEGIN:VEVENT
DTSTAMP:20260422T162030
DTSTART;TZID=Europe/Berlin:20260723T101000
DTEND;TZID=Europe/Berlin:20260723T111000
UID:261-30224-20260723T101000@VHSVOLKSHOCHSCHULE TRIER
SUMMARY:Seniorengymnastik  Gruppe St. Matthias (261-30224) 
LOCATION:Schammatdorfzentrum Gymnastikraum, Im Schammat 13 a, 54294 Trier
END:VEVENT
BEGIN:VEVENT
DTSTAMP:20260422T162030
DTSTART;TZID=Europe/Berlin:20260730T101000
DTEND;TZID=Europe/Berlin:20260730T111000
UID:261-30224-20260730T101000@VHSVOLKSHOCHSCHULE TRIER
DESCRIPTION:vorl. 06.08. rausgenommen
SUMMARY:Seniorengymnastik  Gruppe St. Matthias (261-30224) 
LOCATION:Schammatdorfzentrum Gymnastikraum, Im Schammat 13 a, 54294 Trier
END:VEVENT
BEGIN:VEVENT
DTSTAMP:20260422T162030
DTSTART;TZID=Europe/Berlin:20260813T101000
DTEND;TZID=Europe/Berlin:20260813T111000
UID:261-30224-20260813T101000@VHSVOLKSHOCHSCHULE TRIER
SUMMARY:Seniorengymnastik  Gruppe St. Matthias (261-30224) 
LOCATION:Pfarrsaal St. Matthias, Medardstr. 1, 54294 Trier
END:VEVENT
BEGIN:VEVENT
DTSTAMP:20260422T162030
DTSTART;TZID=Europe/Berlin:20260820T101000
DTEND;TZID=Europe/Berlin:20260820T111000
UID:261-30224-20260820T101000@VHSVOLKSHOCHSCHULE TRIER
SUMMARY:Seniorengymnastik  Gruppe St. Matthias (261-30224) 
LOCATION:Pfarrsaal St. Matthias, Medardstr. 1, 54294 Trier
END:VEVENT
BEGIN:VEVENT
DTSTAMP:20260422T162030
DTSTART;TZID=Europe/Berlin:20260827T101000
DTEND;TZID=Europe/Berlin:20260827T111000
UID:261-30224-20260827T101000@VHSVOLKSHOCHSCHULE TRIER
SUMMARY:Seniorengymnastik  Gruppe St. Matthias (261-30224) 
LOCATION:Pfarrsaal St. Matthias, Medardstr. 1, 54294 Trier
END:VEVENT
END:VCALENDAR