BEGIN:VCALENDAR
VERSION:2.0
PRODID:http://www.kufer.de/kuferweb / DE
METHOD:PUBLISH
CALSCALE:GREGORIAN
X-WR-TIMEZONE:Europe/Berlin
BEGIN:VTIMEZONE
TZID:Europe/Berlin
X-LIC-LOCATION:Europe/Berlin
BEGIN:DAYLIGHT
TZOFFSETFROM:+0100
TZOFFSETTO:+0200
TZNAME:CEST
DTSTART;TZID=Europe/Berlin:19700329T020000
RRULE:FREQ=YEARLY;INTERVAL=1;BYDAY=-1SU;BYMONTH=3
END:DAYLIGHT
BEGIN:STANDARD
TZOFFSETFROM:+0200
TZOFFSETTO:+0100
TZNAME:CET
DTSTART;TZID=Europe/Berlin:19701025T030000
RRULE:FREQ=YEARLY;INTERVAL=1;BYDAY=-1SU;BYMONTH=10
END:STANDARD
END:VTIMEZONE
BEGIN:VEVENT
DTSTAMP:20260424T161405
DTSTART;TZID=Europe/Berlin:20260311T183000
DTEND;TZID=Europe/Berlin:20260311T200000
UID:261-30244-20260311T183000@VHSVOLKSHOCHSCHULE TRIER
SUMMARY:Pilates für Anfänger*innen (261-30244) 
LOCATION:Schammatdorfzentrum Gymnastikraum, Im Schammat 13 a, 54294 Trier
END:VEVENT
BEGIN:VEVENT
DTSTAMP:20260424T161405
DTSTART;TZID=Europe/Berlin:20260318T183000
DTEND;TZID=Europe/Berlin:20260318T200000
UID:261-30244-20260318T183000@VHSVOLKSHOCHSCHULE TRIER
SUMMARY:Pilates für Anfänger*innen (261-30244) 
LOCATION:Schammatdorfzentrum Gymnastikraum, Im Schammat 13 a, 54294 Trier
END:VEVENT
BEGIN:VEVENT
DTSTAMP:20260424T161405
DTSTART;TZID=Europe/Berlin:20260325T183000
DTEND;TZID=Europe/Berlin:20260325T200000
UID:261-30244-20260325T183000@VHSVOLKSHOCHSCHULE TRIER
SUMMARY:Pilates für Anfänger*innen (261-30244) 
LOCATION:Schammatdorfzentrum Gymnastikraum, Im Schammat 13 a, 54294 Trier
END:VEVENT
BEGIN:VEVENT
DTSTAMP:20260424T161405
DTSTART;TZID=Europe/Berlin:20260415T183000
DTEND;TZID=Europe/Berlin:20260415T200000
UID:261-30244-20260415T183000@VHSVOLKSHOCHSCHULE TRIER
SUMMARY:Pilates für Anfänger*innen (261-30244) 
LOCATION:Schammatdorfzentrum Gymnastikraum, Im Schammat 13 a, 54294 Trier
END:VEVENT
BEGIN:VEVENT
DTSTAMP:20260424T161405
DTSTART;TZID=Europe/Berlin:20260422T183000
DTEND;TZID=Europe/Berlin:20260422T200000
UID:261-30244-20260422T183000@VHSVOLKSHOCHSCHULE TRIER
SUMMARY:Pilates für Anfänger*innen (261-30244) 
LOCATION:Schammatdorfzentrum Gymnastikraum, Im Schammat 13 a, 54294 Trier
END:VEVENT
BEGIN:VEVENT
DTSTAMP:20260424T161405
DTSTART;TZID=Europe/Berlin:20260429T183000
DTEND;TZID=Europe/Berlin:20260429T200000
UID:261-30244-20260429T183000@VHSVOLKSHOCHSCHULE TRIER
SUMMARY:Pilates für Anfänger*innen (261-30244) 
LOCATION:Schammatdorfzentrum Gymnastikraum, Im Schammat 13 a, 54294 Trier
END:VEVENT
BEGIN:VEVENT
DTSTAMP:20260424T161405
DTSTART;TZID=Europe/Berlin:20260506T183000
DTEND;TZID=Europe/Berlin:20260506T200000
UID:261-30244-20260506T183000@VHSVOLKSHOCHSCHULE TRIER
SUMMARY:Pilates für Anfänger*innen (261-30244) 
LOCATION:Schammatdorfzentrum Gymnastikraum, Im Schammat 13 a, 54294 Trier
END:VEVENT
BEGIN:VEVENT
DTSTAMP:20260424T161405
DTSTART;TZID=Europe/Berlin:20260513T183000
DTEND;TZID=Europe/Berlin:20260513T200000
UID:261-30244-20260513T183000@VHSVOLKSHOCHSCHULE TRIER
SUMMARY:Pilates für Anfänger*innen (261-30244) 
LOCATION:Schammatdorfzentrum Gymnastikraum, Im Schammat 13 a, 54294 Trier
END:VEVENT
BEGIN:VEVENT
DTSTAMP:20260424T161405
DTSTART;TZID=Europe/Berlin:20260520T183000
DTEND;TZID=Europe/Berlin:20260520T200000
UID:261-30244-20260520T183000@VHSVOLKSHOCHSCHULE TRIER
SUMMARY:Pilates für Anfänger*innen (261-30244) 
LOCATION:Schammatdorfzentrum Gymnastikraum, Im Schammat 13 a, 54294 Trier
END:VEVENT
BEGIN:VEVENT
DTSTAMP:20260424T161405
DTSTART;TZID=Europe/Berlin:20260527T183000
DTEND;TZID=Europe/Berlin:20260527T200000
UID:261-30244-20260527T183000@VHSVOLKSHOCHSCHULE TRIER
SUMMARY:Pilates für Anfänger*innen (261-30244) 
LOCATION:Schammatdorfzentrum Gymnastikraum, Im Schammat 13 a, 54294 Trier
END:VEVENT
BEGIN:VEVENT
DTSTAMP:20260424T161405
DTSTART;TZID=Europe/Berlin:20260603T183000
DTEND;TZID=Europe/Berlin:20260603T200000
UID:261-30244-20260603T183000@VHSVOLKSHOCHSCHULE TRIER
SUMMARY:Pilates für Anfänger*innen (261-30244) 
LOCATION:Schammatdorfzentrum Gymnastikraum, Im Schammat 13 a, 54294 Trier
END:VEVENT
BEGIN:VEVENT
DTSTAMP:20260424T161405
DTSTART;TZID=Europe/Berlin:20260610T183000
DTEND;TZID=Europe/Berlin:20260610T200000
UID:261-30244-20260610T183000@VHSVOLKSHOCHSCHULE TRIER
SUMMARY:Pilates für Anfänger*innen (261-30244) 
LOCATION:Schammatdorfzentrum Gymnastikraum, Im Schammat 13 a, 54294 Trier
END:VEVENT
END:VCALENDAR