BEGIN:VCALENDAR
VERSION:2.0
PRODID:http://www.kufer.de/kuferweb / DE
METHOD:PUBLISH
CALSCALE:GREGORIAN
X-WR-TIMEZONE:Europe/Berlin
BEGIN:VTIMEZONE
TZID:Europe/Berlin
X-LIC-LOCATION:Europe/Berlin
BEGIN:DAYLIGHT
TZOFFSETFROM:+0100
TZOFFSETTO:+0200
TZNAME:CEST
DTSTART;TZID=Europe/Berlin:19700329T020000
RRULE:FREQ=YEARLY;INTERVAL=1;BYDAY=-1SU;BYMONTH=3
END:DAYLIGHT
BEGIN:STANDARD
TZOFFSETFROM:+0200
TZOFFSETTO:+0100
TZNAME:CET
DTSTART;TZID=Europe/Berlin:19701025T030000
RRULE:FREQ=YEARLY;INTERVAL=1;BYDAY=-1SU;BYMONTH=10
END:STANDARD
END:VTIMEZONE
BEGIN:VEVENT
DTSTAMP:20260419T151230
DTSTART;TZID=Europe/Berlin:20260223T183000
DTEND;TZID=Europe/Berlin:20260223T200000
UID:261-40460-20260223T183000@VHSVOLKSHOCHSCHULE TRIER
SUMMARY:A1.1 Deutsch als Fremdsprache  Anfänger*innen ohne Vorkenntnisse (261-40460) 
LOCATION:Bürgerhaus Trier-Nord, R.209b, Hans-Eiden-Platz 3, 54292 Trier 
END:VEVENT
BEGIN:VEVENT
DTSTAMP:20260419T151230
DTSTART;TZID=Europe/Berlin:20260225T183000
DTEND;TZID=Europe/Berlin:20260225T200000
UID:261-40460-20260225T183000@VHSVOLKSHOCHSCHULE TRIER
SUMMARY:A1.1 Deutsch als Fremdsprache  Anfänger*innen ohne Vorkenntnisse (261-40460) 
LOCATION:Bürgerhaus Trier-Nord, R.209b, Hans-Eiden-Platz 3, 54292 Trier 
END:VEVENT
BEGIN:VEVENT
DTSTAMP:20260419T151230
DTSTART;TZID=Europe/Berlin:20260226T183000
DTEND;TZID=Europe/Berlin:20260226T200000
UID:261-40460-20260226T183000@VHSVOLKSHOCHSCHULE TRIER
SUMMARY:A1.1 Deutsch als Fremdsprache  Anfänger*innen ohne Vorkenntnisse (261-40460) 
LOCATION:Bürgerhaus Trier-Nord, R.209b, Hans-Eiden-Platz 3, 54292 Trier 
END:VEVENT
BEGIN:VEVENT
DTSTAMP:20260419T151230
DTSTART;TZID=Europe/Berlin:20260302T183000
DTEND;TZID=Europe/Berlin:20260302T200000
UID:261-40460-20260302T183000@VHSVOLKSHOCHSCHULE TRIER
SUMMARY:A1.1 Deutsch als Fremdsprache  Anfänger*innen ohne Vorkenntnisse (261-40460) 
LOCATION:Bürgerhaus Trier-Nord, R.209b, Hans-Eiden-Platz 3, 54292 Trier 
END:VEVENT
BEGIN:VEVENT
DTSTAMP:20260419T151230
DTSTART;TZID=Europe/Berlin:20260304T183000
DTEND;TZID=Europe/Berlin:20260304T200000
UID:261-40460-20260304T183000@VHSVOLKSHOCHSCHULE TRIER
SUMMARY:A1.1 Deutsch als Fremdsprache  Anfänger*innen ohne Vorkenntnisse (261-40460) 
LOCATION:Bürgerhaus Trier-Nord, R.209b, Hans-Eiden-Platz 3, 54292 Trier 
END:VEVENT
BEGIN:VEVENT
DTSTAMP:20260419T151230
DTSTART;TZID=Europe/Berlin:20260305T183000
DTEND;TZID=Europe/Berlin:20260305T200000
UID:261-40460-20260305T183000@VHSVOLKSHOCHSCHULE TRIER
SUMMARY:A1.1 Deutsch als Fremdsprache  Anfänger*innen ohne Vorkenntnisse (261-40460) 
LOCATION:Bürgerhaus Trier-Nord, R.209b, Hans-Eiden-Platz 3, 54292 Trier 
END:VEVENT
BEGIN:VEVENT
DTSTAMP:20260419T151230
DTSTART;TZID=Europe/Berlin:20260309T183000
DTEND;TZID=Europe/Berlin:20260309T200000
UID:261-40460-20260309T183000@VHSVOLKSHOCHSCHULE TRIER
SUMMARY:A1.1 Deutsch als Fremdsprache  Anfänger*innen ohne Vorkenntnisse (261-40460) 
LOCATION:Bürgerhaus Trier-Nord, R.209b, Hans-Eiden-Platz 3, 54292 Trier 
END:VEVENT
BEGIN:VEVENT
DTSTAMP:20260419T151230
DTSTART;TZID=Europe/Berlin:20260311T183000
DTEND;TZID=Europe/Berlin:20260311T200000
UID:261-40460-20260311T183000@VHSVOLKSHOCHSCHULE TRIER
SUMMARY:A1.1 Deutsch als Fremdsprache  Anfänger*innen ohne Vorkenntnisse (261-40460) 
LOCATION:Bürgerhaus Trier-Nord, R.209b, Hans-Eiden-Platz 3, 54292 Trier 
END:VEVENT
BEGIN:VEVENT
DTSTAMP:20260419T151230
DTSTART;TZID=Europe/Berlin:20260312T183000
DTEND;TZID=Europe/Berlin:20260312T200000
UID:261-40460-20260312T183000@VHSVOLKSHOCHSCHULE TRIER
SUMMARY:A1.1 Deutsch als Fremdsprache  Anfänger*innen ohne Vorkenntnisse (261-40460) 
LOCATION:Bürgerhaus Trier-Nord, R.209b, Hans-Eiden-Platz 3, 54292 Trier 
END:VEVENT
BEGIN:VEVENT
DTSTAMP:20260419T151230
DTSTART;TZID=Europe/Berlin:20260316T183000
DTEND;TZID=Europe/Berlin:20260316T200000
UID:261-40460-20260316T183000@VHSVOLKSHOCHSCHULE TRIER
SUMMARY:A1.1 Deutsch als Fremdsprache  Anfänger*innen ohne Vorkenntnisse (261-40460) 
LOCATION:Bürgerhaus Trier-Nord, R.209b, Hans-Eiden-Platz 3, 54292 Trier 
END:VEVENT
BEGIN:VEVENT
DTSTAMP:20260419T151230
DTSTART;TZID=Europe/Berlin:20260318T183000
DTEND;TZID=Europe/Berlin:20260318T200000
UID:261-40460-20260318T183000@VHSVOLKSHOCHSCHULE TRIER
SUMMARY:A1.1 Deutsch als Fremdsprache  Anfänger*innen ohne Vorkenntnisse (261-40460) 
LOCATION:Bürgerhaus Trier-Nord, R.209b, Hans-Eiden-Platz 3, 54292 Trier 
END:VEVENT
BEGIN:VEVENT
DTSTAMP:20260419T151230
DTSTART;TZID=Europe/Berlin:20260319T183000
DTEND;TZID=Europe/Berlin:20260319T200000
UID:261-40460-20260319T183000@VHSVOLKSHOCHSCHULE TRIER
SUMMARY:A1.1 Deutsch als Fremdsprache  Anfänger*innen ohne Vorkenntnisse (261-40460) 
LOCATION:Bürgerhaus Trier-Nord, R.209b, Hans-Eiden-Platz 3, 54292 Trier 
END:VEVENT
BEGIN:VEVENT
DTSTAMP:20260419T151230
DTSTART;TZID=Europe/Berlin:20260323T183000
DTEND;TZID=Europe/Berlin:20260323T200000
UID:261-40460-20260323T183000@VHSVOLKSHOCHSCHULE TRIER
SUMMARY:A1.1 Deutsch als Fremdsprache  Anfänger*innen ohne Vorkenntnisse (261-40460) 
LOCATION:Bürgerhaus Trier-Nord, R.209b, Hans-Eiden-Platz 3, 54292 Trier 
END:VEVENT
BEGIN:VEVENT
DTSTAMP:20260419T151230
DTSTART;TZID=Europe/Berlin:20260325T183000
DTEND;TZID=Europe/Berlin:20260325T200000
UID:261-40460-20260325T183000@VHSVOLKSHOCHSCHULE TRIER
SUMMARY:A1.1 Deutsch als Fremdsprache  Anfänger*innen ohne Vorkenntnisse (261-40460) 
LOCATION:Bürgerhaus Trier-Nord, R.209b, Hans-Eiden-Platz 3, 54292 Trier 
END:VEVENT
BEGIN:VEVENT
DTSTAMP:20260419T151230
DTSTART;TZID=Europe/Berlin:20260326T183000
DTEND;TZID=Europe/Berlin:20260326T200000
UID:261-40460-20260326T183000@VHSVOLKSHOCHSCHULE TRIER
SUMMARY:A1.1 Deutsch als Fremdsprache  Anfänger*innen ohne Vorkenntnisse (261-40460) 
LOCATION:Bürgerhaus Trier-Nord, R.209b, Hans-Eiden-Platz 3, 54292 Trier 
END:VEVENT
BEGIN:VEVENT
DTSTAMP:20260419T151230
DTSTART;TZID=Europe/Berlin:20260413T183000
DTEND;TZID=Europe/Berlin:20260413T200000
UID:261-40460-20260413T183000@VHSVOLKSHOCHSCHULE TRIER
SUMMARY:A1.1 Deutsch als Fremdsprache  Anfänger*innen ohne Vorkenntnisse (261-40460) 
LOCATION:Bürgerhaus Trier-Nord, R.209b, Hans-Eiden-Platz 3, 54292 Trier 
END:VEVENT
BEGIN:VEVENT
DTSTAMP:20260419T151230
DTSTART;TZID=Europe/Berlin:20260415T183000
DTEND;TZID=Europe/Berlin:20260415T200000
UID:261-40460-20260415T183000@VHSVOLKSHOCHSCHULE TRIER
SUMMARY:A1.1 Deutsch als Fremdsprache  Anfänger*innen ohne Vorkenntnisse (261-40460) 
LOCATION:Bürgerhaus Trier-Nord, R.209b, Hans-Eiden-Platz 3, 54292 Trier 
END:VEVENT
BEGIN:VEVENT
DTSTAMP:20260419T151230
DTSTART;TZID=Europe/Berlin:20260416T183000
DTEND;TZID=Europe/Berlin:20260416T200000
UID:261-40460-20260416T183000@VHSVOLKSHOCHSCHULE TRIER
SUMMARY:A1.1 Deutsch als Fremdsprache  Anfänger*innen ohne Vorkenntnisse (261-40460) 
LOCATION:Bürgerhaus Trier-Nord, R.209b, Hans-Eiden-Platz 3, 54292 Trier 
END:VEVENT
BEGIN:VEVENT
DTSTAMP:20260419T151230
DTSTART;TZID=Europe/Berlin:20260420T183000
DTEND;TZID=Europe/Berlin:20260420T200000
UID:261-40460-20260420T183000@VHSVOLKSHOCHSCHULE TRIER
SUMMARY:A1.1 Deutsch als Fremdsprache  Anfänger*innen ohne Vorkenntnisse (261-40460) 
LOCATION:Bürgerhaus Trier-Nord, R.209b, Hans-Eiden-Platz 3, 54292 Trier 
END:VEVENT
BEGIN:VEVENT
DTSTAMP:20260419T151230
DTSTART;TZID=Europe/Berlin:20260422T183000
DTEND;TZID=Europe/Berlin:20260422T200000
UID:261-40460-20260422T183000@VHSVOLKSHOCHSCHULE TRIER
SUMMARY:A1.1 Deutsch als Fremdsprache  Anfänger*innen ohne Vorkenntnisse (261-40460) 
LOCATION:Bürgerhaus Trier-Nord, R.209b, Hans-Eiden-Platz 3, 54292 Trier 
END:VEVENT
BEGIN:VEVENT
DTSTAMP:20260419T151230
DTSTART;TZID=Europe/Berlin:20260423T183000
DTEND;TZID=Europe/Berlin:20260423T200000
UID:261-40460-20260423T183000@VHSVOLKSHOCHSCHULE TRIER
SUMMARY:A1.1 Deutsch als Fremdsprache  Anfänger*innen ohne Vorkenntnisse (261-40460) 
LOCATION:Bürgerhaus Trier-Nord, R.209b, Hans-Eiden-Platz 3, 54292 Trier 
END:VEVENT
BEGIN:VEVENT
DTSTAMP:20260419T151230
DTSTART;TZID=Europe/Berlin:20260427T183000
DTEND;TZID=Europe/Berlin:20260427T200000
UID:261-40460-20260427T183000@VHSVOLKSHOCHSCHULE TRIER
SUMMARY:A1.1 Deutsch als Fremdsprache  Anfänger*innen ohne Vorkenntnisse (261-40460) 
LOCATION:Bürgerhaus Trier-Nord, R.209b, Hans-Eiden-Platz 3, 54292 Trier 
END:VEVENT
BEGIN:VEVENT
DTSTAMP:20260419T151230
DTSTART;TZID=Europe/Berlin:20260429T183000
DTEND;TZID=Europe/Berlin:20260429T200000
UID:261-40460-20260429T183000@VHSVOLKSHOCHSCHULE TRIER
SUMMARY:A1.1 Deutsch als Fremdsprache  Anfänger*innen ohne Vorkenntnisse (261-40460) 
LOCATION:Bürgerhaus Trier-Nord, R.209b, Hans-Eiden-Platz 3, 54292 Trier 
END:VEVENT
BEGIN:VEVENT
DTSTAMP:20260419T151230
DTSTART;TZID=Europe/Berlin:20260430T183000
DTEND;TZID=Europe/Berlin:20260430T200000
UID:261-40460-20260430T183000@VHSVOLKSHOCHSCHULE TRIER
SUMMARY:A1.1 Deutsch als Fremdsprache  Anfänger*innen ohne Vorkenntnisse (261-40460) 
LOCATION:Bürgerhaus Trier-Nord, R.209b, Hans-Eiden-Platz 3, 54292 Trier 
END:VEVENT
BEGIN:VEVENT
DTSTAMP:20260419T151230
DTSTART;TZID=Europe/Berlin:20260504T183000
DTEND;TZID=Europe/Berlin:20260504T200000
UID:261-40460-20260504T183000@VHSVOLKSHOCHSCHULE TRIER
SUMMARY:A1.1 Deutsch als Fremdsprache  Anfänger*innen ohne Vorkenntnisse (261-40460) 
LOCATION:Bürgerhaus Trier-Nord, R.209b, Hans-Eiden-Platz 3, 54292 Trier 
END:VEVENT
BEGIN:VEVENT
DTSTAMP:20260419T151230
DTSTART;TZID=Europe/Berlin:20260506T183000
DTEND;TZID=Europe/Berlin:20260506T200000
UID:261-40460-20260506T183000@VHSVOLKSHOCHSCHULE TRIER
SUMMARY:A1.1 Deutsch als Fremdsprache  Anfänger*innen ohne Vorkenntnisse (261-40460) 
LOCATION:Bürgerhaus Trier-Nord, R.209b, Hans-Eiden-Platz 3, 54292 Trier 
END:VEVENT
BEGIN:VEVENT
DTSTAMP:20260419T151230
DTSTART;TZID=Europe/Berlin:20260507T183000
DTEND;TZID=Europe/Berlin:20260507T200000
UID:261-40460-20260507T183000@VHSVOLKSHOCHSCHULE TRIER
SUMMARY:A1.1 Deutsch als Fremdsprache  Anfänger*innen ohne Vorkenntnisse (261-40460) 
LOCATION:Bürgerhaus Trier-Nord, R.209b, Hans-Eiden-Platz 3, 54292 Trier 
END:VEVENT
BEGIN:VEVENT
DTSTAMP:20260419T151230
DTSTART;TZID=Europe/Berlin:20260511T183000
DTEND;TZID=Europe/Berlin:20260511T200000
UID:261-40460-20260511T183000@VHSVOLKSHOCHSCHULE TRIER
SUMMARY:A1.1 Deutsch als Fremdsprache  Anfänger*innen ohne Vorkenntnisse (261-40460) 
LOCATION:Bürgerhaus Trier-Nord, R.209b, Hans-Eiden-Platz 3, 54292 Trier 
END:VEVENT
BEGIN:VEVENT
DTSTAMP:20260419T151230
DTSTART;TZID=Europe/Berlin:20260513T183000
DTEND;TZID=Europe/Berlin:20260513T200000
UID:261-40460-20260513T183000@VHSVOLKSHOCHSCHULE TRIER
SUMMARY:A1.1 Deutsch als Fremdsprache  Anfänger*innen ohne Vorkenntnisse (261-40460) 
LOCATION:Bürgerhaus Trier-Nord, R.209b, Hans-Eiden-Platz 3, 54292 Trier 
END:VEVENT
BEGIN:VEVENT
DTSTAMP:20260419T151230
DTSTART;TZID=Europe/Berlin:20260518T183000
DTEND;TZID=Europe/Berlin:20260518T200000
UID:261-40460-20260518T183000@VHSVOLKSHOCHSCHULE TRIER
SUMMARY:A1.1 Deutsch als Fremdsprache  Anfänger*innen ohne Vorkenntnisse (261-40460) 
LOCATION:Bürgerhaus Trier-Nord, R.209b, Hans-Eiden-Platz 3, 54292 Trier 
END:VEVENT
BEGIN:VEVENT
DTSTAMP:20260419T151230
DTSTART;TZID=Europe/Berlin:20260520T183000
DTEND;TZID=Europe/Berlin:20260520T200000
UID:261-40460-20260520T183000@VHSVOLKSHOCHSCHULE TRIER
SUMMARY:A1.1 Deutsch als Fremdsprache  Anfänger*innen ohne Vorkenntnisse (261-40460) 
LOCATION:Bürgerhaus Trier-Nord, R.209b, Hans-Eiden-Platz 3, 54292 Trier 
END:VEVENT
BEGIN:VEVENT
DTSTAMP:20260419T151230
DTSTART;TZID=Europe/Berlin:20260521T183000
DTEND;TZID=Europe/Berlin:20260521T200000
UID:261-40460-20260521T183000@VHSVOLKSHOCHSCHULE TRIER
SUMMARY:A1.1 Deutsch als Fremdsprache  Anfänger*innen ohne Vorkenntnisse (261-40460) 
LOCATION:Bürgerhaus Trier-Nord, R.209b, Hans-Eiden-Platz 3, 54292 Trier 
END:VEVENT
BEGIN:VEVENT
DTSTAMP:20260419T151230
DTSTART;TZID=Europe/Berlin:20260527T183000
DTEND;TZID=Europe/Berlin:20260527T200000
UID:261-40460-20260527T183000@VHSVOLKSHOCHSCHULE TRIER
SUMMARY:A1.1 Deutsch als Fremdsprache  Anfänger*innen ohne Vorkenntnisse (261-40460) 
LOCATION:Bürgerhaus Trier-Nord, R.209b, Hans-Eiden-Platz 3, 54292 Trier 
END:VEVENT
BEGIN:VEVENT
DTSTAMP:20260419T151230
DTSTART;TZID=Europe/Berlin:20260528T183000
DTEND;TZID=Europe/Berlin:20260528T200000
UID:261-40460-20260528T183000@VHSVOLKSHOCHSCHULE TRIER
SUMMARY:A1.1 Deutsch als Fremdsprache  Anfänger*innen ohne Vorkenntnisse (261-40460) 
LOCATION:Bürgerhaus Trier-Nord, R.209b, Hans-Eiden-Platz 3, 54292 Trier 
END:VEVENT
BEGIN:VEVENT
DTSTAMP:20260419T151230
DTSTART;TZID=Europe/Berlin:20260601T183000
DTEND;TZID=Europe/Berlin:20260601T200000
UID:261-40460-20260601T183000@VHSVOLKSHOCHSCHULE TRIER
SUMMARY:A1.1 Deutsch als Fremdsprache  Anfänger*innen ohne Vorkenntnisse (261-40460) 
LOCATION:Bürgerhaus Trier-Nord, R.209b, Hans-Eiden-Platz 3, 54292 Trier 
END:VEVENT
BEGIN:VEVENT
DTSTAMP:20260419T151230
DTSTART;TZID=Europe/Berlin:20260603T183000
DTEND;TZID=Europe/Berlin:20260603T200000
UID:261-40460-20260603T183000@VHSVOLKSHOCHSCHULE TRIER
SUMMARY:A1.1 Deutsch als Fremdsprache  Anfänger*innen ohne Vorkenntnisse (261-40460) 
LOCATION:Bürgerhaus Trier-Nord, R.209b, Hans-Eiden-Platz 3, 54292 Trier 
END:VEVENT
BEGIN:VEVENT
DTSTAMP:20260419T151230
DTSTART;TZID=Europe/Berlin:20260608T183000
DTEND;TZID=Europe/Berlin:20260608T200000
UID:261-40460-20260608T183000@VHSVOLKSHOCHSCHULE TRIER
SUMMARY:A1.1 Deutsch als Fremdsprache  Anfänger*innen ohne Vorkenntnisse (261-40460) 
LOCATION:Bürgerhaus Trier-Nord, R.209b, Hans-Eiden-Platz 3, 54292 Trier 
END:VEVENT
BEGIN:VEVENT
DTSTAMP:20260419T151230
DTSTART;TZID=Europe/Berlin:20260610T183000
DTEND;TZID=Europe/Berlin:20260610T200000
UID:261-40460-20260610T183000@VHSVOLKSHOCHSCHULE TRIER
SUMMARY:A1.1 Deutsch als Fremdsprache  Anfänger*innen ohne Vorkenntnisse (261-40460) 
LOCATION:Bürgerhaus Trier-Nord, R.209b, Hans-Eiden-Platz 3, 54292 Trier 
END:VEVENT
BEGIN:VEVENT
DTSTAMP:20260419T151230
DTSTART;TZID=Europe/Berlin:20260611T183000
DTEND;TZID=Europe/Berlin:20260611T200000
UID:261-40460-20260611T183000@VHSVOLKSHOCHSCHULE TRIER
SUMMARY:A1.1 Deutsch als Fremdsprache  Anfänger*innen ohne Vorkenntnisse (261-40460) 
LOCATION:Bürgerhaus Trier-Nord, R.209b, Hans-Eiden-Platz 3, 54292 Trier 
END:VEVENT
BEGIN:VEVENT
DTSTAMP:20260419T151230
DTSTART;TZID=Europe/Berlin:20260615T183000
DTEND;TZID=Europe/Berlin:20260615T200000
UID:261-40460-20260615T183000@VHSVOLKSHOCHSCHULE TRIER
SUMMARY:A1.1 Deutsch als Fremdsprache  Anfänger*innen ohne Vorkenntnisse (261-40460) 
LOCATION:Bürgerhaus Trier-Nord, R.209b, Hans-Eiden-Platz 3, 54292 Trier 
END:VEVENT
BEGIN:VEVENT
DTSTAMP:20260419T151230
DTSTART;TZID=Europe/Berlin:20260617T183000
DTEND;TZID=Europe/Berlin:20260617T200000
UID:261-40460-20260617T183000@VHSVOLKSHOCHSCHULE TRIER
SUMMARY:A1.1 Deutsch als Fremdsprache  Anfänger*innen ohne Vorkenntnisse (261-40460) 
LOCATION:Bürgerhaus Trier-Nord, R.209b, Hans-Eiden-Platz 3, 54292 Trier 
END:VEVENT
BEGIN:VEVENT
DTSTAMP:20260419T151230
DTSTART;TZID=Europe/Berlin:20260618T183000
DTEND;TZID=Europe/Berlin:20260618T200000
UID:261-40460-20260618T183000@VHSVOLKSHOCHSCHULE TRIER
SUMMARY:A1.1 Deutsch als Fremdsprache  Anfänger*innen ohne Vorkenntnisse (261-40460) 
LOCATION:Bürgerhaus Trier-Nord, R.209b, Hans-Eiden-Platz 3, 54292 Trier 
END:VEVENT
END:VCALENDAR