BEGIN:VCALENDAR
VERSION:2.0
PRODID:http://www.kufer.de/kuferweb / DE
METHOD:PUBLISH
CALSCALE:GREGORIAN
X-WR-TIMEZONE:Europe/Berlin
BEGIN:VTIMEZONE
TZID:Europe/Berlin
X-LIC-LOCATION:Europe/Berlin
BEGIN:DAYLIGHT
TZOFFSETFROM:+0100
TZOFFSETTO:+0200
TZNAME:CEST
DTSTART;TZID=Europe/Berlin:19700329T020000
RRULE:FREQ=YEARLY;INTERVAL=1;BYDAY=-1SU;BYMONTH=3
END:DAYLIGHT
BEGIN:STANDARD
TZOFFSETFROM:+0200
TZOFFSETTO:+0100
TZNAME:CET
DTSTART;TZID=Europe/Berlin:19701025T030000
RRULE:FREQ=YEARLY;INTERVAL=1;BYDAY=-1SU;BYMONTH=10
END:STANDARD
END:VTIMEZONE
BEGIN:VEVENT
DTSTAMP:20260419T114625
DTSTART;TZID=Europe/Berlin:20260223T181500
DTEND;TZID=Europe/Berlin:20260223T203000
UID:261-40465-20260223T181500@VHSVOLKSHOCHSCHULE TRIER
SUMMARY:B1.2 Deutsch als Fremdsprache (261-40465) 
LOCATION:Bürgerhaus Trier-Nord, R.206a, Hans-Eiden-Platz 3, 54292 Trier 
END:VEVENT
BEGIN:VEVENT
DTSTAMP:20260419T114625
DTSTART;TZID=Europe/Berlin:20260225T181500
DTEND;TZID=Europe/Berlin:20260225T203000
UID:261-40465-20260225T181500@VHSVOLKSHOCHSCHULE TRIER
SUMMARY:B1.2 Deutsch als Fremdsprache (261-40465) 
LOCATION:Bürgerhaus Trier-Nord, R.206a, Hans-Eiden-Platz 3, 54292 Trier 
END:VEVENT
BEGIN:VEVENT
DTSTAMP:20260419T114625
DTSTART;TZID=Europe/Berlin:20260302T181500
DTEND;TZID=Europe/Berlin:20260302T203000
UID:261-40465-20260302T181500@VHSVOLKSHOCHSCHULE TRIER
SUMMARY:B1.2 Deutsch als Fremdsprache (261-40465) 
LOCATION:Bürgerhaus Trier-Nord, R.206a, Hans-Eiden-Platz 3, 54292 Trier 
END:VEVENT
BEGIN:VEVENT
DTSTAMP:20260419T114625
DTSTART;TZID=Europe/Berlin:20260304T181500
DTEND;TZID=Europe/Berlin:20260304T203000
UID:261-40465-20260304T181500@VHSVOLKSHOCHSCHULE TRIER
SUMMARY:B1.2 Deutsch als Fremdsprache (261-40465) 
LOCATION:Bürgerhaus Trier-Nord, R.206a, Hans-Eiden-Platz 3, 54292 Trier 
END:VEVENT
BEGIN:VEVENT
DTSTAMP:20260419T114625
DTSTART;TZID=Europe/Berlin:20260309T181500
DTEND;TZID=Europe/Berlin:20260309T203000
UID:261-40465-20260309T181500@VHSVOLKSHOCHSCHULE TRIER
SUMMARY:B1.2 Deutsch als Fremdsprache (261-40465) 
LOCATION:Bürgerhaus Trier-Nord, R.206a, Hans-Eiden-Platz 3, 54292 Trier 
END:VEVENT
BEGIN:VEVENT
DTSTAMP:20260419T114625
DTSTART;TZID=Europe/Berlin:20260311T181500
DTEND;TZID=Europe/Berlin:20260311T203000
UID:261-40465-20260311T181500@VHSVOLKSHOCHSCHULE TRIER
SUMMARY:B1.2 Deutsch als Fremdsprache (261-40465) 
LOCATION:Bürgerhaus Trier-Nord, R.206a, Hans-Eiden-Platz 3, 54292 Trier 
END:VEVENT
BEGIN:VEVENT
DTSTAMP:20260419T114625
DTSTART;TZID=Europe/Berlin:20260316T181500
DTEND;TZID=Europe/Berlin:20260316T203000
UID:261-40465-20260316T181500@VHSVOLKSHOCHSCHULE TRIER
SUMMARY:B1.2 Deutsch als Fremdsprache (261-40465) 
LOCATION:Bürgerhaus Trier-Nord, R.206a, Hans-Eiden-Platz 3, 54292 Trier 
END:VEVENT
BEGIN:VEVENT
DTSTAMP:20260419T114625
DTSTART;TZID=Europe/Berlin:20260318T181500
DTEND;TZID=Europe/Berlin:20260318T203000
UID:261-40465-20260318T181500@VHSVOLKSHOCHSCHULE TRIER
SUMMARY:B1.2 Deutsch als Fremdsprache (261-40465) 
LOCATION:Bürgerhaus Trier-Nord, R.206a, Hans-Eiden-Platz 3, 54292 Trier 
END:VEVENT
BEGIN:VEVENT
DTSTAMP:20260419T114625
DTSTART;TZID=Europe/Berlin:20260323T181500
DTEND;TZID=Europe/Berlin:20260323T203000
UID:261-40465-20260323T181500@VHSVOLKSHOCHSCHULE TRIER
SUMMARY:B1.2 Deutsch als Fremdsprache (261-40465) 
LOCATION:Bürgerhaus Trier-Nord, R.206a, Hans-Eiden-Platz 3, 54292 Trier 
END:VEVENT
BEGIN:VEVENT
DTSTAMP:20260419T114625
DTSTART;TZID=Europe/Berlin:20260325T181500
DTEND;TZID=Europe/Berlin:20260325T203000
UID:261-40465-20260325T181500@VHSVOLKSHOCHSCHULE TRIER
SUMMARY:B1.2 Deutsch als Fremdsprache (261-40465) 
LOCATION:Bürgerhaus Trier-Nord, R.206a, Hans-Eiden-Platz 3, 54292 Trier 
END:VEVENT
BEGIN:VEVENT
DTSTAMP:20260419T114625
DTSTART;TZID=Europe/Berlin:20260413T181500
DTEND;TZID=Europe/Berlin:20260413T203000
UID:261-40465-20260413T181500@VHSVOLKSHOCHSCHULE TRIER
SUMMARY:B1.2 Deutsch als Fremdsprache (261-40465) 
LOCATION:Bürgerhaus Trier-Nord, R.206a, Hans-Eiden-Platz 3, 54292 Trier 
END:VEVENT
BEGIN:VEVENT
DTSTAMP:20260419T114625
DTSTART;TZID=Europe/Berlin:20260415T181500
DTEND;TZID=Europe/Berlin:20260415T203000
UID:261-40465-20260415T181500@VHSVOLKSHOCHSCHULE TRIER
SUMMARY:B1.2 Deutsch als Fremdsprache (261-40465) 
LOCATION:Bürgerhaus Trier-Nord, R.206a, Hans-Eiden-Platz 3, 54292 Trier 
END:VEVENT
BEGIN:VEVENT
DTSTAMP:20260419T114625
DTSTART;TZID=Europe/Berlin:20260420T181500
DTEND;TZID=Europe/Berlin:20260420T203000
UID:261-40465-20260420T181500@VHSVOLKSHOCHSCHULE TRIER
SUMMARY:B1.2 Deutsch als Fremdsprache (261-40465) 
LOCATION:Bürgerhaus Trier-Nord, R.206a, Hans-Eiden-Platz 3, 54292 Trier 
END:VEVENT
BEGIN:VEVENT
DTSTAMP:20260419T114625
DTSTART;TZID=Europe/Berlin:20260422T181500
DTEND;TZID=Europe/Berlin:20260422T203000
UID:261-40465-20260422T181500@VHSVOLKSHOCHSCHULE TRIER
SUMMARY:B1.2 Deutsch als Fremdsprache (261-40465) 
LOCATION:Bürgerhaus Trier-Nord, R.206a, Hans-Eiden-Platz 3, 54292 Trier 
END:VEVENT
BEGIN:VEVENT
DTSTAMP:20260419T114625
DTSTART;TZID=Europe/Berlin:20260427T181500
DTEND;TZID=Europe/Berlin:20260427T203000
UID:261-40465-20260427T181500@VHSVOLKSHOCHSCHULE TRIER
SUMMARY:B1.2 Deutsch als Fremdsprache (261-40465) 
LOCATION:Bürgerhaus Trier-Nord, R.206a, Hans-Eiden-Platz 3, 54292 Trier 
END:VEVENT
BEGIN:VEVENT
DTSTAMP:20260419T114625
DTSTART;TZID=Europe/Berlin:20260429T181500
DTEND;TZID=Europe/Berlin:20260429T203000
UID:261-40465-20260429T181500@VHSVOLKSHOCHSCHULE TRIER
SUMMARY:B1.2 Deutsch als Fremdsprache (261-40465) 
LOCATION:Bürgerhaus Trier-Nord, R.206a, Hans-Eiden-Platz 3, 54292 Trier 
END:VEVENT
BEGIN:VEVENT
DTSTAMP:20260419T114625
DTSTART;TZID=Europe/Berlin:20260504T181500
DTEND;TZID=Europe/Berlin:20260504T203000
UID:261-40465-20260504T181500@VHSVOLKSHOCHSCHULE TRIER
SUMMARY:B1.2 Deutsch als Fremdsprache (261-40465) 
LOCATION:Bürgerhaus Trier-Nord, R.206a, Hans-Eiden-Platz 3, 54292 Trier 
END:VEVENT
BEGIN:VEVENT
DTSTAMP:20260419T114625
DTSTART;TZID=Europe/Berlin:20260506T181500
DTEND;TZID=Europe/Berlin:20260506T203000
UID:261-40465-20260506T181500@VHSVOLKSHOCHSCHULE TRIER
SUMMARY:B1.2 Deutsch als Fremdsprache (261-40465) 
LOCATION:Bürgerhaus Trier-Nord, R.206a, Hans-Eiden-Platz 3, 54292 Trier 
END:VEVENT
BEGIN:VEVENT
DTSTAMP:20260419T114625
DTSTART;TZID=Europe/Berlin:20260511T181500
DTEND;TZID=Europe/Berlin:20260511T203000
UID:261-40465-20260511T181500@VHSVOLKSHOCHSCHULE TRIER
SUMMARY:B1.2 Deutsch als Fremdsprache (261-40465) 
LOCATION:Bürgerhaus Trier-Nord, R.206a, Hans-Eiden-Platz 3, 54292 Trier 
END:VEVENT
BEGIN:VEVENT
DTSTAMP:20260419T114625
DTSTART;TZID=Europe/Berlin:20260513T181500
DTEND;TZID=Europe/Berlin:20260513T203000
UID:261-40465-20260513T181500@VHSVOLKSHOCHSCHULE TRIER
SUMMARY:B1.2 Deutsch als Fremdsprache (261-40465) 
LOCATION:Bürgerhaus Trier-Nord, R.206a, Hans-Eiden-Platz 3, 54292 Trier 
END:VEVENT
BEGIN:VEVENT
DTSTAMP:20260419T114625
DTSTART;TZID=Europe/Berlin:20260518T181500
DTEND;TZID=Europe/Berlin:20260518T203000
UID:261-40465-20260518T181500@VHSVOLKSHOCHSCHULE TRIER
SUMMARY:B1.2 Deutsch als Fremdsprache (261-40465) 
LOCATION:Bürgerhaus Trier-Nord, R.206a, Hans-Eiden-Platz 3, 54292 Trier 
END:VEVENT
BEGIN:VEVENT
DTSTAMP:20260419T114625
DTSTART;TZID=Europe/Berlin:20260520T181500
DTEND;TZID=Europe/Berlin:20260520T203000
UID:261-40465-20260520T181500@VHSVOLKSHOCHSCHULE TRIER
SUMMARY:B1.2 Deutsch als Fremdsprache (261-40465) 
LOCATION:Bürgerhaus Trier-Nord, R.206a, Hans-Eiden-Platz 3, 54292 Trier 
END:VEVENT
BEGIN:VEVENT
DTSTAMP:20260419T114625
DTSTART;TZID=Europe/Berlin:20260527T181500
DTEND;TZID=Europe/Berlin:20260527T203000
UID:261-40465-20260527T181500@VHSVOLKSHOCHSCHULE TRIER
SUMMARY:B1.2 Deutsch als Fremdsprache (261-40465) 
LOCATION:Bürgerhaus Trier-Nord, R.206a, Hans-Eiden-Platz 3, 54292 Trier 
END:VEVENT
BEGIN:VEVENT
DTSTAMP:20260419T114625
DTSTART;TZID=Europe/Berlin:20260601T181500
DTEND;TZID=Europe/Berlin:20260601T203000
UID:261-40465-20260601T181500@VHSVOLKSHOCHSCHULE TRIER
SUMMARY:B1.2 Deutsch als Fremdsprache (261-40465) 
LOCATION:Bürgerhaus Trier-Nord, R.206a, Hans-Eiden-Platz 3, 54292 Trier 
END:VEVENT
BEGIN:VEVENT
DTSTAMP:20260419T114625
DTSTART;TZID=Europe/Berlin:20260603T181500
DTEND;TZID=Europe/Berlin:20260603T203000
UID:261-40465-20260603T181500@VHSVOLKSHOCHSCHULE TRIER
SUMMARY:B1.2 Deutsch als Fremdsprache (261-40465) 
LOCATION:Bürgerhaus Trier-Nord, R.206a, Hans-Eiden-Platz 3, 54292 Trier 
END:VEVENT
BEGIN:VEVENT
DTSTAMP:20260419T114625
DTSTART;TZID=Europe/Berlin:20260608T181500
DTEND;TZID=Europe/Berlin:20260608T203000
UID:261-40465-20260608T181500@VHSVOLKSHOCHSCHULE TRIER
SUMMARY:B1.2 Deutsch als Fremdsprache (261-40465) 
LOCATION:Bürgerhaus Trier-Nord, R.206a, Hans-Eiden-Platz 3, 54292 Trier 
END:VEVENT
BEGIN:VEVENT
DTSTAMP:20260419T114625
DTSTART;TZID=Europe/Berlin:20260610T181500
DTEND;TZID=Europe/Berlin:20260610T203000
UID:261-40465-20260610T181500@VHSVOLKSHOCHSCHULE TRIER
SUMMARY:B1.2 Deutsch als Fremdsprache (261-40465) 
LOCATION:Bürgerhaus Trier-Nord, R.206a, Hans-Eiden-Platz 3, 54292 Trier 
END:VEVENT
BEGIN:VEVENT
DTSTAMP:20260419T114625
DTSTART;TZID=Europe/Berlin:20260615T181500
DTEND;TZID=Europe/Berlin:20260615T203000
UID:261-40465-20260615T181500@VHSVOLKSHOCHSCHULE TRIER
SUMMARY:B1.2 Deutsch als Fremdsprache (261-40465) 
LOCATION:Bürgerhaus Trier-Nord, R.206a, Hans-Eiden-Platz 3, 54292 Trier 
END:VEVENT
BEGIN:VEVENT
DTSTAMP:20260419T114625
DTSTART;TZID=Europe/Berlin:20260617T181500
DTEND;TZID=Europe/Berlin:20260617T203000
UID:261-40465-20260617T181500@VHSVOLKSHOCHSCHULE TRIER
SUMMARY:B1.2 Deutsch als Fremdsprache (261-40465) 
LOCATION:Bürgerhaus Trier-Nord, R.206a, Hans-Eiden-Platz 3, 54292 Trier 
END:VEVENT
END:VCALENDAR