BEGIN:VCALENDAR
VERSION:2.0
PRODID:http://www.kufer.de/kuferweb / DE
METHOD:PUBLISH
CALSCALE:GREGORIAN
X-WR-TIMEZONE:Europe/Berlin
BEGIN:VTIMEZONE
TZID:Europe/Berlin
X-LIC-LOCATION:Europe/Berlin
BEGIN:DAYLIGHT
TZOFFSETFROM:+0100
TZOFFSETTO:+0200
TZNAME:CEST
DTSTART;TZID=Europe/Berlin:19700329T020000
RRULE:FREQ=YEARLY;INTERVAL=1;BYDAY=-1SU;BYMONTH=3
END:DAYLIGHT
BEGIN:STANDARD
TZOFFSETFROM:+0200
TZOFFSETTO:+0100
TZNAME:CET
DTSTART;TZID=Europe/Berlin:19701025T030000
RRULE:FREQ=YEARLY;INTERVAL=1;BYDAY=-1SU;BYMONTH=10
END:STANDARD
END:VTIMEZONE
BEGIN:VEVENT
DTSTAMP:20260420T023737
DTSTART;TZID=Europe/Berlin:20260509T093000
DTEND;TZID=Europe/Berlin:20260509T123000
UID:261-40471-20260509T093000@VHSVOLKSHOCHSCHULE TRIER
SUMMARY:B2 Deutsch als Fremdsprache (261-40471) 
LOCATION:Bürgerhaus Trier-Nord, R.206a, Hans-Eiden-Platz 3, 54292 Trier 
END:VEVENT
BEGIN:VEVENT
DTSTAMP:20260420T023737
DTSTART;TZID=Europe/Berlin:20260516T093000
DTEND;TZID=Europe/Berlin:20260516T123000
UID:261-40471-20260516T093000@VHSVOLKSHOCHSCHULE TRIER
SUMMARY:B2 Deutsch als Fremdsprache (261-40471) 
LOCATION:Bürgerhaus Trier-Nord, R.206a, Hans-Eiden-Platz 3, 54292 Trier 
END:VEVENT
BEGIN:VEVENT
DTSTAMP:20260420T023737
DTSTART;TZID=Europe/Berlin:20260523T093000
DTEND;TZID=Europe/Berlin:20260523T123000
UID:261-40471-20260523T093000@VHSVOLKSHOCHSCHULE TRIER
SUMMARY:B2 Deutsch als Fremdsprache (261-40471) 
LOCATION:Bürgerhaus Trier-Nord, R.206a, Hans-Eiden-Platz 3, 54292 Trier 
END:VEVENT
BEGIN:VEVENT
DTSTAMP:20260420T023737
DTSTART;TZID=Europe/Berlin:20260530T093000
DTEND;TZID=Europe/Berlin:20260530T123000
UID:261-40471-20260530T093000@VHSVOLKSHOCHSCHULE TRIER
SUMMARY:B2 Deutsch als Fremdsprache (261-40471) 
LOCATION:Bürgerhaus Trier-Nord, R.206a, Hans-Eiden-Platz 3, 54292 Trier 
END:VEVENT
BEGIN:VEVENT
DTSTAMP:20260420T023737
DTSTART;TZID=Europe/Berlin:20260606T093000
DTEND;TZID=Europe/Berlin:20260606T123000
UID:261-40471-20260606T093000@VHSVOLKSHOCHSCHULE TRIER
SUMMARY:B2 Deutsch als Fremdsprache (261-40471) 
LOCATION:Bürgerhaus Trier-Nord, R.206a, Hans-Eiden-Platz 3, 54292 Trier 
END:VEVENT
BEGIN:VEVENT
DTSTAMP:20260420T023737
DTSTART;TZID=Europe/Berlin:20260613T093000
DTEND;TZID=Europe/Berlin:20260613T123000
UID:261-40471-20260613T093000@VHSVOLKSHOCHSCHULE TRIER
SUMMARY:B2 Deutsch als Fremdsprache (261-40471) 
LOCATION:Bürgerhaus Trier-Nord, R.206a, Hans-Eiden-Platz 3, 54292 Trier 
END:VEVENT
BEGIN:VEVENT
DTSTAMP:20260420T023737
DTSTART;TZID=Europe/Berlin:20260620T093000
DTEND;TZID=Europe/Berlin:20260620T123000
UID:261-40471-20260620T093000@VHSVOLKSHOCHSCHULE TRIER
SUMMARY:B2 Deutsch als Fremdsprache (261-40471) 
LOCATION:Bürgerhaus Trier-Nord, R.206a, Hans-Eiden-Platz 3, 54292 Trier 
END:VEVENT
END:VCALENDAR