BEGIN:VCALENDAR
VERSION:2.0
PRODID:http://www.kufer.de/kuferweb / DE
METHOD:PUBLISH
CALSCALE:GREGORIAN
X-WR-TIMEZONE:Europe/Berlin
BEGIN:VTIMEZONE
TZID:Europe/Berlin
X-LIC-LOCATION:Europe/Berlin
BEGIN:DAYLIGHT
TZOFFSETFROM:+0100
TZOFFSETTO:+0200
TZNAME:CEST
DTSTART;TZID=Europe/Berlin:19700329T020000
RRULE:FREQ=YEARLY;INTERVAL=1;BYDAY=-1SU;BYMONTH=3
END:DAYLIGHT
BEGIN:STANDARD
TZOFFSETFROM:+0200
TZOFFSETTO:+0100
TZNAME:CET
DTSTART;TZID=Europe/Berlin:19701025T030000
RRULE:FREQ=YEARLY;INTERVAL=1;BYDAY=-1SU;BYMONTH=10
END:STANDARD
END:VTIMEZONE
BEGIN:VEVENT
DTSTAMP:20260421T183444
DTSTART;TZID=Europe/Berlin:20260224T190000
DTEND;TZID=Europe/Berlin:20260224T203000
UID:261-40501-20260224T190000@VHSVOLKSHOCHSCHULE TRIER
SUMMARY:A1 Arabisch für Anfänger/innen mit Vorkenntnissen  Kalamuna , ab Lekt. 4 (261-40501) 
LOCATION:Berufsbildende Schule - Wirtschaft, B121, Irminenfreihof 9, 54290 Trier
END:VEVENT
BEGIN:VEVENT
DTSTAMP:20260421T183444
DTSTART;TZID=Europe/Berlin:20260303T190000
DTEND;TZID=Europe/Berlin:20260303T203000
UID:261-40501-20260303T190000@VHSVOLKSHOCHSCHULE TRIER
SUMMARY:A1 Arabisch für Anfänger/innen mit Vorkenntnissen  Kalamuna , ab Lekt. 4 (261-40501) 
LOCATION:Berufsbildende Schule - Wirtschaft, B121, Irminenfreihof 9, 54290 Trier
END:VEVENT
BEGIN:VEVENT
DTSTAMP:20260421T183444
DTSTART;TZID=Europe/Berlin:20260310T190000
DTEND;TZID=Europe/Berlin:20260310T203000
UID:261-40501-20260310T190000@VHSVOLKSHOCHSCHULE TRIER
SUMMARY:A1 Arabisch für Anfänger/innen mit Vorkenntnissen  Kalamuna , ab Lekt. 4 (261-40501) 
LOCATION:Berufsbildende Schule - Wirtschaft, B121, Irminenfreihof 9, 54290 Trier
END:VEVENT
BEGIN:VEVENT
DTSTAMP:20260421T183444
DTSTART;TZID=Europe/Berlin:20260317T190000
DTEND;TZID=Europe/Berlin:20260317T203000
UID:261-40501-20260317T190000@VHSVOLKSHOCHSCHULE TRIER
SUMMARY:A1 Arabisch für Anfänger/innen mit Vorkenntnissen  Kalamuna , ab Lekt. 4 (261-40501) 
LOCATION:Berufsbildende Schule - Wirtschaft, B121, Irminenfreihof 9, 54290 Trier
END:VEVENT
BEGIN:VEVENT
DTSTAMP:20260421T183444
DTSTART;TZID=Europe/Berlin:20260324T190000
DTEND;TZID=Europe/Berlin:20260324T203000
UID:261-40501-20260324T190000@VHSVOLKSHOCHSCHULE TRIER
SUMMARY:A1 Arabisch für Anfänger/innen mit Vorkenntnissen  Kalamuna , ab Lekt. 4 (261-40501) 
LOCATION:Berufsbildende Schule - Wirtschaft, B121, Irminenfreihof 9, 54290 Trier
END:VEVENT
BEGIN:VEVENT
DTSTAMP:20260421T183444
DTSTART;TZID=Europe/Berlin:20260416T183000
DTEND;TZID=Europe/Berlin:20260416T200000
UID:261-40501-20260416T183000@VHSVOLKSHOCHSCHULE TRIER
DESCRIPTION:verschoben vom 14. auf 16.04.
SUMMARY:A1 Arabisch für Anfänger/innen mit Vorkenntnissen  Kalamuna , ab Lekt. 4 (261-40501) 
LOCATION:Berufsbildende Schule - Wirtschaft, B121, Irminenfreihof 9, 54290 Trier
END:VEVENT
BEGIN:VEVENT
DTSTAMP:20260421T183444
DTSTART;TZID=Europe/Berlin:20260422T183000
DTEND;TZID=Europe/Berlin:20260422T200000
UID:261-40501-20260422T183000@VHSVOLKSHOCHSCHULE TRIER
DESCRIPTION:verschoben vom 21. auf 22.04.
SUMMARY:A1 Arabisch für Anfänger/innen mit Vorkenntnissen  Kalamuna , ab Lekt. 4 (261-40501) 
LOCATION:Berufsbildende Schule - Wirtschaft, B121, Irminenfreihof 9, 54290 Trier
END:VEVENT
BEGIN:VEVENT
DTSTAMP:20260421T183444
DTSTART;TZID=Europe/Berlin:20260429T183000
DTEND;TZID=Europe/Berlin:20260429T200000
UID:261-40501-20260429T183000@VHSVOLKSHOCHSCHULE TRIER
DESCRIPTION:verschoben vom 28. auf 29.04.
SUMMARY:A1 Arabisch für Anfänger/innen mit Vorkenntnissen  Kalamuna , ab Lekt. 4 (261-40501) 
LOCATION:Berufsbildende Schule - Wirtschaft, B121, Irminenfreihof 9, 54290 Trier
END:VEVENT
BEGIN:VEVENT
DTSTAMP:20260421T183444
DTSTART;TZID=Europe/Berlin:20260505T190000
DTEND;TZID=Europe/Berlin:20260505T203000
UID:261-40501-20260505T190000@VHSVOLKSHOCHSCHULE TRIER
SUMMARY:A1 Arabisch für Anfänger/innen mit Vorkenntnissen  Kalamuna , ab Lekt. 4 (261-40501) 
LOCATION:Berufsbildende Schule - Wirtschaft, B121, Irminenfreihof 9, 54290 Trier
END:VEVENT
BEGIN:VEVENT
DTSTAMP:20260421T183444
DTSTART;TZID=Europe/Berlin:20260512T190000
DTEND;TZID=Europe/Berlin:20260512T203000
UID:261-40501-20260512T190000@VHSVOLKSHOCHSCHULE TRIER
SUMMARY:A1 Arabisch für Anfänger/innen mit Vorkenntnissen  Kalamuna , ab Lekt. 4 (261-40501) 
LOCATION:Berufsbildende Schule - Wirtschaft, B121, Irminenfreihof 9, 54290 Trier
END:VEVENT
BEGIN:VEVENT
DTSTAMP:20260421T183444
DTSTART;TZID=Europe/Berlin:20260519T190000
DTEND;TZID=Europe/Berlin:20260519T203000
UID:261-40501-20260519T190000@VHSVOLKSHOCHSCHULE TRIER
SUMMARY:A1 Arabisch für Anfänger/innen mit Vorkenntnissen  Kalamuna , ab Lekt. 4 (261-40501) 
LOCATION:Berufsbildende Schule - Wirtschaft, B121, Irminenfreihof 9, 54290 Trier
END:VEVENT
BEGIN:VEVENT
DTSTAMP:20260421T183444
DTSTART;TZID=Europe/Berlin:20260526T190000
DTEND;TZID=Europe/Berlin:20260526T203000
UID:261-40501-20260526T190000@VHSVOLKSHOCHSCHULE TRIER
SUMMARY:A1 Arabisch für Anfänger/innen mit Vorkenntnissen  Kalamuna , ab Lekt. 4 (261-40501) 
LOCATION:Berufsbildende Schule - Wirtschaft, B121, Irminenfreihof 9, 54290 Trier
END:VEVENT
BEGIN:VEVENT
DTSTAMP:20260421T183444
DTSTART;TZID=Europe/Berlin:20260602T190000
DTEND;TZID=Europe/Berlin:20260602T203000
UID:261-40501-20260602T190000@VHSVOLKSHOCHSCHULE TRIER
SUMMARY:A1 Arabisch für Anfänger/innen mit Vorkenntnissen  Kalamuna , ab Lekt. 4 (261-40501) 
LOCATION:Berufsbildende Schule - Wirtschaft, B121, Irminenfreihof 9, 54290 Trier
END:VEVENT
BEGIN:VEVENT
DTSTAMP:20260421T183444
DTSTART;TZID=Europe/Berlin:20260609T190000
DTEND;TZID=Europe/Berlin:20260609T203000
UID:261-40501-20260609T190000@VHSVOLKSHOCHSCHULE TRIER
SUMMARY:A1 Arabisch für Anfänger/innen mit Vorkenntnissen  Kalamuna , ab Lekt. 4 (261-40501) 
LOCATION:Berufsbildende Schule - Wirtschaft, B121, Irminenfreihof 9, 54290 Trier
END:VEVENT
END:VCALENDAR