BEGIN:VCALENDAR
VERSION:2.0
PRODID:http://www.kufer.de/kuferweb / DE
METHOD:PUBLISH
CALSCALE:GREGORIAN
X-WR-TIMEZONE:Europe/Berlin
BEGIN:VTIMEZONE
TZID:Europe/Berlin
X-LIC-LOCATION:Europe/Berlin
BEGIN:DAYLIGHT
TZOFFSETFROM:+0100
TZOFFSETTO:+0200
TZNAME:CEST
DTSTART;TZID=Europe/Berlin:19700329T020000
RRULE:FREQ=YEARLY;INTERVAL=1;BYDAY=-1SU;BYMONTH=3
END:DAYLIGHT
BEGIN:STANDARD
TZOFFSETFROM:+0200
TZOFFSETTO:+0100
TZNAME:CET
DTSTART;TZID=Europe/Berlin:19701025T030000
RRULE:FREQ=YEARLY;INTERVAL=1;BYDAY=-1SU;BYMONTH=10
END:STANDARD
END:VTIMEZONE
BEGIN:VEVENT
DTSTAMP:20260425T150031
DTSTART;TZID=Europe/Berlin:20260224T104000
DTEND;TZID=Europe/Berlin:20260224T121000
UID:261-40813-20260224T104000@VHSVOLKSHOCHSCHULE TRIER
SUMMARY:A1 Französisch  Chapeau ! A1, ab Lekt. 9 (261-40813) 
LOCATION:Domfreihof, R. 001, Domfreihof 1b, 54290 Trier
END:VEVENT
BEGIN:VEVENT
DTSTAMP:20260425T150031
DTSTART;TZID=Europe/Berlin:20260303T104000
DTEND;TZID=Europe/Berlin:20260303T121000
UID:261-40813-20260303T104000@VHSVOLKSHOCHSCHULE TRIER
SUMMARY:A1 Französisch  Chapeau ! A1, ab Lekt. 9 (261-40813) 
LOCATION:Domfreihof, R. 001, Domfreihof 1b, 54290 Trier
END:VEVENT
BEGIN:VEVENT
DTSTAMP:20260425T150031
DTSTART;TZID=Europe/Berlin:20260310T104000
DTEND;TZID=Europe/Berlin:20260310T121000
UID:261-40813-20260310T104000@VHSVOLKSHOCHSCHULE TRIER
SUMMARY:A1 Französisch  Chapeau ! A1, ab Lekt. 9 (261-40813) 
LOCATION:Domfreihof, R. 001, Domfreihof 1b, 54290 Trier
END:VEVENT
BEGIN:VEVENT
DTSTAMP:20260425T150031
DTSTART;TZID=Europe/Berlin:20260317T104000
DTEND;TZID=Europe/Berlin:20260317T121000
UID:261-40813-20260317T104000@VHSVOLKSHOCHSCHULE TRIER
SUMMARY:A1 Französisch  Chapeau ! A1, ab Lekt. 9 (261-40813) 
LOCATION:Domfreihof, R. 001, Domfreihof 1b, 54290 Trier
END:VEVENT
BEGIN:VEVENT
DTSTAMP:20260425T150031
DTSTART;TZID=Europe/Berlin:20260324T104000
DTEND;TZID=Europe/Berlin:20260324T121000
UID:261-40813-20260324T104000@VHSVOLKSHOCHSCHULE TRIER
SUMMARY:A1 Französisch  Chapeau ! A1, ab Lekt. 9 (261-40813) 
LOCATION:Domfreihof, R. 001, Domfreihof 1b, 54290 Trier
END:VEVENT
BEGIN:VEVENT
DTSTAMP:20260425T150031
DTSTART;TZID=Europe/Berlin:20260414T104000
DTEND;TZID=Europe/Berlin:20260414T121000
UID:261-40813-20260414T104000@VHSVOLKSHOCHSCHULE TRIER
SUMMARY:A1 Französisch  Chapeau ! A1, ab Lekt. 9 (261-40813) 
LOCATION:Domfreihof, R. 001, Domfreihof 1b, 54290 Trier
END:VEVENT
BEGIN:VEVENT
DTSTAMP:20260425T150031
DTSTART;TZID=Europe/Berlin:20260421T104000
DTEND;TZID=Europe/Berlin:20260421T121000
UID:261-40813-20260421T104000@VHSVOLKSHOCHSCHULE TRIER
SUMMARY:A1 Französisch  Chapeau ! A1, ab Lekt. 9 (261-40813) 
LOCATION:Domfreihof, R. 001, Domfreihof 1b, 54290 Trier
END:VEVENT
BEGIN:VEVENT
DTSTAMP:20260425T150031
DTSTART;TZID=Europe/Berlin:20260428T104000
DTEND;TZID=Europe/Berlin:20260428T121000
UID:261-40813-20260428T104000@VHSVOLKSHOCHSCHULE TRIER
SUMMARY:A1 Französisch  Chapeau ! A1, ab Lekt. 9 (261-40813) 
LOCATION:Domfreihof, R. 001, Domfreihof 1b, 54290 Trier
END:VEVENT
BEGIN:VEVENT
DTSTAMP:20260425T150031
DTSTART;TZID=Europe/Berlin:20260505T104000
DTEND;TZID=Europe/Berlin:20260505T121000
UID:261-40813-20260505T104000@VHSVOLKSHOCHSCHULE TRIER
SUMMARY:A1 Französisch  Chapeau ! A1, ab Lekt. 9 (261-40813) 
LOCATION:Domfreihof, R. 001, Domfreihof 1b, 54290 Trier
END:VEVENT
BEGIN:VEVENT
DTSTAMP:20260425T150031
DTSTART;TZID=Europe/Berlin:20260512T104000
DTEND;TZID=Europe/Berlin:20260512T121000
UID:261-40813-20260512T104000@VHSVOLKSHOCHSCHULE TRIER
SUMMARY:A1 Französisch  Chapeau ! A1, ab Lekt. 9 (261-40813) 
LOCATION:Domfreihof, R. 001, Domfreihof 1b, 54290 Trier
END:VEVENT
BEGIN:VEVENT
DTSTAMP:20260425T150031
DTSTART;TZID=Europe/Berlin:20260519T104000
DTEND;TZID=Europe/Berlin:20260519T121000
UID:261-40813-20260519T104000@VHSVOLKSHOCHSCHULE TRIER
SUMMARY:A1 Französisch  Chapeau ! A1, ab Lekt. 9 (261-40813) 
LOCATION:Domfreihof, R. 001, Domfreihof 1b, 54290 Trier
END:VEVENT
BEGIN:VEVENT
DTSTAMP:20260425T150031
DTSTART;TZID=Europe/Berlin:20260526T104000
DTEND;TZID=Europe/Berlin:20260526T121000
UID:261-40813-20260526T104000@VHSVOLKSHOCHSCHULE TRIER
SUMMARY:A1 Französisch  Chapeau ! A1, ab Lekt. 9 (261-40813) 
LOCATION:Domfreihof, R. 001, Domfreihof 1b, 54290 Trier
END:VEVENT
BEGIN:VEVENT
DTSTAMP:20260425T150031
DTSTART;TZID=Europe/Berlin:20260602T104000
DTEND;TZID=Europe/Berlin:20260602T121000
UID:261-40813-20260602T104000@VHSVOLKSHOCHSCHULE TRIER
SUMMARY:A1 Französisch  Chapeau ! A1, ab Lekt. 9 (261-40813) 
LOCATION:Domfreihof, R. 001, Domfreihof 1b, 54290 Trier
END:VEVENT
BEGIN:VEVENT
DTSTAMP:20260425T150031
DTSTART;TZID=Europe/Berlin:20260609T104000
DTEND;TZID=Europe/Berlin:20260609T121000
UID:261-40813-20260609T104000@VHSVOLKSHOCHSCHULE TRIER
SUMMARY:A1 Französisch  Chapeau ! A1, ab Lekt. 9 (261-40813) 
LOCATION:Domfreihof, R. 001, Domfreihof 1b, 54290 Trier
END:VEVENT
END:VCALENDAR