BEGIN:VCALENDAR
VERSION:2.0
PRODID:http://www.kufer.de/kuferweb / DE
METHOD:PUBLISH
CALSCALE:GREGORIAN
X-WR-TIMEZONE:Europe/Berlin
BEGIN:VTIMEZONE
TZID:Europe/Berlin
X-LIC-LOCATION:Europe/Berlin
BEGIN:DAYLIGHT
TZOFFSETFROM:+0100
TZOFFSETTO:+0200
TZNAME:CEST
DTSTART;TZID=Europe/Berlin:19700329T020000
RRULE:FREQ=YEARLY;INTERVAL=1;BYDAY=-1SU;BYMONTH=3
END:DAYLIGHT
BEGIN:STANDARD
TZOFFSETFROM:+0200
TZOFFSETTO:+0100
TZNAME:CET
DTSTART;TZID=Europe/Berlin:19701025T030000
RRULE:FREQ=YEARLY;INTERVAL=1;BYDAY=-1SU;BYMONTH=10
END:STANDARD
END:VTIMEZONE
BEGIN:VEVENT
DTSTAMP:20260424T030912
DTSTART;TZID=Europe/Berlin:20260226T090000
DTEND;TZID=Europe/Berlin:20260226T103000
UID:261-40919-20260226T090000@VHSVOLKSHOCHSCHULE TRIER
SUMMARY:A2 Italienisch  Dieci A2, ab Lekt. 10 (261-40919) 
LOCATION:Domfreihof, R. 001, Domfreihof 1b, 54290 Trier
END:VEVENT
BEGIN:VEVENT
DTSTAMP:20260424T030912
DTSTART;TZID=Europe/Berlin:20260305T090000
DTEND;TZID=Europe/Berlin:20260305T103000
UID:261-40919-20260305T090000@VHSVOLKSHOCHSCHULE TRIER
SUMMARY:A2 Italienisch  Dieci A2, ab Lekt. 10 (261-40919) 
LOCATION:Domfreihof, R. 001, Domfreihof 1b, 54290 Trier
END:VEVENT
BEGIN:VEVENT
DTSTAMP:20260424T030912
DTSTART;TZID=Europe/Berlin:20260312T090000
DTEND;TZID=Europe/Berlin:20260312T103000
UID:261-40919-20260312T090000@VHSVOLKSHOCHSCHULE TRIER
SUMMARY:A2 Italienisch  Dieci A2, ab Lekt. 10 (261-40919) 
LOCATION:Domfreihof, R. 001, Domfreihof 1b, 54290 Trier
END:VEVENT
BEGIN:VEVENT
DTSTAMP:20260424T030912
DTSTART;TZID=Europe/Berlin:20260319T090000
DTEND;TZID=Europe/Berlin:20260319T103000
UID:261-40919-20260319T090000@VHSVOLKSHOCHSCHULE TRIER
SUMMARY:A2 Italienisch  Dieci A2, ab Lekt. 10 (261-40919) 
LOCATION:Domfreihof, R. 001, Domfreihof 1b, 54290 Trier
END:VEVENT
BEGIN:VEVENT
DTSTAMP:20260424T030912
DTSTART;TZID=Europe/Berlin:20260326T090000
DTEND;TZID=Europe/Berlin:20260326T103000
UID:261-40919-20260326T090000@VHSVOLKSHOCHSCHULE TRIER
SUMMARY:A2 Italienisch  Dieci A2, ab Lekt. 10 (261-40919) 
LOCATION:Domfreihof, R. 001, Domfreihof 1b, 54290 Trier
END:VEVENT
BEGIN:VEVENT
DTSTAMP:20260424T030912
DTSTART;TZID=Europe/Berlin:20260416T090000
DTEND;TZID=Europe/Berlin:20260416T103000
UID:261-40919-20260416T090000@VHSVOLKSHOCHSCHULE TRIER
SUMMARY:A2 Italienisch  Dieci A2, ab Lekt. 10 (261-40919) 
LOCATION:Domfreihof, R. 001, Domfreihof 1b, 54290 Trier
END:VEVENT
BEGIN:VEVENT
DTSTAMP:20260424T030912
DTSTART;TZID=Europe/Berlin:20260423T090000
DTEND;TZID=Europe/Berlin:20260423T103000
UID:261-40919-20260423T090000@VHSVOLKSHOCHSCHULE TRIER
SUMMARY:A2 Italienisch  Dieci A2, ab Lekt. 10 (261-40919) 
LOCATION:Domfreihof, R. 001, Domfreihof 1b, 54290 Trier
END:VEVENT
BEGIN:VEVENT
DTSTAMP:20260424T030912
DTSTART;TZID=Europe/Berlin:20260430T090000
DTEND;TZID=Europe/Berlin:20260430T103000
UID:261-40919-20260430T090000@VHSVOLKSHOCHSCHULE TRIER
SUMMARY:A2 Italienisch  Dieci A2, ab Lekt. 10 (261-40919) 
LOCATION:Domfreihof, R. 001, Domfreihof 1b, 54290 Trier
END:VEVENT
BEGIN:VEVENT
DTSTAMP:20260424T030912
DTSTART;TZID=Europe/Berlin:20260507T090000
DTEND;TZID=Europe/Berlin:20260507T103000
UID:261-40919-20260507T090000@VHSVOLKSHOCHSCHULE TRIER
SUMMARY:A2 Italienisch  Dieci A2, ab Lekt. 10 (261-40919) 
LOCATION:Domfreihof, R. 001, Domfreihof 1b, 54290 Trier
END:VEVENT
BEGIN:VEVENT
DTSTAMP:20260424T030912
DTSTART;TZID=Europe/Berlin:20260521T090000
DTEND;TZID=Europe/Berlin:20260521T103000
UID:261-40919-20260521T090000@VHSVOLKSHOCHSCHULE TRIER
SUMMARY:A2 Italienisch  Dieci A2, ab Lekt. 10 (261-40919) 
LOCATION:Domfreihof, R. 001, Domfreihof 1b, 54290 Trier
END:VEVENT
BEGIN:VEVENT
DTSTAMP:20260424T030912
DTSTART;TZID=Europe/Berlin:20260528T090000
DTEND;TZID=Europe/Berlin:20260528T103000
UID:261-40919-20260528T090000@VHSVOLKSHOCHSCHULE TRIER
SUMMARY:A2 Italienisch  Dieci A2, ab Lekt. 10 (261-40919) 
LOCATION:Domfreihof, R. 001, Domfreihof 1b, 54290 Trier
END:VEVENT
BEGIN:VEVENT
DTSTAMP:20260424T030912
DTSTART;TZID=Europe/Berlin:20260611T090000
DTEND;TZID=Europe/Berlin:20260611T103000
UID:261-40919-20260611T090000@VHSVOLKSHOCHSCHULE TRIER
SUMMARY:A2 Italienisch  Dieci A2, ab Lekt. 10 (261-40919) 
LOCATION:Domfreihof, R. 001, Domfreihof 1b, 54290 Trier
END:VEVENT
BEGIN:VEVENT
DTSTAMP:20260424T030912
DTSTART;TZID=Europe/Berlin:20260618T090000
DTEND;TZID=Europe/Berlin:20260618T103000
UID:261-40919-20260618T090000@VHSVOLKSHOCHSCHULE TRIER
SUMMARY:A2 Italienisch  Dieci A2, ab Lekt. 10 (261-40919) 
LOCATION:Domfreihof, R. 001, Domfreihof 1b, 54290 Trier
END:VEVENT
END:VCALENDAR