BEGIN:VCALENDAR
VERSION:2.0
PRODID:http://www.kufer.de/kuferweb / DE
METHOD:PUBLISH
CALSCALE:GREGORIAN
X-WR-TIMEZONE:Europe/Berlin
BEGIN:VTIMEZONE
TZID:Europe/Berlin
X-LIC-LOCATION:Europe/Berlin
BEGIN:DAYLIGHT
TZOFFSETFROM:+0100
TZOFFSETTO:+0200
TZNAME:CEST
DTSTART;TZID=Europe/Berlin:19700329T020000
RRULE:FREQ=YEARLY;INTERVAL=1;BYDAY=-1SU;BYMONTH=3
END:DAYLIGHT
BEGIN:STANDARD
TZOFFSETFROM:+0200
TZOFFSETTO:+0100
TZNAME:CET
DTSTART;TZID=Europe/Berlin:19701025T030000
RRULE:FREQ=YEARLY;INTERVAL=1;BYDAY=-1SU;BYMONTH=10
END:STANDARD
END:VTIMEZONE
BEGIN:VEVENT
DTSTAMP:20260420T062459
DTSTART;TZID=Europe/Berlin:20260223T193000
DTEND;TZID=Europe/Berlin:20260223T210000
UID:261-42601-20260223T193000@VHSVOLKSHOCHSCHULE TRIER
SUMMARY:A1 Luxemburgisch für Anfänger/innen ohne Vorkenntnisse Alles an der Rei - Lëtzebuergesch fir de Beruff an den Alldag, ab Lekt. 1 (261-42601) 
LOCATION:Berufsbildende Schule - Wirtschaft, B9, Irminenfreihof 9, 54290 Trier
END:VEVENT
BEGIN:VEVENT
DTSTAMP:20260420T062459
DTSTART;TZID=Europe/Berlin:20260302T193000
DTEND;TZID=Europe/Berlin:20260302T210000
UID:261-42601-20260302T193000@VHSVOLKSHOCHSCHULE TRIER
SUMMARY:A1 Luxemburgisch für Anfänger/innen ohne Vorkenntnisse Alles an der Rei - Lëtzebuergesch fir de Beruff an den Alldag, ab Lekt. 1 (261-42601) 
LOCATION:Berufsbildende Schule - Wirtschaft, B9, Irminenfreihof 9, 54290 Trier
END:VEVENT
BEGIN:VEVENT
DTSTAMP:20260420T062459
DTSTART;TZID=Europe/Berlin:20260309T193000
DTEND;TZID=Europe/Berlin:20260309T210000
UID:261-42601-20260309T193000@VHSVOLKSHOCHSCHULE TRIER
SUMMARY:A1 Luxemburgisch für Anfänger/innen ohne Vorkenntnisse Alles an der Rei - Lëtzebuergesch fir de Beruff an den Alldag, ab Lekt. 1 (261-42601) 
LOCATION:Berufsbildende Schule - Wirtschaft, B9, Irminenfreihof 9, 54290 Trier
END:VEVENT
BEGIN:VEVENT
DTSTAMP:20260420T062459
DTSTART;TZID=Europe/Berlin:20260316T193000
DTEND;TZID=Europe/Berlin:20260316T210000
UID:261-42601-20260316T193000@VHSVOLKSHOCHSCHULE TRIER
SUMMARY:A1 Luxemburgisch für Anfänger/innen ohne Vorkenntnisse Alles an der Rei - Lëtzebuergesch fir de Beruff an den Alldag, ab Lekt. 1 (261-42601) 
LOCATION:Berufsbildende Schule - Wirtschaft, B9, Irminenfreihof 9, 54290 Trier
END:VEVENT
BEGIN:VEVENT
DTSTAMP:20260420T062459
DTSTART;TZID=Europe/Berlin:20260323T193000
DTEND;TZID=Europe/Berlin:20260323T210000
UID:261-42601-20260323T193000@VHSVOLKSHOCHSCHULE TRIER
SUMMARY:A1 Luxemburgisch für Anfänger/innen ohne Vorkenntnisse Alles an der Rei - Lëtzebuergesch fir de Beruff an den Alldag, ab Lekt. 1 (261-42601) 
LOCATION:Berufsbildende Schule - Wirtschaft, B9, Irminenfreihof 9, 54290 Trier
END:VEVENT
BEGIN:VEVENT
DTSTAMP:20260420T062459
DTSTART;TZID=Europe/Berlin:20260413T193000
DTEND;TZID=Europe/Berlin:20260413T210000
UID:261-42601-20260413T193000@VHSVOLKSHOCHSCHULE TRIER
SUMMARY:A1 Luxemburgisch für Anfänger/innen ohne Vorkenntnisse Alles an der Rei - Lëtzebuergesch fir de Beruff an den Alldag, ab Lekt. 1 (261-42601) 
LOCATION:Berufsbildende Schule - Wirtschaft, B9, Irminenfreihof 9, 54290 Trier
END:VEVENT
BEGIN:VEVENT
DTSTAMP:20260420T062459
DTSTART;TZID=Europe/Berlin:20260420T193000
DTEND;TZID=Europe/Berlin:20260420T210000
UID:261-42601-20260420T193000@VHSVOLKSHOCHSCHULE TRIER
SUMMARY:A1 Luxemburgisch für Anfänger/innen ohne Vorkenntnisse Alles an der Rei - Lëtzebuergesch fir de Beruff an den Alldag, ab Lekt. 1 (261-42601) 
LOCATION:Berufsbildende Schule - Wirtschaft, B9, Irminenfreihof 9, 54290 Trier
END:VEVENT
BEGIN:VEVENT
DTSTAMP:20260420T062459
DTSTART;TZID=Europe/Berlin:20260427T193000
DTEND;TZID=Europe/Berlin:20260427T210000
UID:261-42601-20260427T193000@VHSVOLKSHOCHSCHULE TRIER
SUMMARY:A1 Luxemburgisch für Anfänger/innen ohne Vorkenntnisse Alles an der Rei - Lëtzebuergesch fir de Beruff an den Alldag, ab Lekt. 1 (261-42601) 
LOCATION:Berufsbildende Schule - Wirtschaft, B9, Irminenfreihof 9, 54290 Trier
END:VEVENT
BEGIN:VEVENT
DTSTAMP:20260420T062459
DTSTART;TZID=Europe/Berlin:20260504T193000
DTEND;TZID=Europe/Berlin:20260504T210000
UID:261-42601-20260504T193000@VHSVOLKSHOCHSCHULE TRIER
SUMMARY:A1 Luxemburgisch für Anfänger/innen ohne Vorkenntnisse Alles an der Rei - Lëtzebuergesch fir de Beruff an den Alldag, ab Lekt. 1 (261-42601) 
LOCATION:Berufsbildende Schule - Wirtschaft, B9, Irminenfreihof 9, 54290 Trier
END:VEVENT
BEGIN:VEVENT
DTSTAMP:20260420T062459
DTSTART;TZID=Europe/Berlin:20260511T193000
DTEND;TZID=Europe/Berlin:20260511T210000
UID:261-42601-20260511T193000@VHSVOLKSHOCHSCHULE TRIER
SUMMARY:A1 Luxemburgisch für Anfänger/innen ohne Vorkenntnisse Alles an der Rei - Lëtzebuergesch fir de Beruff an den Alldag, ab Lekt. 1 (261-42601) 
LOCATION:Berufsbildende Schule - Wirtschaft, B9, Irminenfreihof 9, 54290 Trier
END:VEVENT
BEGIN:VEVENT
DTSTAMP:20260420T062459
DTSTART;TZID=Europe/Berlin:20260518T193000
DTEND;TZID=Europe/Berlin:20260518T210000
UID:261-42601-20260518T193000@VHSVOLKSHOCHSCHULE TRIER
SUMMARY:A1 Luxemburgisch für Anfänger/innen ohne Vorkenntnisse Alles an der Rei - Lëtzebuergesch fir de Beruff an den Alldag, ab Lekt. 1 (261-42601) 
LOCATION:Berufsbildende Schule - Wirtschaft, B9, Irminenfreihof 9, 54290 Trier
END:VEVENT
BEGIN:VEVENT
DTSTAMP:20260420T062459
DTSTART;TZID=Europe/Berlin:20260601T193000
DTEND;TZID=Europe/Berlin:20260601T210000
UID:261-42601-20260601T193000@VHSVOLKSHOCHSCHULE TRIER
SUMMARY:A1 Luxemburgisch für Anfänger/innen ohne Vorkenntnisse Alles an der Rei - Lëtzebuergesch fir de Beruff an den Alldag, ab Lekt. 1 (261-42601) 
LOCATION:Berufsbildende Schule - Wirtschaft, B9, Irminenfreihof 9, 54290 Trier
END:VEVENT
BEGIN:VEVENT
DTSTAMP:20260420T062459
DTSTART;TZID=Europe/Berlin:20260608T193000
DTEND;TZID=Europe/Berlin:20260608T210000
UID:261-42601-20260608T193000@VHSVOLKSHOCHSCHULE TRIER
SUMMARY:A1 Luxemburgisch für Anfänger/innen ohne Vorkenntnisse Alles an der Rei - Lëtzebuergesch fir de Beruff an den Alldag, ab Lekt. 1 (261-42601) 
LOCATION:Berufsbildende Schule - Wirtschaft, B9, Irminenfreihof 9, 54290 Trier
END:VEVENT
BEGIN:VEVENT
DTSTAMP:20260420T062459
DTSTART;TZID=Europe/Berlin:20260615T193000
DTEND;TZID=Europe/Berlin:20260615T210000
UID:261-42601-20260615T193000@VHSVOLKSHOCHSCHULE TRIER
SUMMARY:A1 Luxemburgisch für Anfänger/innen ohne Vorkenntnisse Alles an der Rei - Lëtzebuergesch fir de Beruff an den Alldag, ab Lekt. 1 (261-42601) 
LOCATION:Berufsbildende Schule - Wirtschaft, B9, Irminenfreihof 9, 54290 Trier
END:VEVENT
BEGIN:VEVENT
DTSTAMP:20260420T062459
DTSTART;TZID=Europe/Berlin:20260622T193000
DTEND;TZID=Europe/Berlin:20260622T210000
UID:261-42601-20260622T193000@VHSVOLKSHOCHSCHULE TRIER
DESCRIPTION:Ausfall vom 16.03.2026
SUMMARY:A1 Luxemburgisch für Anfänger/innen ohne Vorkenntnisse Alles an der Rei - Lëtzebuergesch fir de Beruff an den Alldag, ab Lekt. 1 (261-42601) 
LOCATION:Berufsbildende Schule - Wirtschaft, B9, Irminenfreihof 9, 54290 Trier
END:VEVENT
END:VCALENDAR