BEGIN:VCALENDAR
VERSION:2.0
PRODID:http://www.kufer.de/kuferweb / DE
METHOD:PUBLISH
CALSCALE:GREGORIAN
X-WR-TIMEZONE:Europe/Berlin
BEGIN:VTIMEZONE
TZID:Europe/Berlin
X-LIC-LOCATION:Europe/Berlin
BEGIN:DAYLIGHT
TZOFFSETFROM:+0100
TZOFFSETTO:+0200
TZNAME:CEST
DTSTART;TZID=Europe/Berlin:19700329T020000
RRULE:FREQ=YEARLY;INTERVAL=1;BYDAY=-1SU;BYMONTH=3
END:DAYLIGHT
BEGIN:STANDARD
TZOFFSETFROM:+0200
TZOFFSETTO:+0100
TZNAME:CET
DTSTART;TZID=Europe/Berlin:19701025T030000
RRULE:FREQ=YEARLY;INTERVAL=1;BYDAY=-1SU;BYMONTH=10
END:STANDARD
END:VTIMEZONE
BEGIN:VEVENT
DTSTAMP:20260420T161640
DTSTART;TZID=Europe/Berlin:20260424T183000
DTEND;TZID=Europe/Berlin:20260424T213000
UID:261-50197-20260424T183000@VHSVOLKSHOCHSCHULE TRIER
SUMMARY:Adobe Photoshop Lightroom - Wochenendkurs (261-50197) 
LOCATION:Domfreihof, R. 106, Domfreihof 1b, 54290 Trier
END:VEVENT
BEGIN:VEVENT
DTSTAMP:20260420T161640
DTSTART;TZID=Europe/Berlin:20260425T090000
DTEND;TZID=Europe/Berlin:20260425T160000
UID:261-50197-20260425T090000@VHSVOLKSHOCHSCHULE TRIER
SUMMARY:Adobe Photoshop Lightroom - Wochenendkurs (261-50197) 
LOCATION:Domfreihof, R. 106, Domfreihof 1b, 54290 Trier
END:VEVENT
END:VCALENDAR